{"text_format":"1","workbook":"xlsx","n_sheets":30,"sheets":["Target","Gradation","CW Average","Project Summary","Quantity","CW Time","1\"","3|4\"","1|2\"","3|8\"","#4","#8","#16","#30","#50","#100","#200","Air","Air1","Air2","Air3","Air4","Air5","Unit1","Unit2","Moisture and WC","Moisture","WC","Vibrators","Mix Changes"],"not_rendered":{"charts":44,"images":0,"macros":1,"external_links":0,"defined_names":10,"comments":0,"pivot_tables":0},"unopened":[{"sheet":"CW Average","index":2,"reason":"not_a_worksheet"},{"sheet":"CW Time","index":5,"reason":"not_a_worksheet"},{"sheet":"1\"","index":6,"reason":"not_a_worksheet"},{"sheet":"3|4\"","index":7,"reason":"not_a_worksheet"},{"sheet":"1|2\"","index":8,"reason":"not_a_worksheet"},{"sheet":"3|8\"","index":9,"reason":"not_a_worksheet"},{"sheet":"#4","index":10,"reason":"not_a_worksheet"},{"sheet":"#8","index":11,"reason":"not_a_worksheet"},{"sheet":"#16","index":12,"reason":"not_a_worksheet"},{"sheet":"#30","index":13,"reason":"not_a_worksheet"},{"sheet":"#50","index":14,"reason":"not_a_worksheet"},{"sheet":"#100","index":15,"reason":"not_a_worksheet"},{"sheet":"#200","index":16,"reason":"not_a_worksheet"},{"sheet":"Air1","index":18,"reason":"not_a_worksheet"},{"sheet":"Air2","index":19,"reason":"not_a_worksheet"},{"sheet":"Air3","index":20,"reason":"not_a_worksheet"},{"sheet":"Air4","index":21,"reason":"not_a_worksheet"},{"sheet":"Air5","index":22,"reason":"not_a_worksheet"},{"sheet":"Unit1","index":23,"reason":"not_a_worksheet"},{"sheet":"Unit2","index":24,"reason":"not_a_worksheet"},{"sheet":"Moisture","index":26,"reason":"not_a_worksheet"},{"sheet":"WC","index":27,"reason":"not_a_worksheet"}],"bounds":{"document_bytes":16777216,"sheet_cells":100000,"rows_first":2000,"rows_last":500,"rows_between":2000,"halvings":0,"cell_chars":16384,"cell_head_chars":4096},"cells_cut":0,"cells_raw":0,"read":"whole","date_system":"1900"}

{"sheet":"Target","index":0,"n_rows":40,"n_cols":159,"rows_kept":40,"cut":false,"hidden":false,"merged":[[4,3,4,4],[3,1,3,2],[2,1,2,3]]}
["Mix ID: "]
["Total Cementitious Material (IN LBS)",null,null,"Update 1/1/24 CDB",null,null,null,null,null,null,null,null,null,null,null,null,null,null,null,null,null,null,null,null,null,null,null,null,null,null,null,null,null,null,null,null,null,null,null,null,null,null,null,null,null,null,null,null,null,null,null,null,null,null,null,null,null,null,null,null,null,null,null,null,null,null,null,null,null,null,null,null,null,null,null,null,true,null,null,null,null,null,null,null,null,null,null,null,null,null,null,null,null,null,null,null,null,null,null,null,null,null,null,null,null,null,null,null,null,null,null,null,null,null,null,null,null,null,null,null,null,null,null,null,null,null,null,null,null,null,null,null,null,null,null,null,null,null,null,null,null,null,null,null,null,null,null,null,null,null,null,null,null,null,null,null,36,45]
["PROJECT NO:",null,null,null,null,null,null,null,null,null,null,null,null,null,null,null,null,null,null,null,null,null,null,null,null,null,null,null,null,null,null,null,null,null,null,null,null,null,null,null,null,null,null,null,null,null,null,null,null,null,null,null,null,null,null,null,null,null,null,null,null,null,null,null,null,null,null,null,null,null,null,null,null,null,null,null,true,null,null,null,null,null,null,null,null,null,null,null,null,null,null,null,null,null,null,null,null,null,null,null,null,null,null,null,null,null,null,null,null,null,null,null,null,null,null,null,null,null,null,null,null,null,null,null,null,null,null,null,null,null,null,null,null,null,null,null,null,null,null,null,null,null,null,null,null,null,null,null,null,null,null,null,null,null,null,null,100,36]
["CONTRACTOR",null,null,null,null,null,null,null,null,null,null,null,null,null,null,null,null,null,null,null,null,null,null,null,null,null,null,null,null,null,null,null,null,null,null,null,null,null,null,null,null,null,null,null,null,null,null,null,null,null,null,null,null,null,null,null,null,null,null,null,null,null,null,null,null,null,null,null,null,null,null,null,null,null,null,null,false,null,null,null,null,null,null,null,null,null,null,null,null,null,null,null,null,null,null,null,null,null,null,null,null,null,null,null,null,null,null,null,null,null,null,null,null,null,null,null,null,null,null,null,null,null,null,null,null,null,null,null,null,null,null,null,null,null,null,null,null,null,null,null,null,null,null,null,null,null,null,null,null,null,null,null,null,null,null,null,45,38.6]
["Combined Target Gradation",null,null,"Limits",null,null,null,null,null,null,null,null,null,null,null,null,null,null,null,null,null,null,null,null,null,null,null,null,null,null,null,null,null,null,null,null,null,null,null,null,null,null,null,null,null,null,null,null,null,null,null,null,null,null,null,null,null,null,null,null,null,null,null,null,null,null,null,null,null,null,null,null,null,null,null,null,false,null,null,null,null,null,null,null,null,null,null,null,null,null,null,null,null,null,null,null,null,null,null,null,null,null,null,null,null,null,null,null,null,null,null,null,null,null,null,null,null,null,null,null,null,null,null,null,null,null,null,null,null,null,null,null,null,null,null,null,null,null,null,null,null,null,null,null,null,null,null,null,null,null,null,null,null,null,null,null,72,34.805]
["Sieve","Target","Tolerance","(+)","(-)",null,null,null,null,null,null,null,null,null,null,null,null,null,null,null,null,null,null,null,null,null,null,null,null,null,null,null,null,null,null,null,null,null,null,null,null,null,null,null,null,null,null,null,null,null,null,null,null,null,null,null,null,null,null,null,null,null,null,null,null,null,null,null,null,null,null,null,null,null,null,null,false,null,null,null,null,null,null,null,null,null,null,null,null,null,null,null,null,null,null,null,null,null,null,null,null,null,null,null,null,null,null,null,null,null,null,null,null,null,null,null,null,null,null,null,null,null,null,null,null,null,null,null,null,null,null,null,null,null,null,null,null,null,null,null,null,null,null,null,null,null,null,null,null,null,null,null,null,null,null,null,45,37.1]
["1 1/2\"",100,5,"n/a","n/a",null,null,null,null,null,null,null,null,null,null,null,null,null,null,null,null,null,null,null,null,null,null,null,null,null,null,null,null,null,null,null,null,null,null,null,null,null,null,null,null,null,null,null,null,null,null,null,null,null,null,null,null,null,null,null,null,null,null,null,null,null,null,null,null,null,null,null,null,null,null,null,false,null,null,null,null,null,null,null,null,null,null,null,null,null,null,null,null,null,null,null,null,null,null,null,null,null,null,null,null,null,null,null,null,null,null,null,null,null,null,null,null,null,null,null,null,null,null,null,null,null,null,null,null,null,null,null,null,null,null,null,null,null,null,null,null,null,null,null,null,null,null,null,null,null,null,null,null,null,null,null,72,33.305]
["1\"",null,5,{"$f":"IF(B8=\"\",\"\",IF(B8+C8>100,100,B8+C8))","v":""},{"$f":"IF((B8-C8)>0,(B8-C8),0)","v":0},null,null,null,null,null,null,null,null,null,null,null,null,null,null,null,null,null,null,null,null,null,null,null,null,null,null,null,null,null,null,null,null,null,null,null,null,null,null,null,null,null,null,null,null,null,null,null,null,null,null,null,null,null,null,null,null,null,null,null,null,null,null,null,null,null,null,null,null,null,null,null,false,null,null,null,null,null,null,null,null,null,null,null,null,null,null,null,null,null,null,null,null,null,null,null,null,null,null,null,null,null,null,null,null,null,null,null,null,null,null,null,null,null,null,null,null,null,null,null,null,null,null,null,null,null,null,null,null,null,null,null,null,null,null,null,null,null,null,null,null,null,null,null,null,null,null,null,null,null,null,null,45,34.9]
["3/4\"",null,5,{"$f":"IF(B9=\"\",\"\",IF(B9+C9>100,100,B9+C9))","v":""},0,null,null,null,null,null,null,null,null,null,null,null,null,null,null,null,null,null,null,null,null,null,null,null,null,null,null,null,null,null,null,null,null,null,null,null,null,null,null,null,null,null,null,null,null,null,null,null,null,null,null,null,null,null,null,null,null,null,null,null,null,null,null,null,null,null,null,null,null,null,null,null,false,null,null,null,null,null,null,null,null,null,null,null,null,null,null,null,null,null,null,null,null,null,null,null,null,null,null,null,null,null,null,null,null,null,null,null,null,null,null,null,null,null,null,null,null,null,null,null,null,null,null,null,null,null,null,null,null,null,null,null,null,null,null,null,null,null,null,null,null,null,null,null,null,null,null,null,null,null,null,null,72,31.105]
["1/2\"",null,5,{"$f":"IF(B10=\"\",\"\",IF(B10+C10>100,\"100\",B10+C10))","v":""},0,null,null,null,null,null,null,null,null,null,null,null,null,null,null,null,null,null,null,null,null,null,null,null,null,null,null,null,null,null,null,null,null,null,null,null,null,null,null,null,null,null,null,null,null,null,null,null,null,null,null,null,null,null,null,null,null,null,null,null,null,null,null,null,null,null,null,null,null,null,null,null,false,null,null,null,null,null,null,null,null,null,null,null,null,null,null,null,null,null,null,null,null,null,null,null,null,null,null,null,null,null,null,null,null,null,null,null,null,null,null,null,null,null,null,null,null,null,null,null,null,null,null,null,null,null,null,null,null,null,null,null,null,null,null,null,null,null,null,null,null,null,null,null,null,null,null,null,null,null,null,null,45,33.6]
["3/8\"",null,5,"",0,null,null,null,null,null,null,null,null,null,null,null,null,null,null,null,null,null,null,null,null,null,null,null,null,null,null,null,null,null,null,null,null,null,null,null,null,null,null,null,null,null,null,null,null,null,null,null,null,null,null,null,null,null,null,null,null,null,null,null,null,null,null,null,null,null,null,null,null,null,null,null,false,null,null,null,null,null,null,null,null,null,null,null,null,null,null,null,null,null,null,null,null,null,null,null,null,null,null,null,null,null,null,null,null,null,null,null,null,null,null,null,null,null,null,null,null,null,null,null,null,null,null,null,null,null,null,null,null,null,null,null,null,null,null,null,null,null,null,null,null,null,null,null,null,null,null,null,null,null,null,null,72,29.805]
["#4",null,5,"",0,null,null,null,null,null,null,null,null,null,null,null,null,null,null,null,null,null,null,null,null,null,null,null,null,null,null,null,null,null,null,null,null,null,null,null,null,null,null,null,null,null,null,null,null,null,null,null,null,null,null,null,null,null,null,null,null,null,null,null,null,null,null,null,null,null,null,null,null,null,null,null,false,null,null,null,null,null,null,null,null,null,null,null,null,null,null,null,null,null,null,null,null,null,null,null,null,null,null,null,null,null,null,null,null,null,null,null,null,null,null,null,null,null,null,null,null,null,null,null,null,null,null,null,null,null,null,null,null,null,null,null,null,null,null,null,null,null,null,null,null,null,null,null,null,null,null,null,null,null,null,null,0,37.1,{"$f":"FB12-2","v":35.1}]
["#8",null,4,"",0,null,null,null,null,null,null,null,null,null,null,null,null,null,null,null,null,null,null,null,null,null,null,null,null,null,null,null,null,null,null,null,null,null,null,null,null,null,null,null,null,null,null,null,null,null,null,null,null,null,null,null,null,null,null,null,null,null,null,null,null,null,null,null,null,null,null,null,null,null,null,null,false,null,null,null,null,null,null,null,null,null,null,null,null,null,null,null,null,null,null,null,null,null,null,null,null,null,null,null,null,null,null,null,null,null,null,null,null,null,null,null,null,null,null,null,null,null,null,null,null,null,null,null,null,null,null,null,null,null,null,null,null,null,null,null,null,null,null,null,null,null,null,null,null,null,null,null,null,null,null,null,10,37.1,35.1]
["#16",null,4,"",0,null,null,null,null,null,null,null,null,null,null,null,null,null,null,null,null,null,null,null,null,null,null,null,null,null,null,null,null,null,null,null,null,null,null,null,null,null,null,null,null,null,null,null,null,null,null,null,null,null,null,null,null,null,null,null,null,null,null,null,null,null,null,null,null,null,null,null,null,null,null,null,false,null,null,null,null,null,null,null,null,null,null,null,null,null,null,null,null,null,null,null,null,null,null,null,null,null,null,null,null,null,null,null,null,null,null,null,null,null,null,null,null,null,null,null,null,null,null,null,null,null,null,null,null,null,null,null,null,null,null,null,null,null,null,null,null,null,null,null,null,null,null,null,null,null,null,null,null,null,null,null,20,36.5,34.5]
["#30",null,4,"",0,null,null,null,null,null,null,null,null,null,null,null,null,null,null,null,null,null,null,null,null,null,null,null,null,null,null,null,null,null,null,null,null,null,null,null,null,null,null,null,null,null,null,null,null,null,null,null,null,null,null,null,null,null,null,null,null,null,null,null,null,null,null,null,null,null,null,null,null,null,null,null,false,null,null,null,null,null,null,null,null,null,null,null,null,null,null,null,null,null,null,null,null,null,null,null,null,null,null,null,null,null,null,null,null,null,null,null,null,null,null,null,null,null,null,null,null,null,null,null,null,null,null,null,null,null,null,null,null,null,null,null,null,null,null,null,null,null,null,null,null,null,null,null,null,null,null,null,null,null,null,null,30,34.950000000000003,32.950000000000003]
["#50",null,3,"",0,null,null,null,null,null,null,null,null,null,null,null,null,null,null,null,null,null,null,null,null,null,null,null,null,null,null,null,null,null,null,null,null,null,null,null,null,null,null,null,null,null,null,null,null,null,null,null,null,null,null,null,null,null,null,null,null,null,null,null,null,null,null,null,null,null,null,null,null,null,null,null,false,null,null,null,null,null,null,null,null,null,null,null,null,null,null,null,null,null,null,null,null,null,null,null,null,null,null,null,null,null,null,null,null,null,null,null,null,null,null,null,null,null,null,null,null,null,null,null,null,null,null,null,null,null,null,null,null,null,null,null,null,null,null,null,null,null,null,null,null,null,null,null,null,null,null,null,null,null,null,null,75,28.65,26.65]
["#100",null,2,"",0,null,null,null,null,null,null,null,null,null,null,null,null,null,null,null,null,null,null,null,null,null,null,null,null,null,null,null,null,null,null,null,null,null,null,null,null,null,null,null,null,null,null,null,null,null,null,null,null,null,null,null,null,null,null,null,null,null,null,null,null,null,null,null,null,null,null,null,null,null,null,null,false,null,null,null,null,null,null,null,null,null,null,null,null,null,null,null,null,null,null,null,null,null,null,null,null,null,null,null,null,null,null,null,null,null,null,null,null,null,null,null,null,null,null,null,null,null,null,null,null,null,null,null,null,null,null,null,null,null,null,null,null,null,null,null,null,null,null,null,null,null,null,null,null,null,null,null,null,null,null,null,81.349999999999994,27.43,25.43]
["#200",2,"Max ",{"$f":"B18","v":2},0,null,null,null,null,null,null,null,null,null,null,null,null,null,null,null,null,null,null,null,null,null,null,null,null,null,null,null,null,null,null,null,null,null,null,null,null,null,null,null,null,null,null,null,null,null,null,null,null,null,null,null,null,null,null,null,null,null,null,null,null,null,null,null,null,null,null,null,null,null,null,null,false,null,null,null,null,null,null,null,null,null,null,null,null,null,null,null,null,null,null,null,null,null,null,null,null,null,null,null,null,null,null,null,null,null,null,null,null,null,null,null,null,null,null,null,null,null,null,null,null,null,null,null,null,null,null,null,null,null,null,null,null,null,null,null,null,null,null,null,null,null,null,null,null,null,null,null,null,null,null,null,90,27,25]
[null,null,null,null,null,null,null,null,null,null,null,null,null,null,null,null,null,null,null,null,null,null,null,null,null,null,null,null,null,null,null,null,null,null,null,null,null,null,null,null,null,null,null,null,null,null,null,null,null,null,null,null,null,null,null,null,null,null,null,null,null,null,null,null,null,null,null,null,null,null,null,null,null,null,null,null,false,null,null,null,null,null,null,null,null,null,null,null,null,null,null,null,null,null,null,null,null,null,null,null,null,null,null,null,null,null,null,null,null,null,null,null,null,null,null,null,null,null,null,null,null,null,null,null,null,null,null,null,null,null,null,null,null,null,null,null,null,null,null,null,null,null,null,null,null,null,null,null,null,null,null,null,null,null,null,null,100,27,25]
["1\"",{"$f":"$D$8","v":""},null,null,null,null,null,null,null,null,null,null,null,null,null,null,null,null,null,null,null,null,null,null,null,null,null,null,null,null,null,null,null,null,null,null,null,null,null,null,null,null,null,null,null,null,null,null,null,null,null,null,null,null,null,null,null,null,null,null,null,null,null,null,null,null,null,null,null,null,null,null,null,null,null,null,null,null,null,null,null,null,null,null,null,null,null,null,null,null,null,null,null,null,null,null,null,null,null,null,null,null,null,null,null,null,null,null,null,null,null,null,null,null,null,null,null,null,null,null,null,null,null,null,null,null,null,null,null,null,null,null,null,null,null,null,null,null,null,null,null,null,null,null,null,null,null,null,null,null,null,null,{"$f":"$D$8","v":""},null,null,null,45,40.31]
[null,{"$f":"$E$8","v":0},null,null,null,null,null,null,null,null,null,null,null,null,null,null,null,null,null,null,null,null,null,null,null,null,null,null,null,null,null,null,null,null,null,null,null,null,null,null,null,null,null,null,null,null,null,null,null,null,null,null,null,null,null,null,null,null,null,null,null,null,null,null,null,null,null,null,null,null,null,null,null,null,null,null,null,null,null,null,null,null,null,null,null,null,null,null,null,null,null,null,null,null,null,null,null,null,null,null,null,null,null,null,null,null,null,null,null,null,null,null,null,null,null,null,null,null,null,null,null,null,null,null,null,null,null,null,null,null,null,null,null,null,null,null,null,null,null,null,null,null,null,null,null,null,null,null,null,null,null,null,{"$f":"$E$8","v":0},null,null,null,72,36.515000000000001]
["3/4\"",{"$f":"$D$9","v":""},null,null,null,null,null,null,null,null,null,null,null,null,null,null,null,null,null,null,null,null,null,null,null,null,null,null,null,null,null,null,null,null,null,null,null,null,null,null,null,null,null,null,null,null,null,null,null,null,null,null,null,null,null,null,null,null,null,null,null,null,null,null,null,null,null,null,null,null,null,null,null,null,null,null,null,null,null,null,null,null,null,null,null,null,null,null,null,null,null,null,null,null,null,null,null,null,null,null,null,null,null,null,null,null,null,null,null,null,null,null,null,null,null,null,null,null,null,null,null,null,null,null,null,null,null,null,null,null,null,null,null,null,null,null,null,null,null,null,null,null,null,null,null,null,null,null,null,null,null,null,{"$f":"$D$9","v":""},null,null,null,45,42.02]
[null,{"$f":"$E$9","v":0},null,null,null,null,null,null,null,null,null,null,null,null,null,null,null,null,null,null,null,null,null,null,null,null,null,null,null,null,null,null,null,null,null,null,null,null,null,null,null,null,null,null,null,null,null,null,null,null,null,null,null,null,null,null,null,null,null,null,null,null,null,null,null,null,null,null,null,null,null,null,null,null,null,null,null,null,null,null,null,null,null,null,null,null,null,null,null,null,null,null,null,null,null,null,null,null,null,null,null,null,null,null,null,null,null,null,null,null,null,null,null,null,null,null,null,null,null,null,null,null,null,null,null,null,null,null,null,null,null,null,null,null,null,null,null,null,null,null,null,null,null,null,null,null,null,null,null,null,null,null,{"$f":"$E$9","v":0},null,null,null,72,38.225000000000001]
["1/2\"",{"$f":"$D$10","v":""},null,null,null,null,null,null,null,null,null,null,null,null,null,null,null,null,null,null,null,null,null,null,null,null,null,null,null,null,null,null,null,null,null,null,null,null,null,null,null,null,null,null,null,null,null,null,null,null,null,null,null,null,null,null,null,null,null,null,null,null,null,null,null,null,null,null,null,null,null,null,null,null,null,null,null,null,null,null,null,null,null,null,null,null,null,null,null,null,null,null,null,null,null,null,null,null,null,null,null,null,null,null,null,null,null,null,null,null,null,null,null,null,null,null,null,null,null,null,null,null,null,null,null,null,null,null,null,null,null,null,null,null,null,null,null,null,null,null,null,null,null,null,null,null,null,null,null,null,null,null,{"$f":"$D$10","v":""},null,null,null,72,29.8]
[null,{"$f":"$E$10","v":0},null,null,null,null,null,null,null,null,null,null,null,null,null,null,null,null,null,null,null,null,null,null,null,null,null,null,null,null,null,null,null,null,null,null,null,null,null,null,null,null,null,null,null,null,null,null,null,null,null,null,null,null,null,null,null,null,null,null,null,null,null,null,null,null,null,null,null,null,null,null,null,null,null,null,null,null,null,null,null,null,null,null,null,null,null,null,null,null,null,null,null,null,null,null,null,null,null,null,null,null,null,null,null,null,null,null,null,null,null,null,null,null,null,null,null,null,null,null,null,null,null,null,null,null,null,null,null,null,null,null,null,null,null,null,null,null,null,null,null,null,null,null,null,null,null,null,null,null,null,null,{"$f":"$E$10","v":0},null,null,null,72,39.93]
["3/8\"",{"$f":"$D$11","v":""},null,null,null,null,null,null,null,null,null,null,null,null,null,null,null,null,null,null,null,null,null,null,null,null,null,null,null,null,null,null,null,null,null,null,null,null,null,null,null,null,null,null,null,null,null,null,null,null,null,null,null,null,null,null,null,null,null,null,null,null,null,null,null,null,null,null,null,null,null,null,null,null,null,null,null,null,null,null,null,null,null,null,null,null,null,null,null,null,null,null,null,null,null,null,null,null,null,null,null,null,null,null,null,null,null,null,null,null,null,null,null,null,null,null,null,null,null,null,null,null,null,null,null,null,null,null,null,null,null,null,null,null,null,null,null,null,null,null,null,null,null,null,null,null,null,null,null,null,null,null,{"$f":"$D$11","v":""},null,null,null,75,28.15]
[null,{"$f":"$E$11","v":0},null,null,null,null,null,null,null,null,null,null,null,null,null,null,null,null,null,null,null,null,null,null,null,null,null,null,null,null,null,null,null,null,null,null,null,null,null,null,null,null,null,null,null,null,null,null,null,null,null,null,null,null,null,null,null,null,null,null,null,null,null,null,null,null,null,null,null,null,null,null,null,null,null,null,null,null,null,null,null,null,null,null,null,null,null,null,null,null,null,null,null,null,null,null,null,null,null,null,null,null,null,null,null,null,null,null,null,null,null,null,null,null,null,null,null,null,null,null,null,null,null,null,null,null,null,null,null,null,null,null,null,null,null,null,null,null,null,null,null,null,null,null,null,null,null,null,null,null,null,null,{"$f":"$E$11","v":0},null,null,null,75,39.51]
["#4",{"$f":"$D$12","v":""},null,null,null,null,null,null,null,null,null,null,null,null,null,null,null,null,null,null,null,null,null,null,null,null,null,null,null,null,null,null,null,null,null,null,null,null,null,null,null,null,null,null,null,null,null,null,null,null,null,null,null,null,null,null,null,null,null,null,null,null,null,null,null,null,null,null,null,null,null,null,null,null,null,null,null,null,null,null,null,null,null,null,null,null,null,null,null,null,null,null,null,null,null,null,null,null,null,null,null,null,null,null,null,null,null,null,null,null,null,null,null,null,null,null,null,null,null,null,null,null,null,null,null,null,null,null,null,null,null,null,null,null,null,null,null,null,null,null,null,null,null,null,null,null,null,null,null,null,null,null,{"$f":"$D$12","v":""},null,null,null,45,{"$f":"FA28*-0.140625+50.06","v":43.731875000000002}]
[null,{"$f":"$E$12","v":0},null,null,null,null,null,null,null,null,null,null,null,null,null,null,null,null,null,null,null,null,null,null,null,null,null,null,null,null,null,null,null,null,null,null,null,null,null,null,null,null,null,null,null,null,null,null,null,null,null,null,null,null,null,null,null,null,null,null,null,null,null,null,null,null,null,null,null,null,null,null,null,null,null,null,null,null,null,null,null,null,null,null,null,null,null,null,null,null,null,null,null,null,null,null,null,null,null,null,null,null,null,null,null,null,null,null,null,null,null,null,null,null,null,null,null,null,null,null,null,null,null,null,null,null,null,null,null,null,null,null,null,null,null,null,null,null,null,null,null,null,null,null,null,null,null,null,null,null,null,null,{"$f":"$E$12","v":0},null,null,null,45,32.5]
["#8",{"$f":"$D$13","v":""},null,null,null,null,null,null,null,null,null,null,null,null,null,null,null,null,null,null,null,null,null,null,null,null,null,null,null,null,null,null,null,null,null,null,null,null,null,null,null,null,null,null,null,null,null,null,null,null,null,null,null,null,null,null,null,null,null,null,null,null,null,null,null,null,null,null,null,null,null,null,null,null,null,null,null,null,null,null,null,null,null,null,null,null,null,null,null,null,null,null,null,null,null,null,null,null,null,null,null,null,null,null,null,null,null,null,null,null,null,null,null,null,null,null,null,null,null,null,null,null,null,null,null,null,null,null,null,null,null,null,null,null,null,null,null,null,null,null,null,null,null,null,null,null,null,null,null,null,null,null,{"$f":"$D$13","v":""},null,null,null,30,34.5]
[null,{"$f":"$E$13","v":0},null,null,null,null,null,null,null,null,null,null,null,null,null,null,null,null,null,null,null,null,null,null,null,null,null,null,null,null,null,null,null,null,null,null,null,null,null,null,null,null,null,null,null,null,null,null,null,null,null,null,null,null,null,null,null,null,null,null,null,null,null,null,null,null,null,null,null,null,null,null,null,null,null,null,null,null,null,null,null,null,null,null,null,null,null,null,null,null,null,null,null,null,null,null,null,null,null,null,null,null,null,null,null,null,null,null,null,null,null,null,null,null,null,null,null,null,null,null,null,null,null,null,null,null,null,null,null,null,null,null,null,null,null,null,null,null,null,null,null,null,null,null,null,null,null,null,null,null,null,null,{"$f":"$E$13","v":0},null,null,null,80,27.5]
["#16",{"$f":"$D$14","v":""},null,null,null,null,null,null,null,null,null,null,null,null,null,null,null,null,null,null,null,null,null,null,null,null,null,null,null,null,null,null,null,null,null,null,null,null,null,null,null,null,null,null,null,null,null,null,null,null,null,null,null,null,null,null,null,null,null,null,null,null,null,null,null,null,null,null,null,null,null,null,null,null,null,null,null,null,null,null,null,null,null,null,null,null,null,null,null,null,null,null,null,null,null,null,null,null,null,null,null,null,null,null,null,null,null,null,null,null,null,null,null,null,null,null,null,null,null,null,null,null,null,null,null,null,null,null,null,null,null,null,null,null,null,null,null,null,null,null,null,null,null,null,null,null,null,null,null,null,null,null,{"$f":"$D$14","v":""}]
[null,{"$f":"$E$14","v":0},null,null,null,null,null,null,null,null,null,null,null,null,null,null,null,null,null,null,null,null,null,null,null,null,null,null,null,null,null,null,null,null,null,null,null,null,null,null,null,null,null,null,null,null,null,null,null,null,null,null,null,null,null,null,null,null,null,null,null,null,null,null,null,null,null,null,null,null,null,null,null,null,null,null,null,null,null,null,null,null,null,null,null,null,null,null,null,null,null,null,null,null,null,null,null,null,null,null,null,null,null,null,null,null,null,null,null,null,null,null,null,null,null,null,null,null,null,null,null,null,null,null,null,null,null,null,null,null,null,null,null,null,null,null,null,null,null,null,null,null,null,null,null,null,null,null,null,null,null,null,{"$f":"$E$14","v":0}]
["#30",{"$f":"$D$15","v":""},null,null,null,null,null,null,null,null,null,null,null,null,null,null,null,null,null,null,null,null,null,null,null,null,null,null,null,null,null,null,null,null,null,null,null,null,null,null,null,null,null,null,null,null,null,null,null,null,null,null,null,null,null,null,null,null,null,null,null,null,null,null,null,null,null,null,null,null,null,null,null,null,null,null,null,null,null,null,null,null,null,null,null,null,null,null,null,null,null,null,null,null,null,null,null,null,null,null,null,null,null,null,null,null,null,null,null,null,null,null,null,null,null,null,null,null,null,null,null,null,null,null,null,null,null,null,null,null,null,null,null,null,null,null,null,null,null,null,null,null,null,null,null,null,null,null,null,null,null,null,{"$f":"$D$15","v":""}]
[null,{"$f":"$E$15","v":0},null,null,null,null,null,null,null,null,null,null,null,null,null,null,null,null,null,null,null,null,null,null,null,null,null,null,null,null,null,null,null,null,null,null,null,null,null,null,null,null,null,null,null,null,null,null,null,null,null,null,null,null,null,null,null,null,null,null,null,null,null,null,null,null,null,null,null,null,null,null,null,null,null,null,null,null,null,null,null,null,null,null,null,null,null,null,null,null,null,null,null,null,null,null,null,null,null,null,null,null,null,null,null,null,null,null,null,null,null,null,null,null,null,null,null,null,null,null,null,null,null,null,null,null,null,null,null,null,null,null,null,null,null,null,null,null,null,null,null,null,null,null,null,null,null,null,null,null,null,null,{"$f":"$E$15","v":0}]
["#50",{"$f":"$D$16","v":""},null,null,null,null,null,null,null,null,null,null,null,null,null,null,null,null,null,null,null,null,null,null,null,null,null,null,null,null,null,null,null,null,null,null,null,null,null,null,null,null,null,null,null,null,null,null,null,null,null,null,null,null,null,null,null,null,null,null,null,null,null,null,null,null,null,null,null,null,null,null,null,null,null,null,null,null,null,null,null,null,null,null,null,null,null,null,null,null,null,null,null,null,null,null,null,null,null,null,null,null,null,null,null,null,null,null,null,null,null,null,null,null,null,null,null,null,null,null,null,null,null,null,null,null,null,null,null,null,null,null,null,null,null,null,null,null,null,null,null,null,null,null,null,null,null,null,null,null,null,null,{"$f":"$D$16","v":""}]
[null,{"$f":"$E$16","v":0},null,null,null,null,null,null,null,null,null,null,null,null,null,null,null,null,null,null,null,null,null,null,null,null,null,null,null,null,null,null,null,null,null,null,null,null,null,null,null,null,null,null,null,null,null,null,null,null,null,null,null,null,null,null,null,null,null,null,null,null,null,null,null,null,null,null,null,null,null,null,null,null,null,null,null,null,null,null,null,null,null,null,null,null,null,null,null,null,null,null,null,null,null,null,null,null,null,null,null,null,null,null,null,null,null,null,null,null,null,null,null,null,null,null,null,null,null,null,null,null,null,null,null,null,null,null,null,null,null,null,null,null,null,null,null,null,null,null,null,null,null,null,null,null,null,null,null,null,null,null,{"$f":"$E$16","v":0}]
["#100",{"$f":"$D$17","v":""},null,null,null,null,null,null,null,null,null,null,null,null,null,null,null,null,null,null,null,null,null,null,null,null,null,null,null,null,null,null,null,null,null,null,null,null,null,null,null,null,null,null,null,null,null,null,null,null,null,null,null,null,null,null,null,null,null,null,null,null,null,null,null,null,null,null,null,null,null,null,null,null,null,null,null,null,null,null,null,null,null,null,null,null,null,null,null,null,null,null,null,null,null,null,null,null,null,null,null,null,null,null,null,null,null,null,null,null,null,null,null,null,null,null,null,null,null,null,null,null,null,null,null,null,null,null,null,null,null,null,null,null,null,null,null,null,null,null,null,null,null,null,null,null,null,null,null,null,null,null,{"$f":"$D$17","v":""}]
[null,{"$f":"$E$17","v":0},null,null,null,null,null,null,null,null,null,null,null,null,null,null,null,null,null,null,null,null,null,null,null,null,null,null,null,null,null,null,null,null,null,null,null,null,null,null,null,null,null,null,null,null,null,null,null,null,null,null,null,null,null,null,null,null,null,null,null,null,null,null,null,null,null,null,null,null,null,null,null,null,null,null,null,null,null,null,null,null,null,null,null,null,null,null,null,null,null,null,null,null,null,null,null,null,null,null,null,null,null,null,null,null,null,null,null,null,null,null,null,null,null,null,null,null,null,null,null,null,null,null,null,null,null,null,null,null,null,null,null,null,null,null,null,null,null,null,null,null,null,null,null,null,null,null,null,null,null,null,{"$f":"$E$17","v":0}]
["#200",{"$f":"$D$18","v":2},null,null,null,null,null,null,null,null,null,null,null,null,null,null,null,null,null,null,null,null,null,null,null,null,null,null,null,null,null,null,null,null,null,null,null,null,null,null,null,null,null,null,null,null,null,null,null,null,null,null,null,null,null,null,null,null,null,null,null,null,null,null,null,null,null,null,null,null,null,null,null,null,null,null,null,null,null,null,null,null,null,null,null,null,null,null,null,null,null,null,null,null,null,null,null,null,null,null,null,null,null,null,null,null,null,null,null,null,null,null,null,null,null,null,null,null,null,null,null,null,null,null,null,null,null,null,null,null,null,null,null,null,null,null,null,null,null,null,null,null,null,null,null,null,null,null,null,null,null,null,{"$f":"$D$18","v":2}]

{"sheet":"Gradation","index":1,"n_rows":150,"n_cols":33,"rows_kept":150,"cut":false,"hidden":false,"merged":[]}
["Combined Gradations",null,null,null,null,null,null,null,null,null,null,null,null,null,null,null,null,"English or Metric (E or M) ","E",{"$f":"IF(S1=\"E\",1500,IF(S1=\"M\",1250))","v":1500},{"$f":"IF(S1=\"E\",\"yd3\",IF(T1=\"M\",\"m3\"))","v":"yd3"},"Lot Averages "]
[]
["Date","Lot #","Test #","1 1/2\"","1\"","3/4\"","1/2\"","3/8\"","#4","#8","#16","#30","#50","#100","#200","CF","WF",null,"Lot #","Lot #","Lot #","Lot #","Lot #","Lot #","Lot #","Lot #","Lot #","Lot #","Lot #","Lot #","Lot #","Lot #","Lot #"]
[null,null,null,null,null,null,null,null,null,null,null,null,null,null,null,{"$f":"IF(A4=\"\",0,(((100-D4)+(D4-E4)+(E4-F4)+(F4-G4)+(G4-H4))/(((100-D4)+(D4-E4)+(E4-F4)+(F4-G4)+(G4-H4)+(H4-I4)+(I4-J4))))*100)","v":0},{"$f":"IF(A4=\"\",0,J4)","v":0},null,{"$f":"\"=1\"","v":"=1"},{"$f":"\"=2\"","v":"=2"},{"$f":"\"=3\"","v":"=3"},{"$f":"\"=4\"","v":"=4"},{"$f":"\"=5\"","v":"=5"},{"$f":"\"=6\"","v":"=6"},{"$f":"\"=7\"","v":"=7"},{"$f":"\"=8\"","v":"=8"},{"$f":"\"=9\"","v":"=9"},{"$f":"\"=10\"","v":"=10"},{"$f":"\"=11\"","v":"=11"},{"$f":"\"=12\"","v":"=12"},{"$f":"\"=13\"","v":"=13"},{"$f":"\"=14\"","v":"=14"},{"$f":"\"=15\"","v":"=15"}]
[null,null,null,null,null,null,null,null,null,null,null,null,null,null,null,{"$f":"IF(A5=\"\",0,(((100-D5)+(D5-E5)+(E5-F5)+(F5-G5)+(G5-H5))/(((100-D5)+(D5-E5)+(E5-F5)+(F5-G5)+(G5-H5)+(H5-I5)+(I5-J5))))*100)","v":0},{"$f":"IF(A5=\"\",0,J5)","v":0},"CF",{"$f":"DAVERAGE($A$3:$Q$150,16,S$3:S$4)","v":{"$error":"#DIV/0!"}},{"$f":"DAVERAGE($A$3:$Q$150,16,T$3:T$4)","v":{"$error":"#DIV/0!"}},{"$f":"DAVERAGE($A$3:$Q$150,16,U$3:U$4)","v":{"$error":"#DIV/0!"}},{"$f":"DAVERAGE($A$3:$Q$150,16,V$3:V$4)","v":{"$error":"#DIV/0!"}},{"$f":"DAVERAGE($A$3:$Q$150,16,W$3:W$4)","v":{"$error":"#DIV/0!"}},{"$f":"DAVERAGE($A$3:$Q$150,16,X$3:X$4)","v":{"$error":"#DIV/0!"}},{"$error":"#DIV/0!"},{"$error":"#DIV/0!"},{"$error":"#DIV/0!"},{"$error":"#DIV/0!"},{"$error":"#DIV/0!"},{"$error":"#DIV/0!"},{"$error":"#DIV/0!"},{"$error":"#DIV/0!"},{"$error":"#DIV/0!"}]
[null,null,null,null,null,null,null,null,null,null,null,null,null,null,null,0,0,"WF",{"$f":"DAVERAGE($A$3:$Q$150,17,S$3:S$4)","v":{"$error":"#DIV/0!"}},{"$f":"DAVERAGE($A$3:$Q$150,17,T$3:T$4)","v":{"$error":"#DIV/0!"}},{"$f":"DAVERAGE($A$3:$Q$150,17,U$3:U$4)","v":{"$error":"#DIV/0!"}},{"$f":"DAVERAGE($A$3:$Q$150,17,V$3:V$4)","v":{"$error":"#DIV/0!"}},{"$f":"DAVERAGE($A$3:$Q$150,17,W$3:W$4)","v":{"$error":"#DIV/0!"}},{"$error":"#DIV/0!"},{"$error":"#DIV/0!"},{"$error":"#DIV/0!"},{"$error":"#DIV/0!"},{"$error":"#DIV/0!"},{"$error":"#DIV/0!"},{"$error":"#DIV/0!"},{"$error":"#DIV/0!"},{"$error":"#DIV/0!"},{"$error":"#DIV/0!"}]
[null,null,null,null,null,null,null,null,null,null,null,null,null,null,null,0,0,"Zone",{"$f":"IF(AND(S5<100,S5>0,S6>-0.140625*S5+50.06),\"IV\",IF(AND(S5<75,S5>=45,S6>-0.140625*S5+39.2,S6<-0.140625*S5+50.06),\"II\",IF(AND(S5<45,S6>-0.140625*S5+39.2,S6<-0.140625*S5+50.06),\"III\",IF(AND(S5>75,S6>-0.140625*S5+39.2,S6<-0.140625*S5+50.06),\"I\",IF(AND(S5<72,S5>45,S6<-0.140625*S5+39.2),\"V\",\"O\")))))","v":{"$error":"#DIV/0!"}},{"$f":"IF(AND(T5<100,T5>0,T6>-0.140625*T5+50.06),\"IV\",IF(AND(T5<75,T5>=45,T6>-0.140625*T5+39.2,T6<-0.140625*T5+50.06),\"II\",IF(AND(T5<45,T6>-0.140625*T5+39.2,T6<-0.140625*T5+50.06),\"III\",IF(AND(T5>75,T6>-0.140625*T5+39.2,T6<-0.140625*T5+50.06),\"I\",IF(AND(T5<72,T5>45,T6<-0.140625*T5+39.2),\"V\",\"O\")))))","v":{"$error":"#DIV/0!"}},{"$error":"#DIV/0!"},{"$error":"#DIV/0!"},{"$error":"#DIV/0!"},{"$error":"#DIV/0!"},{"$error":"#DIV/0!"},{"$error":"#DIV/0!"},{"$error":"#DIV/0!"},{"$error":"#DIV/0!"},{"$error":"#DIV/0!"},{"$error":"#DIV/0!"},{"$error":"#DIV/0!"},{"$error":"#DIV/0!"},{"$error":"#DIV/0!"}]
[null,null,null,null,null,null,null,null,null,null,null,null,null,null,null,0,0,"# Gradations",{"$f":"DCOUNT($A$3:$Q$150,2,S$3:S$4)","v":0},{"$f":"DCOUNT($A$3:$Q$150,2,T$3:T$4)","v":0},0,0,0,0,0,0,0,0,0,0,0,0,0]
[null,null,null,null,null,null,null,null,null,null,null,null,null,null,null,0,0,"# Required",{"$f":"IF('Project Summary'!$C10=\"\",\"\",'Project Summary'!$C10/$T$1)","v":""},{"$f":"IF('Project Summary'!$C11=\"\",\"\",'Project Summary'!$C11/$T$1)","v":""},{"$f":"IF('Project Summary'!$C12=\"\",\"\",'Project Summary'!$C12/$T$1)","v":""},{"$f":"IF('Project Summary'!$C13=\"\",\"\",'Project Summary'!$C13/$T$1)","v":""},{"$f":"IF('Project Summary'!$C14=\"\",\"\",'Project Summary'!$C14/$T$1)","v":""},{"$f":"IF('Project Summary'!$C15=\"\",\"\",'Project Summary'!$C15/$T$1)","v":""},{"$f":"IF('Project Summary'!$C16=\"\",\"\",'Project Summary'!$C16/$T$1)","v":""},{"$f":"IF('Project Summary'!$C17=\"\",\"\",'Project Summary'!$C17/$T$1)","v":""},{"$f":"IF('Project Summary'!$C18=\"\",\"\",'Project Summary'!$C18/$T$1)","v":""},{"$f":"IF('Project Summary'!$C19=\"\",\"\",'Project Summary'!$C19/$T$1)","v":""},{"$f":"IF('Project Summary'!$C20=\"\",\"\",'Project Summary'!$C20/$T$1)","v":""},{"$f":"IF('Project Summary'!$C21=\"\",\"\",'Project Summary'!$C21/$T$1)","v":""},{"$f":"IF('Project Summary'!$C22=\"\",\"\",'Project Summary'!$C22/$T$1)","v":""},{"$f":"IF('Project Summary'!$C23=\"\",\"\",'Project Summary'!$C23/$T$1)","v":""},{"$f":"IF('Project Summary'!$C24=\"\",\"\",'Project Summary'!$C24/$T$1)","v":""}]
[null,null,null,null,null,null,null,null,null,null,null,null,null,null,null,0,0]
[null,null,null,null,null,null,null,null,null,null,null,null,null,null,null,0,0]
[null,null,null,null,null,null,null,null,null,null,null,null,null,null,null,0,0]
[null,null,null,null,null,null,null,null,null,null,null,null,null,null,null,0,0]
[null,null,null,null,null,null,null,null,null,null,null,null,null,null,null,0,0]
[null,null,null,null,null,null,null,null,null,null,null,null,null,null,null,0,0]
[null,null,null,null,null,null,null,null,null,null,null,null,null,null,null,0,0]
[null,null,null,null,null,null,null,null,null,null,null,null,null,null,null,0,0]
[null,null,null,null,null,null,null,null,null,null,null,null,null,null,null,0,0]
[null,null,null,null,null,null,null,null,null,null,null,null,null,null,null,0,0]
[null,null,null,null,null,null,null,null,null,null,null,null,null,null,null,0,0]
[null,null,null,null,null,null,null,null,null,null,null,null,null,null,null,0,0]
[null,null,null,null,null,null,null,null,null,null,null,null,null,null,null,0,0]
[null,null,null,null,null,null,null,null,null,null,null,null,null,null,null,0,0]
[null,null,null,null,null,null,null,null,null,null,null,null,null,null,null,0,0]
[null,null,null,null,null,null,null,null,null,null,null,null,null,null,null,0,0]
[null,null,null,null,null,null,null,null,null,null,null,null,null,null,null,0,0]
[null,null,null,null,null,null,null,null,null,null,null,null,null,null,null,0,0]
[null,null,null,null,null,null,null,null,null,null,null,null,null,null,null,0,0]
[null,null,null,null,null,null,null,null,null,null,null,null,null,null,null,0,0]
[null,null,null,null,null,null,null,null,null,null,null,null,null,null,null,0,0]
[null,null,null,null,null,null,null,null,null,null,null,null,null,null,null,0,0]
[null,null,null,null,null,null,null,null,null,null,null,null,null,null,null,0,0]
[null,null,null,null,null,null,null,null,null,null,null,null,null,null,null,0,0]
[null,null,null,null,null,null,null,null,null,null,null,null,null,null,null,0,0]
[null,null,null,null,null,null,null,null,null,null,null,null,null,null,null,0,0]
[null,null,null,null,null,null,null,null,null,null,null,null,null,null,null,0,0]
[null,null,null,null,null,null,null,null,null,null,null,null,null,null,null,0,0]
[null,null,null,null,null,null,null,null,null,null,null,null,null,null,null,0,0]
[null,null,null,null,null,null,null,null,null,null,null,null,null,null,null,0,0]
[null,null,null,null,null,null,null,null,null,null,null,null,null,null,null,0,0]
[null,null,null,null,null,null,null,null,null,null,null,null,null,null,null,0,0]
[null,null,null,null,null,null,null,null,null,null,null,null,null,null,null,0,0]
[null,null,null,null,null,null,null,null,null,null,null,null,null,null,null,0,0]
[null,null,null,null,null,null,null,null,null,null,null,null,null,null,null,0,0]
[null,null,null,null,null,null,null,null,null,null,null,null,null,null,null,0,0]
[null,null,null,null,null,null,null,null,null,null,null,null,null,null,null,0,0]
[null,null,null,null,null,null,null,null,null,null,null,null,null,null,null,0,0]
[null,null,null,null,null,null,null,null,null,null,null,null,null,null,null,0,0]
[null,null,null,null,null,null,null,null,null,null,null,null,null,null,null,0,0]
[null,null,null,null,null,null,null,null,null,null,null,null,null,null,null,0,0]
[null,null,null,null,null,null,null,null,null,null,null,null,null,null,null,0,0]
[null,null,null,null,null,null,null,null,null,null,null,null,null,null,null,0,0]
[null,null,null,null,null,null,null,null,null,null,null,null,null,null,null,0,0]
[null,null,null,null,null,null,null,null,null,null,null,null,null,null,null,0,0]
[null,null,null,null,null,null,null,null,null,null,null,null,null,null,null,0,0]
[null,null,null,null,null,null,null,null,null,null,null,null,null,null,null,0,0]
[null,null,null,null,null,null,null,null,null,null,null,null,null,null,null,0,0]
[null,null,null,null,null,null,null,null,null,null,null,null,null,null,null,0,0]
[null,null,null,null,null,null,null,null,null,null,null,null,null,null,null,0,0]
[null,null,null,null,null,null,null,null,null,null,null,null,null,null,null,0,0]
[null,null,null,null,null,null,null,null,null,null,null,null,null,null,null,0,0]
[null,null,null,null,null,null,null,null,null,null,null,null,null,null,null,0,0]
[null,null,null,null,null,null,null,null,null,null,null,null,null,null,null,0,0]
[null,null,null,null,null,null,null,null,null,null,null,null,null,null,null,0,0]
[null,null,null,null,null,null,null,null,null,null,null,null,null,null,null,0,0]
[null,null,null,null,null,null,null,null,null,null,null,null,null,null,null,0,0]
[null,null,null,null,null,null,null,null,null,null,null,null,null,null,null,0,0]
[null,null,null,null,null,null,null,null,null,null,null,null,null,null,null,0,0]
[null,null,null,null,null,null,null,null,null,null,null,null,null,null,null,{"$f":"IF(A69=\"\",0,(((100-D69)+(D69-E69)+(E69-F69)+(F69-G69)+(G69-H69))/(((100-D69)+(D69-E69)+(E69-F69)+(F69-G69)+(G69-H69)+(H69-I69)+(I69-J69))))*100)","v":0},{"$f":"IF(A69=\"\",0,J69)","v":0}]
[null,null,null,null,null,null,null,null,null,null,null,null,null,null,null,0,0]
[null,null,null,null,null,null,null,null,null,null,null,null,null,null,null,0,0]
[null,null,null,null,null,null,null,null,null,null,null,null,null,null,null,0,0]
[null,null,null,null,null,null,null,null,null,null,null,null,null,null,null,0,0]
[null,null,null,null,null,null,null,null,null,null,null,null,null,null,null,0,0]
[null,null,null,null,null,null,null,null,null,null,null,null,null,null,null,0,0]
[null,null,null,null,null,null,null,null,null,null,null,null,null,null,null,0,0]
[null,null,null,null,null,null,null,null,null,null,null,null,null,null,null,0,0]
[null,null,null,null,null,null,null,null,null,null,null,null,null,null,null,0,0]
[null,null,null,null,null,null,null,null,null,null,null,null,null,null,null,0,0]
[null,null,null,null,null,null,null,null,null,null,null,null,null,null,null,0,0]
[null,null,null,null,null,null,null,null,null,null,null,null,null,null,null,0,0]
[null,null,null,null,null,null,null,null,null,null,null,null,null,null,null,0,0]
[null,null,null,null,null,null,null,null,null,null,null,null,null,null,null,0,0]
[null,null,null,null,null,null,null,null,null,null,null,null,null,null,null,0,0]
[null,null,null,null,null,null,null,null,null,null,null,null,null,null,null,0,0]
[null,null,null,null,null,null,null,null,null,null,null,null,null,null,null,0,0]
[null,null,null,null,null,null,null,null,null,null,null,null,null,null,null,0,0]
[null,null,null,null,null,null,null,null,null,null,null,null,null,null,null,0,0]
[null,null,null,null,null,null,null,null,null,null,null,null,null,null,null,0,0]
[null,null,null,null,null,null,null,null,null,null,null,null,null,null,null,0,0]
[null,null,null,null,null,null,null,null,null,null,null,null,null,null,null,0,0]
[null,null,null,null,null,null,null,null,null,null,null,null,null,null,null,0,0]
[null,null,null,null,null,null,null,null,null,null,null,null,null,null,null,0,0]
[null,null,null,null,null,null,null,null,null,null,null,null,null,null,null,0,0]
[null,null,null,null,null,null,null,null,null,null,null,null,null,null,null,0,0]
[null,null,null,null,null,null,null,null,null,null,null,null,null,null,null,0,0]
[null,null,null,null,null,null,null,null,null,null,null,null,null,null,null,0,0]
[null,null,null,null,null,null,null,null,null,null,null,null,null,null,null,0,0]
[null,null,null,null,null,null,null,null,null,null,null,null,null,null,null,0,0]
[null,null,null,null,null,null,null,null,null,null,null,null,null,null,null,0,0]
[null,null,null,null,null,null,null,null,null,null,null,null,null,null,null,0,0]
[null,null,null,null,null,null,null,null,null,null,null,null,null,null,null,0,0]
[null,null,null,null,null,null,null,null,null,null,null,null,null,null,null,0,0]
[null,null,null,null,null,null,null,null,null,null,null,null,null,null,null,0,0]
[null,null,null,null,null,null,null,null,null,null,null,null,null,null,null,0,0]
[null,null,null,null,null,null,null,null,null,null,null,null,null,null,null,0,0]
[null,null,null,null,null,null,null,null,null,null,null,null,null,null,null,0,0]
[null,null,null,null,null,null,null,null,null,null,null,null,null,null,null,0,0]
[null,null,null,null,null,null,null,null,null,null,null,null,null,null,null,0,0]
[null,null,null,null,null,null,null,null,null,null,null,null,null,null,null,0,0]
[null,null,null,null,null,null,null,null,null,null,null,null,null,null,null,0,0]
[null,null,null,null,null,null,null,null,null,null,null,null,null,null,null,0,0]
[null,null,null,null,null,null,null,null,null,null,null,null,null,null,null,0,0]
[null,null,null,null,null,null,null,null,null,null,null,null,null,null,null,0,0]
[null,null,null,null,null,null,null,null,null,null,null,null,null,null,null,0,0]
[null,null,null,null,null,null,null,null,null,null,null,null,null,null,null,0,0]
[null,null,null,null,null,null,null,null,null,null,null,null,null,null,null,0,0]
[null,null,null,null,null,null,null,null,null,null,null,null,null,null,null,0,0]
[null,null,null,null,null,null,null,null,null,null,null,null,null,null,null,0,0]
[null,null,null,null,null,null,null,null,null,null,null,null,null,null,null,0,0]
[null,null,null,null,null,null,null,null,null,null,null,null,null,null,null,0,0]
[null,null,null,null,null,null,null,null,null,null,null,null,null,null,null,0,0]
[null,null,null,null,null,null,null,null,null,null,null,null,null,null,null,0,0]
[null,null,null,null,null,null,null,null,null,null,null,null,null,null,null,0,0]
[null,null,null,null,null,null,null,null,null,null,null,null,null,null,null,0,0]
[null,null,null,null,null,null,null,null,null,null,null,null,null,null,null,0,0]
[null,null,null,null,null,null,null,null,null,null,null,null,null,null,null,0,0]
[null,null,null,null,null,null,null,null,null,null,null,null,null,null,null,0,0]
[null,null,null,null,null,null,null,null,null,null,null,null,null,null,null,0,0]
[null,null,null,null,null,null,null,null,null,null,null,null,null,null,null,0,0]
[null,null,null,null,null,null,null,null,null,null,null,null,null,null,null,0,0]
[null,null,null,null,null,null,null,null,null,null,null,null,null,null,null,0,0]
[null,null,null,null,null,null,null,null,null,null,null,null,null,null,null,{"$f":"IF(A133=\"\",0,(((100-D133)+(D133-E133)+(E133-F133)+(F133-G133)+(G133-H133))/(((100-D133)+(D133-E133)+(E133-F133)+(F133-G133)+(G133-H133)+(H133-I133)+(I133-J133))))*100)","v":0},{"$f":"IF(A133=\"\",0,J133)","v":0}]
[null,null,null,null,null,null,null,null,null,null,null,null,null,null,null,0,0]
[null,null,null,null,null,null,null,null,null,null,null,null,null,null,null,0,0]
[null,null,null,null,null,null,null,null,null,null,null,null,null,null,null,0,0]
[null,null,null,null,null,null,null,null,null,null,null,null,null,null,null,0,0]
[null,null,null,null,null,null,null,null,null,null,null,null,null,null,null,0,0]
[null,null,null,null,null,null,null,null,null,null,null,null,null,null,null,0,0]
[null,null,null,null,null,null,null,null,null,null,null,null,null,null,null,0,0]
[null,null,null,null,null,null,null,null,null,null,null,null,null,null,null,0,0]
[null,null,null,null,null,null,null,null,null,null,null,null,null,null,null,0,0]
[null,null,null,null,null,null,null,null,null,null,null,null,null,null,null,0,0]
[null,null,null,null,null,null,null,null,null,null,null,null,null,null,null,0,0]
[null,null,null,null,null,null,null,null,null,null,null,null,null,null,null,0,0]
[null,null,null,null,null,null,null,null,null,null,null,null,null,null,null,0,0]
[null,null,null,null,null,null,null,null,null,null,null,null,null,null,null,0,0]
[null,null,null,null,null,null,null,null,null,null,null,null,null,null,null,0,0]
[null,null,null,null,null,null,null,null,null,null,null,null,null,null,null,0,0]
[null,null,null,null,null,null,null,null,null,null,null,null,null,null,null,0,0]

{"sheet":"Project Summary","index":3,"n_rows":42,"n_cols":7,"rows_kept":42,"cut":false,"hidden":false,"merged":[[2,1,2,2],[3,1,3,2],[2,3,2,5],[3,3,3,5]]}
[null,"PROJECT SUMMARY - LOT AVERAGE"]
[]
[null,"PROJECT NO:",null,{"$f":"Target!B3","v":0}]
[null,"CONTRACTOR :",null,{"$f":"Target!B4","v":0}]
[]
[]
[null,"Week Placed ",null,"Lot Average"]
["Lot ","Beginning","Quantity","CF","WF","Pay Zone","Pay Factor"]
[]
[{"$f":"Gradation!S$4","v":"=1"},{"$f":"IF(Quantity!$A5=\"\",\"\",Quantity!$A5)","v":""},{"$f":"IF(Quantity!E12>0,Quantity!E12,\"\")","v":""},{"$f":"Gradation!S$5","v":{"$error":"#DIV/0!"}},{"$f":"Gradation!S$6","v":{"$error":"#DIV/0!"}},{"$f":"Gradation!S$7","v":{"$error":"#DIV/0!"}},{"$f":"IF(F10=0,\"\",IF(F10=\"II\",100,IF(F10=\"IV\",98,IF(F10=\"I\",95,0))))","v":{"$error":"#DIV/0!"}}]
[{"$f":"Gradation!T$4","v":"=2"},{"$f":"IF(Quantity!$A13=\"\",\"\",Quantity!$A13)","v":""},{"$f":"IF(Quantity!E20>0,Quantity!E20,\"\")","v":""},{"$f":"Gradation!T$5","v":{"$error":"#DIV/0!"}},{"$f":"Gradation!T$6","v":{"$error":"#DIV/0!"}},{"$f":"Gradation!T$7","v":{"$error":"#DIV/0!"}},{"$f":"IF(F11=0,\"\",IF(F11=\"II\",100,IF(F11=\"IV\",98,IF(F11=\"I\",95,0))))","v":{"$error":"#DIV/0!"}}]
[{"$f":"Gradation!U$4","v":"=3"},{"$f":"IF(Quantity!$A21=\"\",\"\",Quantity!$A21)","v":""},{"$f":"IF(Quantity!E28>0,Quantity!E28,\"\")","v":""},{"$f":"Gradation!U$5","v":{"$error":"#DIV/0!"}},{"$f":"Gradation!U$6","v":{"$error":"#DIV/0!"}},{"$f":"Gradation!U$7","v":{"$error":"#DIV/0!"}},{"$error":"#DIV/0!"}]
[{"$f":"Gradation!V$4","v":"=4"},{"$f":"IF(Quantity!$A29=\"\",\"\",Quantity!$A29)","v":""},{"$f":"IF(Quantity!E36>0,Quantity!E36,\"\")","v":""},{"$f":"Gradation!V$5","v":{"$error":"#DIV/0!"}},{"$f":"Gradation!V$6","v":{"$error":"#DIV/0!"}},{"$f":"Gradation!V$7","v":{"$error":"#DIV/0!"}},{"$error":"#DIV/0!"}]
[{"$f":"Gradation!W$4","v":"=5"},{"$f":"IF(Quantity!$A37=\"\",\"\",Quantity!$A37)","v":""},{"$f":"IF(Quantity!E44>0,Quantity!E44,\"\")","v":""},{"$f":"Gradation!W$5","v":{"$error":"#DIV/0!"}},{"$f":"Gradation!W$6","v":{"$error":"#DIV/0!"}},{"$f":"Gradation!W$7","v":{"$error":"#DIV/0!"}},{"$error":"#DIV/0!"}]
[{"$f":"Gradation!X$4","v":"=6"},{"$f":"IF(Quantity!$A45=\"\",\"\",Quantity!$A45)","v":""},{"$f":"IF(Quantity!E52>0,Quantity!E52,\"\")","v":""},{"$f":"Gradation!X$5","v":{"$error":"#DIV/0!"}},{"$f":"Gradation!X$6","v":{"$error":"#DIV/0!"}},{"$f":"Gradation!X$7","v":{"$error":"#DIV/0!"}},{"$error":"#DIV/0!"}]
[{"$f":"Gradation!Y$4","v":"=7"},{"$f":"IF(Quantity!$A53=\"\",\"\",Quantity!$A53)","v":""},{"$f":"IF(Quantity!E60>0,Quantity!E60,\"\")","v":""},{"$f":"Gradation!Y$5","v":{"$error":"#DIV/0!"}},{"$f":"Gradation!Y$6","v":{"$error":"#DIV/0!"}},{"$f":"Gradation!Y$7","v":{"$error":"#DIV/0!"}},{"$error":"#DIV/0!"}]
[{"$f":"Gradation!Z$4","v":"=8"},{"$f":"IF(Quantity!$A61=\"\",\"\",Quantity!$A61)","v":""},{"$f":"IF(Quantity!E68>0,Quantity!E68,\"\")","v":""},{"$f":"Gradation!Z$5","v":{"$error":"#DIV/0!"}},{"$f":"Gradation!Z$6","v":{"$error":"#DIV/0!"}},{"$f":"Gradation!Z$7","v":{"$error":"#DIV/0!"}},{"$error":"#DIV/0!"}]
[{"$f":"Gradation!AA$4","v":"=9"},{"$f":"IF(Quantity!$A69=\"\",\"\",Quantity!$A69)","v":""},{"$f":"IF(Quantity!E76>0,Quantity!E76,\"\")","v":""},{"$f":"Gradation!AA$5","v":{"$error":"#DIV/0!"}},{"$f":"Gradation!AA$6","v":{"$error":"#DIV/0!"}},{"$f":"Gradation!AA$7","v":{"$error":"#DIV/0!"}},{"$error":"#DIV/0!"}]
[{"$f":"Gradation!AB$4","v":"=10"},{"$f":"IF(Quantity!$A77=\"\",\"\",Quantity!$A77)","v":""},{"$f":"IF(Quantity!E84>0,Quantity!E84,\"\")","v":""},{"$f":"Gradation!AB$5","v":{"$error":"#DIV/0!"}},{"$f":"Gradation!AB$6","v":{"$error":"#DIV/0!"}},{"$f":"Gradation!AB$7","v":{"$error":"#DIV/0!"}},{"$error":"#DIV/0!"}]
[{"$f":"Gradation!AC$4","v":"=11"},{"$f":"IF(Quantity!$A85=\"\",\"\",Quantity!$A85)","v":""},{"$f":"IF(Quantity!E92>0,Quantity!E92,\"\")","v":""},{"$f":"Gradation!AC$5","v":{"$error":"#DIV/0!"}},{"$f":"Gradation!AC$6","v":{"$error":"#DIV/0!"}},{"$f":"Gradation!AC$7","v":{"$error":"#DIV/0!"}},{"$error":"#DIV/0!"}]
[{"$f":"Gradation!AD$4","v":"=12"},{"$f":"IF(Quantity!$A93=\"\",\"\",Quantity!$A93)","v":""},{"$f":"IF(Quantity!E100>0,Quantity!E100,\"\")","v":""},{"$f":"Gradation!AD$5","v":{"$error":"#DIV/0!"}},{"$f":"Gradation!AD$6","v":{"$error":"#DIV/0!"}},{"$f":"Gradation!AD$7","v":{"$error":"#DIV/0!"}},{"$error":"#DIV/0!"}]
[{"$f":"Gradation!AE$4","v":"=13"},{"$f":"IF(Quantity!$A101=\"\",\"\",Quantity!$A101)","v":""},{"$f":"IF(Quantity!E108>0,Quantity!E108,\"\")","v":""},{"$f":"Gradation!AE$5","v":{"$error":"#DIV/0!"}},{"$f":"Gradation!AE$6","v":{"$error":"#DIV/0!"}},{"$f":"Gradation!AE$7","v":{"$error":"#DIV/0!"}},{"$error":"#DIV/0!"}]
[{"$f":"Gradation!AF$4","v":"=14"},{"$f":"IF(Quantity!$A109=\"\",\"\",Quantity!$A109)","v":""},{"$f":"IF(Quantity!E116>0,Quantity!E116,\"\")","v":""},{"$f":"Gradation!AF$5","v":{"$error":"#DIV/0!"}},{"$f":"Gradation!AF$6","v":{"$error":"#DIV/0!"}},{"$f":"Gradation!AF$7","v":{"$error":"#DIV/0!"}},{"$error":"#DIV/0!"}]
[{"$f":"Gradation!AG$4","v":"=15"},{"$f":"IF(Quantity!$A117=\"\",\"\",Quantity!$A117)","v":""},{"$f":"IF(Quantity!E123>0,Quantity!E123,\"\")","v":""},{"$f":"Gradation!AG$5","v":{"$error":"#DIV/0!"}},{"$f":"Gradation!AG$6","v":{"$error":"#DIV/0!"}},{"$f":"Gradation!AG$7","v":{"$error":"#DIV/0!"}},{"$error":"#DIV/0!"}]
[]
[null,null,{"$f":"SUM(C10:C24)","v":0}]
[]
[]
[null,"Air Tests Taken",{"$f":"COUNT(Air!A5:A401)","v":0}]
[null,"Air Tests Required",{"$f":"Quantity!D125/350","v":0}]
[]
[null,"Unit Weight Taken",{"$f":"COUNT(Air!D5:D401)","v":0}]
[null,"Unit Weight Required",{"$f":"Quantity!D126*2","v":0}]
[]
[null,"Max Recorded Air",{"$f":"MAX(Air!G5:G222)","v":0}]
[null,"Min Recorded Air",{"$f":"MIN(Air!G5:G222)","v":0}]
[null,"Avg Air ",{"$f":"AVERAGE(Air!G5:G222)","v":{"$error":"#DIV/0!"}}]
[null,"Std Air",{"$f":"STDEV(Air!G5:G222)","v":{"$error":"#DIV/0!"}}]
[null,"Max Loss",{"$f":"MAX(Air!I5:I222)","v":0}]
[null,"Min Loss",{"$f":"MIN(Air!I5:I306)","v":0}]
[null,"Avg Loss",{"$f":"AVERAGE(Air!I5:I306)","v":{"$error":"#DIV/0!"}}]
[null,"Std Air",{"$f":"STDEV(Air!I5:I306)","v":{"$error":"#DIV/0!"}}]

{"sheet":"Quantity","index":4,"n_rows":126,"n_cols":8,"rows_kept":126,"cut":false,"hidden":false,"merged":[[0,3,1,3],[0,5,1,5],[0,4,1,4],[0,2,1,2]]}
[null,null,"Volume of QM-C Concrete HANDWORK Placed","Volume of QM-C Concrete Placed","Volume of QM-C Concrete Placed for Lot","Volume of QM-C Concrete Total Placed to Date"]
[null,null,null,null,null,null,1]
["Date","Lot","(yd^3/m^3)","(yd^3/m^3)","(yd^3/m^3)","(yd^3/m^3)",2]
[null,null,"(Enter 0 if no more concrete produced for lot)","(Enter 0 if no more concrete produced for lot)",null,null,3]
[null,1,0,0,null,{"$f":"IF(D5=\"\",\"\",D5+C5)","v":0},4]
[null,1,0,0,null,{"$f":"IF(D6=\"\",\"\",F5+D6+C6)","v":0}]
[null,1,0,0,null,{"$f":"IF(D7=\"\",\"\",F6+D7+C7)","v":0},5]
[null,1,0,0,null,{"$f":"IF(D8=\"\",\"\",F7+D8+C8)","v":0},6]
[null,1,0,0,null,0,7]
[null,1,0,0,null,0,8]
[null,1,0,0,null,0,9]
[null,1,0,0,{"$f":"F12","v":0},0,10]
[null,2,0,0,null,0,11]
[null,2,0,0,null,{"$f":"IF(D14=\"\",\"\",F13+D14+C14)","v":0},12]
[null,2,0,0,null,0,13]
[null,2,0,0,null,0,14]
[null,2,0,0,null,0,15]
[null,2,0,0,null,0,16]
[null,2,0,0,null,0,17]
[null,2,0,0,{"$f":"IF(H20>0,F20-F12,0)","v":0},0,18,{"$f":"F20-F12","v":0}]
[null,3,0,0,null,0,19]
[null,3,0,0,null,0,20]
[null,3,0,0,null,0,21]
[null,3,0,0,null,0,22]
[null,3,0,0,null,0,23]
[null,3,0,0,null,0,24]
[null,3,0,0,null,0,25]
[null,3,0,0,{"$f":"IF(H28>0,F28-F20,0)","v":0},0,26,{"$f":"F28-F20","v":0}]
[null,4,0,0,null,0,27]
[null,4,0,0,null,0,28]
[null,4,0,0,null,0,29]
[null,4,0,0,null,0,30]
[null,4,0,0,null,0,31]
[null,4,0,0,null,0,32]
[null,4,0,0,null,0,33]
[null,4,0,0,{"$f":"IF(H36>0,F36-F28,0)","v":0},0,34,{"$f":"F36-F28","v":0}]
[null,5,0,0,null,0,35]
[null,5,0,0,null,0,36]
[null,5,0,0,null,0,37]
[null,5,0,0,null,0,38]
[null,5,0,0,null,0,39]
[null,5,0,0,null,0,40]
[null,5,0,0,null,0,41]
[null,5,0,0,{"$f":"IF(H44>0,F44-F36,0)","v":0},0,42,{"$f":"F44-F36","v":0}]
[null,6,0,0,null,0,43]
[null,6,0,0,null,0,44]
[null,6,0,0,null,0,45]
[null,6,0,0,null,0,46]
[null,6,0,0,null,0,47]
[null,6,0,0,null,0,48]
[null,6,0,0,null,0,49]
[null,6,0,0,{"$f":"IF(H52>0,F52-F44,0)","v":0},0,50,{"$f":"F52-F44","v":0}]
[null,7,0,0,null,0]
[null,7,0,0,null,0]
[null,7,0,0,null,0]
[null,7,0,0,null,0]
[null,7,0,0,null,0]
[null,7,0,0,null,0]
[null,7,0,0,null,0]
[null,7,0,0,{"$f":"IF(H60>0,F60-F52,0)","v":0},0,null,{"$f":"F60-F52","v":0}]
[null,8,0,0,null,0]
[null,8,0,0,null,0]
[null,8,0,0,null,0]
[null,8,0,0,null,0]
[null,8,0,0,null,0]
[null,8,0,0,null,0]
[null,8,0,0,null,0]
[null,8,0,0,{"$f":"IF(H68>0,F68-F60,0)","v":0},0,null,{"$f":"F68-F60","v":0}]
[null,9,0,0,null,0]
[null,9,0,0,null,0]
[null,9,0,0,null,0]
[null,9,0,0,null,0]
[null,9,0,0,null,0]
[null,9,0,0,null,0]
[null,9,0,0,null,0]
[null,9,0,0,{"$f":"IF(H76>0,F76-F68,0)","v":0},0,null,{"$f":"F76-F68","v":0}]
[null,10,0,0,null,0]
[null,10,0,0,null,{"$f":"IF(D78=\"\",\"\",F77+D78+C78)","v":0}]
[null,10,0,0,null,0]
[null,10,0,0,null,0]
[null,10,0,0,null,0]
[null,10,0,0,null,0]
[null,10,0,0,null,0]
[null,10,0,0,{"$f":"IF(H84>0,F84-F76,0)","v":0},0,null,{"$f":"F84-F76","v":0}]
[null,11,0,0,null,0]
[null,11,0,0,null,0]
[null,11,0,0,null,0]
[null,11,0,0,null,0]
[null,11,0,0,null,0]
[null,11,0,0,null,0]
[null,11,0,0,null,0]
[null,11,0,0,{"$f":"IF(H92>0,F92-F84,0)","v":0},0,null,{"$f":"F92-F84","v":0}]
[null,12,0,0,null,0]
[null,12,0,0,null,0]
[null,12,0,0,null,0]
[null,12,0,0,null,0]
[null,12,0,0,null,0]
[null,12,0,0,null,0]
[null,12,0,0,null,0]
[null,12,0,0,{"$f":"IF(H100>0,F100-F92,0)","v":0},0,null,{"$f":"F100-F92","v":0}]
[null,13,0,0,null,0]
[null,13,0,0,null,0]
[null,13,0,0,null,0]
[null,13,0,0,null,0]
[null,13,0,0,null,0]
[null,13,0,0,null,0]
[null,13,0,0,null,0]
[null,13,0,0,{"$f":"IF(H108>0,F108-F100,0)","v":0},0,null,{"$f":"F108-F100","v":0}]
[null,14,0,0,null,0]
[null,14,0,0,null,0]
[null,14,0,0,null,0]
[null,14,0,0,null,0]
[null,14,0,0,null,0]
[null,14,0,0,null,0]
[null,14,0,0,null,0]
[null,14,0,0,{"$f":"IF(H116>0,F116-F108,0)","v":0},0,null,{"$f":"F116-F108","v":0}]
[null,15,0,0,null,0]
[null,15,0,0,null,0]
[null,15,0,0,null,0]
[null,15,0,0,null,0]
[null,15,0,0,null,0]
[null,15,0,0,null,0]
[null,15,0,0,null,0]
[null,15,0,0,{"$f":"IF(H124>0,F124-F116,0)","v":0},0,null,{"$f":"F124-F116","v":0}]
[null,"Totals",{"$f":"SUM(C5:C124)","v":0},{"$f":"SUM(D5:D124)","v":0}]
[{"$f":"COUNT(A5:A124)","v":0},null,null,{"$f":"COUNTIF(D5:D124,\">500\")","v":0}]

{"sheet":"Air","index":17,"n_rows":401,"n_cols":43,"rows_kept":401,"cut":false,"hidden":false,"merged":[[3,35,3,36],[2,35,2,36],[0,33,0,36],[1,12,1,13],[2,12,2,13],[0,11,0,13]]}
[null,null,null,null,"Unit Weight",null,"Plastic","Plastic","Actual",null,null,"Targets",null,null,null,null,null,null,null,null,null,null,null,null,null,null,null,"Average",null,"Average",null,"Average Loss",null,"TARGETS"]
[null,null,null,"Net Concrete","(lbs/ft^3)",null,"Air Content","Air Content","Air",null,null,"Target Air","Air Limits"]
[null,null,null,"Weight","Enter Vol.",null,"Before Paver","After Paver","Loss",null,null,"Content","(%)",null,null,null,null,null,null,null,null,null,null,null,null,null,null,"Loss Date",null,"Loss",null,"of Consecutive",null,"Date","Rounded","Air Limits"]
["Date","Test #","Paver ID#","(lbs)",0.249,"Station","(%)","(%)","(%)",null,null,"(%)","Upper","Lower",null,null,null,null,null,null,null,null,null,null,null,null,null,null,null,null,null,"Dates",null,null,"Target Air","(%)",null,null,"date","air","upper","lower","target"]
[null,{"$f":"IF(A5=\"\",\"\",1)","v":""},null,null,{"$f":"IF((D5>0),(D5/$E$4),#N/A)","v":{"$error":"#N/A"}},null,null,null,{"$f":"IF(H5=\"\",\"\",(G5-H5))","v":""},{"$f":"IF(A5=\"\",\"\",IF(AND(G5>1,H5>0),MROUND((6.5+I5),0.5),IF(AND(A5<>\"\",H5=\"\"),J4)))","v":""},null,8,{"$f":"IF(L5=\"\",\"\",L5+2)","v":10},{"$f":"IF(L5=\"\",\"\",L5-2)","v":6},{"$f":"I5","v":""},{"$f":"IF(AND(H5=\"\",A4=A5),P4,IF(AND(A4=A5,H5>1),O5+P4,IF(H5=\"\",0,IF(H5>0,O5))))","v":0},{"$f":"IF(AND(A5=A4,H5>1),Q4+1,IF(AND(H5=\"\",A5=A4),Q4,IF(AND(H5=\"\",P5=0),0,1)))","v":0},{"$f":"IF(A5=A4,R4+1,1)","v":1},{"$f":"IF(AND(R5>=R6,Q5>0),P5/Q5,\"\")","v":""},null,null,null,null,null,null,null,null,null,null,null,null,null,null,null,"(%)","Upper","Lower",null,{"$f":"IF(A5=\"\",#N/A,A5)","v":{"$error":"#N/A"}},{"$f":"IF(AM5=\"\",\"\",G5)","v":{"$error":"#N/A"}},{"$f":"IF(AM5=\"\",\"\",AQ5+1.5)","v":{"$error":"#N/A"}},{"$f":"IF(AM5=\"\",\"\",AQ6-1)","v":{"$error":"#N/A"}},{"$f":"IF(AM5=\"\",\"\",AI7)","v":{"$error":"#N/A"}}]
[null,{"$f":"IF(A6=\"\",\"\",B5+1)","v":""},null,null,{"$f":"IF((D6>0),(D6/$E$4),#N/A)","v":{"$error":"#N/A"}},null,null,null,"","",null,8,{"$f":"IF(L6=\"\",\"\",L6+2)","v":10},{"$f":"IF(L6=\"\",\"\",L6-2)","v":6},"",0,0,2,{"$f":"IF(AND(R6>=R7,Q6>0),P6/Q6,\"\")","v":""},{"$f":"IF(AND(Y6=\"\",Z6=\"\"),0,1)","v":0},{"$f":"IF(AND(Y6=\"\",Z6=\"\"),\"\",A6)","v":""},{"$f":"IF(AND(R6>=R7,Q6>0),1,\"\")","v":""},{"$f":"COUNT(V$5:V6)","v":0},{"$f":"IF(W5>=2,\"\",W5)","v":0},{"$f":"IF(X6<X7,S6+6,\"\")","v":""},{"$f":"IF(S6=\"\",\"\",IF(AND(X6=\"\",S6>0),S6+6,\"\"))","v":""},{"$f":"IF(Z6=\"\",\"\",ABS($AI$6-Z6))","v":""},{"$f":"VLOOKUP(1,count,2,FALSE)","v":{"$error":"#N/A"}},{"$f":"VLOOKUP(AB6,time,5,FALSE)","v":{"$error":"#N/A"}},{"$f":"AC6-6","v":{"$error":"#N/A"}},null,null,null,null,null,null,null,null,{"$f":"IF(A6=\"\",#N/A,A6)","v":{"$error":"#N/A"}},{"$error":"#N/A"},{"$f":"IF(AM6=$AM$5,AQ6+1.5,IF(AM5=\"\",\"\",AQ6+1.5))","v":{"$error":"#N/A"}},{"$f":"IF(AM6=$AM$5,AQ6-1,IF(AN5=\"\",\"\",AQ6-1))","v":{"$error":"#N/A"}},{"$f":"IF(AM6=AM5,AQ5,VLOOKUP(AM6,graph,2,FALSE))","v":{"$error":"#N/A"}}]
[null,{"$f":"IF(A7=\"\",\"\",B6+1)","v":""},null,null,{"$error":"#N/A"},null,null,null,"","",null,8,10,6,"",0,0,3,"",{"$f":"IF(AND(Y7=\"\",Z7=\"\"),0,COUNT(V$6:$V7))","v":0},"",{"$f":"IF(AND(R7>=R8,Q7>0),1,\"\")","v":""},{"$f":"COUNT(V$5:V7)","v":0},{"$f":"IF(W6>=2,\"\",W6)","v":0},"","","",{"$f":"VLOOKUP(2,count,2,FALSE)","v":{"$error":"#N/A"}},{"$f":"VLOOKUP(AB7,time,5,FALSE)","v":{"$error":"#N/A"}},{"$f":"AC7-6","v":{"$error":"#N/A"}},null,null,null,{"$f":"AB6","v":{"$error":"#N/A"}},7.5,{"$f":"IF($AI7=\"\",#N/A,($AI7+1.5))","v":9},{"$f":"IF($AI7=\"\",#N/A,($AI7-1))","v":6.5},null,{"$error":"#N/A"},{"$error":"#N/A"},{"$f":"IF(AM7=$AM$5,AQ7+1.5,IF(AM6=\"\",\"\",AQ7+1.5))","v":{"$error":"#N/A"}},{"$f":"IF(AM7=$AM$5,AQ7-1,IF(AN6=\"\",\"\",AQ7-1))","v":{"$error":"#N/A"}},{"$f":"IF(AM7=AM6,AQ6,VLOOKUP(AM7,graph,2,FALSE))","v":{"$error":"#N/A"}}]
[null,"",null,null,{"$error":"#N/A"},null,null,null,"","",null,8,10,6,"",0,0,4,"",{"$f":"IF(AND(Y8=\"\",Z8=\"\"),0,COUNT(V$6:$V8))","v":0},"","",{"$f":"COUNT(V$5:V8)","v":0},0,"","","",{"$f":"VLOOKUP(3,count,2,FALSE)","v":{"$error":"#N/A"}},{"$f":"VLOOKUP(AB8,time,6,FALSE)","v":{"$error":"#N/A"}},{"$error":"#N/A"},{"$f":"AVERAGE(AC7:AC8)","v":{"$error":"#N/A"}},{"$f":"AE8-6","v":{"$error":"#N/A"}},null,{"$f":"AB7","v":{"$error":"#N/A"}},{"$f":"MROUND(AC6,0.5)","v":{"$error":"#N/A"}},{"$f":"IF($AI8=\"\",#N/A,($AI8+1.5))","v":{"$error":"#N/A"}},{"$f":"IF($AI8=\"\",#N/A,($AI8-1))","v":{"$error":"#N/A"}},null,{"$error":"#N/A"},{"$error":"#N/A"},{"$error":"#N/A"},{"$error":"#N/A"},{"$error":"#N/A"}]
[null,"",null,null,{"$error":"#N/A"},null,null,null,"","",null,8,10,6,"",0,0,5,"",{"$f":"IF(AND(Y9=\"\",Z9=\"\"),0,COUNT(V$6:$V9))","v":0},"","",{"$f":"COUNT(V$5:V9)","v":0},0,"","","",{"$f":"VLOOKUP(4,count,2,FALSE)","v":{"$error":"#N/A"}},{"$f":"VLOOKUP(AB9,time,6,FALSE)","v":{"$error":"#N/A"}},{"$error":"#N/A"},{"$error":"#N/A"},{"$f":"AE9-6","v":{"$error":"#N/A"}},null,{"$error":"#N/A"},{"$f":"MROUND(AC6,0.5)","v":{"$error":"#N/A"}},{"$error":"#N/A"},{"$error":"#N/A"},null,{"$error":"#N/A"},{"$error":"#N/A"},{"$error":"#N/A"},{"$error":"#N/A"},{"$error":"#N/A"}]
[null,"",null,null,{"$error":"#N/A"},null,null,null,"","",null,8,10,6,"",0,0,6,"",{"$f":"IF(AND(Y10=\"\",Z10=\"\"),0,COUNT(V$6:$V10))","v":0},"","",{"$f":"COUNT(V$5:V10)","v":0},{"$f":"IF(W9>=2,\"\",W9)","v":0},"","","",{"$f":"VLOOKUP(5,count,2,FALSE)","v":{"$error":"#N/A"}},{"$error":"#N/A"},{"$error":"#N/A"},{"$error":"#N/A"},{"$error":"#N/A"},null,{"$error":"#N/A"},{"$f":"IF(ABS(AE8-AC6)>0.5,MROUND(AE8,0.5),AI9)","v":{"$error":"#N/A"}},{"$error":"#N/A"},{"$error":"#N/A"},null,{"$error":"#N/A"},{"$error":"#N/A"},{"$error":"#N/A"},{"$error":"#N/A"},{"$error":"#N/A"}]
[null,"",null,null,{"$error":"#N/A"},null,null,null,"","",null,8,10,6,"",0,0,7,"",{"$f":"IF(AND(Y11=\"\",Z11=\"\"),0,COUNT(V$6:$V11))","v":0},"","",{"$f":"COUNT(V$5:V11)","v":0},0,"",{"$f":"IF(S11=\"\",\"\",IF(AND(X11=\"\",S11>0),S11+6,\"\"))","v":""},"",{"$f":"VLOOKUP(6,count,2,FALSE)","v":{"$error":"#N/A"}},{"$error":"#N/A"},{"$error":"#N/A"},{"$error":"#N/A"},{"$error":"#N/A"},null,{"$error":"#N/A"},{"$f":"IF(ABS(AE9-AE8)>0.5,MROUND(AE9,0.5),AI10)","v":{"$error":"#N/A"}},{"$error":"#N/A"},{"$error":"#N/A"},null,{"$error":"#N/A"},{"$error":"#N/A"},{"$error":"#N/A"},{"$f":"IF(AM11=$AM$5,AQ11-1,IF(AN10=\"\",\"\",AQ11-1))","v":{"$error":"#N/A"}},{"$error":"#N/A"}]
[null,"",null,null,{"$error":"#N/A"},null,null,null,"","",null,8,10,6,"",0,0,8,"",{"$f":"IF(AND(Y12=\"\",Z12=\"\"),0,COUNT(V$6:$V12))","v":0},"","",{"$f":"COUNT(V$5:V12)","v":0},0,"","","",{"$f":"VLOOKUP(7,count,2,FALSE)","v":{"$error":"#N/A"}},{"$error":"#N/A"},{"$error":"#N/A"},{"$error":"#N/A"},{"$error":"#N/A"},null,{"$error":"#N/A"},{"$error":"#N/A"},{"$error":"#N/A"},{"$error":"#N/A"},null,{"$error":"#N/A"},{"$error":"#N/A"},{"$error":"#N/A"},{"$error":"#N/A"},{"$error":"#N/A"}]
[null,"",null,null,{"$error":"#N/A"},null,null,null,"","",null,8,10,6,"",0,0,9,"",{"$f":"IF(AND(Y13=\"\",Z13=\"\"),0,COUNT(V$6:$V13))","v":0},"","",{"$f":"COUNT(V$5:V13)","v":0},0,"","","",{"$f":"VLOOKUP(8,count,2,FALSE)","v":{"$error":"#N/A"}},{"$error":"#N/A"},{"$error":"#N/A"},{"$error":"#N/A"},{"$error":"#N/A"},null,{"$error":"#N/A"},{"$error":"#N/A"},{"$error":"#N/A"},{"$error":"#N/A"},null,{"$error":"#N/A"},{"$error":"#N/A"},{"$error":"#N/A"},{"$error":"#N/A"},{"$error":"#N/A"}]
[null,"",null,null,{"$error":"#N/A"},null,null,null,"","",null,8,10,6,"",0,0,10,"",{"$f":"IF(AND(Y14=\"\",Z14=\"\"),0,COUNT(V$6:$V14))","v":0},"","",{"$f":"COUNT(V$5:V14)","v":0},0,"","","",{"$f":"VLOOKUP(9,count,2,FALSE)","v":{"$error":"#N/A"}},{"$error":"#N/A"},{"$error":"#N/A"},{"$error":"#N/A"},{"$error":"#N/A"},null,{"$error":"#N/A"},{"$error":"#N/A"},{"$error":"#N/A"},{"$error":"#N/A"},null,{"$error":"#N/A"},{"$error":"#N/A"},{"$error":"#N/A"},{"$error":"#N/A"},{"$error":"#N/A"}]
[null,"",null,null,{"$error":"#N/A"},null,null,null,"","",null,8,10,6,"",0,0,11,"",{"$f":"IF(AND(Y15=\"\",Z15=\"\"),0,COUNT(V$6:$V15))","v":0},"","",{"$f":"COUNT(V$5:V15)","v":0},0,"","","",{"$f":"VLOOKUP(10,count,2,FALSE)","v":{"$error":"#N/A"}},{"$error":"#N/A"},{"$error":"#N/A"},{"$error":"#N/A"},{"$error":"#N/A"},null,{"$error":"#N/A"},{"$error":"#N/A"},{"$error":"#N/A"},{"$error":"#N/A"},null,{"$error":"#N/A"},{"$error":"#N/A"},{"$error":"#N/A"},{"$error":"#N/A"},{"$error":"#N/A"}]
[null,"",null,null,{"$error":"#N/A"},null,null,null,"","",null,8,10,6,"",0,0,12,"",{"$f":"IF(AND(Y16=\"\",Z16=\"\"),0,COUNT(V$6:$V16))","v":0},"","",{"$f":"COUNT(V$5:V16)","v":0},0,"","","",{"$f":"VLOOKUP(11,count,2,FALSE)","v":{"$error":"#N/A"}},{"$error":"#N/A"},{"$error":"#N/A"},{"$error":"#N/A"},{"$error":"#N/A"},null,{"$error":"#N/A"},{"$error":"#N/A"},{"$error":"#N/A"},{"$error":"#N/A"},null,{"$error":"#N/A"},{"$error":"#N/A"},{"$error":"#N/A"},{"$error":"#N/A"},{"$error":"#N/A"}]
[null,"",null,null,{"$error":"#N/A"},null,null,null,"","",null,8,10,6,"",0,0,13,"",{"$f":"IF(AND(Y17=\"\",Z17=\"\"),0,COUNT(V$6:$V17))","v":0},"","",{"$f":"COUNT(V$5:V17)","v":0},0,"","","",{"$f":"VLOOKUP(12,count,2,FALSE)","v":{"$error":"#N/A"}},{"$error":"#N/A"},{"$error":"#N/A"},{"$error":"#N/A"},{"$error":"#N/A"},null,{"$error":"#N/A"},{"$error":"#N/A"},{"$error":"#N/A"},{"$error":"#N/A"},null,{"$error":"#N/A"},{"$error":"#N/A"},{"$error":"#N/A"},{"$error":"#N/A"},{"$error":"#N/A"}]
[null,"",null,null,{"$error":"#N/A"},null,null,null,"","",null,8,10,6,"",0,0,14,"",{"$f":"IF(AND(Y18=\"\",Z18=\"\"),0,COUNT(V$6:$V18))","v":0},"","",{"$f":"COUNT(V$5:V18)","v":0},0,"","","",{"$f":"VLOOKUP(13,count,2,FALSE)","v":{"$error":"#N/A"}},{"$error":"#N/A"},{"$error":"#N/A"},{"$error":"#N/A"},{"$error":"#N/A"},null,{"$error":"#N/A"},{"$error":"#N/A"},{"$error":"#N/A"},{"$error":"#N/A"},null,{"$error":"#N/A"},{"$error":"#N/A"},{"$error":"#N/A"},{"$error":"#N/A"},{"$error":"#N/A"}]
[null,"",null,null,{"$error":"#N/A"},null,null,null,"","",null,8,10,6,"",0,0,15,"",{"$f":"IF(AND(Y19=\"\",Z19=\"\"),0,COUNT(V$6:$V19))","v":0},"","",{"$f":"COUNT(V$5:V19)","v":0},0,"","","",{"$f":"VLOOKUP(14,count,2,FALSE)","v":{"$error":"#N/A"}},{"$error":"#N/A"},{"$error":"#N/A"},{"$error":"#N/A"},{"$error":"#N/A"},null,{"$error":"#N/A"},{"$error":"#N/A"},{"$error":"#N/A"},{"$error":"#N/A"},null,{"$error":"#N/A"},{"$error":"#N/A"},{"$error":"#N/A"},{"$error":"#N/A"},{"$error":"#N/A"}]
[null,"",null,null,{"$error":"#N/A"},null,null,null,"","",null,8,10,6,"",0,0,16,"",{"$f":"IF(AND(Y20=\"\",Z20=\"\"),0,COUNT(V$6:$V20))","v":0},"","",{"$f":"COUNT(V$5:V20)","v":0},0,"","","",{"$f":"VLOOKUP(15,count,2,FALSE)","v":{"$error":"#N/A"}},{"$error":"#N/A"},{"$error":"#N/A"},{"$error":"#N/A"},{"$error":"#N/A"},null,{"$error":"#N/A"},{"$error":"#N/A"},{"$error":"#N/A"},{"$error":"#N/A"},null,{"$error":"#N/A"},{"$error":"#N/A"},{"$error":"#N/A"},{"$error":"#N/A"},{"$error":"#N/A"}]
[null,"",null,null,{"$error":"#N/A"},null,null,null,"","",null,8,10,6,"",0,0,17,"",{"$f":"IF(AND(Y21=\"\",Z21=\"\"),0,COUNT(V$6:$V21))","v":0},"","",{"$f":"COUNT(V$5:V21)","v":0},0,"","","",{"$f":"VLOOKUP(16,count,2,FALSE)","v":{"$error":"#N/A"}},{"$error":"#N/A"},{"$error":"#N/A"},{"$error":"#N/A"},{"$error":"#N/A"},null,{"$error":"#N/A"},{"$error":"#N/A"},{"$error":"#N/A"},{"$error":"#N/A"},null,{"$error":"#N/A"},{"$error":"#N/A"},{"$error":"#N/A"},{"$error":"#N/A"},{"$error":"#N/A"}]
[null,"",null,null,{"$error":"#N/A"},null,null,null,"","",null,8,10,6,"",0,0,18,"",{"$f":"IF(AND(Y22=\"\",Z22=\"\"),0,COUNT(V$6:$V22))","v":0},"","",{"$f":"COUNT(V$5:V22)","v":0},0,"","","",{"$f":"VLOOKUP(17,count,2,FALSE)","v":{"$error":"#N/A"}},{"$error":"#N/A"},{"$error":"#N/A"},{"$error":"#N/A"},{"$error":"#N/A"},null,{"$error":"#N/A"},{"$error":"#N/A"},{"$error":"#N/A"},{"$error":"#N/A"},null,{"$error":"#N/A"},{"$error":"#N/A"},{"$error":"#N/A"},{"$error":"#N/A"},{"$error":"#N/A"}]
[null,"",null,null,{"$error":"#N/A"},null,null,null,"","",null,8,10,6,"",0,0,19,"",{"$f":"IF(AND(Y23=\"\",Z23=\"\"),0,COUNT(V$6:$V23))","v":0},"","",{"$f":"COUNT(V$5:V23)","v":0},0,"","","",{"$f":"VLOOKUP(18,count,2,FALSE)","v":{"$error":"#N/A"}},{"$error":"#N/A"},{"$error":"#N/A"},{"$error":"#N/A"},{"$error":"#N/A"},null,{"$error":"#N/A"},{"$error":"#N/A"},{"$error":"#N/A"},{"$error":"#N/A"},null,{"$error":"#N/A"},{"$error":"#N/A"},{"$error":"#N/A"},{"$error":"#N/A"},{"$error":"#N/A"}]
[null,"",null,null,{"$error":"#N/A"},null,null,null,"","",null,8,10,6,"",0,0,20,"",{"$f":"IF(AND(Y24=\"\",Z24=\"\"),0,COUNT(V$6:$V24))","v":0},"","",{"$f":"COUNT(V$5:V24)","v":0},0,"","","",{"$f":"VLOOKUP(19,count,2,FALSE)","v":{"$error":"#N/A"}},{"$error":"#N/A"},{"$error":"#N/A"},{"$error":"#N/A"},{"$error":"#N/A"},null,{"$error":"#N/A"},{"$error":"#N/A"},{"$error":"#N/A"},{"$error":"#N/A"},null,{"$error":"#N/A"},{"$error":"#N/A"},{"$error":"#N/A"},{"$error":"#N/A"},{"$error":"#N/A"}]
[null,"",null,null,{"$error":"#N/A"},null,null,null,"","",null,8,10,6,"",0,0,21,"",{"$f":"IF(AND(Y25=\"\",Z25=\"\"),0,COUNT(V$6:$V25))","v":0},"","",{"$f":"COUNT(V$5:V25)","v":0},0,"","","",{"$f":"VLOOKUP(20,count,2,FALSE)","v":{"$error":"#N/A"}},{"$error":"#N/A"},{"$error":"#N/A"},{"$error":"#N/A"},{"$error":"#N/A"},null,{"$error":"#N/A"},{"$error":"#N/A"},{"$error":"#N/A"},{"$error":"#N/A"},null,{"$error":"#N/A"},{"$error":"#N/A"},{"$error":"#N/A"},{"$error":"#N/A"},{"$error":"#N/A"}]
[null,"",null,null,{"$error":"#N/A"},null,null,null,"","",null,8,10,6,"",0,0,22,"",{"$f":"IF(AND(Y26=\"\",Z26=\"\"),0,COUNT(V$6:$V26))","v":0},"","",{"$f":"COUNT(V$5:V26)","v":0},0,"","","",{"$f":"VLOOKUP(21,count,2,FALSE)","v":{"$error":"#N/A"}},{"$error":"#N/A"},{"$error":"#N/A"},{"$error":"#N/A"},{"$error":"#N/A"},null,{"$error":"#N/A"},{"$error":"#N/A"},{"$error":"#N/A"},{"$error":"#N/A"},null,{"$error":"#N/A"},{"$error":"#N/A"},{"$error":"#N/A"},{"$error":"#N/A"},{"$error":"#N/A"}]
[null,"",null,null,{"$error":"#N/A"},null,null,null,"","",null,8,10,6,"",0,0,23,"",{"$f":"IF(AND(Y27=\"\",Z27=\"\"),0,COUNT(V$6:$V27))","v":0},"","",{"$f":"COUNT(V$5:V27)","v":0},0,"","","",{"$f":"VLOOKUP(22,count,2,FALSE)","v":{"$error":"#N/A"}},{"$error":"#N/A"},{"$error":"#N/A"},{"$error":"#N/A"},{"$error":"#N/A"},null,{"$error":"#N/A"},{"$error":"#N/A"},{"$error":"#N/A"},{"$error":"#N/A"},null,{"$error":"#N/A"},{"$error":"#N/A"},{"$error":"#N/A"},{"$error":"#N/A"},{"$error":"#N/A"}]
[null,"",null,null,{"$error":"#N/A"},null,null,null,"","",null,8,10,6,"",0,0,24,"",{"$f":"IF(AND(Y28=\"\",Z28=\"\"),0,COUNT(V$6:$V28))","v":0},"","",{"$f":"COUNT(V$5:V28)","v":0},0,"","","",{"$f":"VLOOKUP(23,count,2,FALSE)","v":{"$error":"#N/A"}},{"$error":"#N/A"},{"$error":"#N/A"},{"$error":"#N/A"},{"$error":"#N/A"},null,{"$error":"#N/A"},{"$error":"#N/A"},{"$error":"#N/A"},{"$error":"#N/A"},null,{"$error":"#N/A"},{"$error":"#N/A"},{"$error":"#N/A"},{"$error":"#N/A"},{"$error":"#N/A"}]
[null,"",null,null,{"$error":"#N/A"},null,null,null,"","",null,8,10,6,"",0,0,25,"",{"$f":"IF(AND(Y29=\"\",Z29=\"\"),0,COUNT(V$6:$V29))","v":0},"","",{"$f":"COUNT(V$5:V29)","v":0},0,"","","",{"$f":"VLOOKUP(24,count,2,FALSE)","v":{"$error":"#N/A"}},{"$error":"#N/A"},{"$error":"#N/A"},{"$error":"#N/A"},{"$error":"#N/A"},null,{"$error":"#N/A"},{"$error":"#N/A"},{"$error":"#N/A"},{"$error":"#N/A"},null,{"$error":"#N/A"},{"$error":"#N/A"},{"$error":"#N/A"},{"$error":"#N/A"},{"$error":"#N/A"}]
[null,"",null,null,{"$error":"#N/A"},null,null,null,"","",null,8,10,6,"",0,0,26,"",{"$f":"IF(AND(Y30=\"\",Z30=\"\"),0,COUNT(V$6:$V30))","v":0},"","",{"$f":"COUNT(V$5:V30)","v":0},0,"","","",{"$f":"VLOOKUP(25,count,2,FALSE)","v":{"$error":"#N/A"}},{"$error":"#N/A"},{"$error":"#N/A"},{"$error":"#N/A"},{"$error":"#N/A"},null,{"$error":"#N/A"},{"$error":"#N/A"},{"$error":"#N/A"},{"$error":"#N/A"},null,{"$error":"#N/A"},{"$error":"#N/A"},{"$error":"#N/A"},{"$error":"#N/A"},{"$error":"#N/A"}]
[null,"",null,null,{"$error":"#N/A"},null,null,null,"","",null,8,10,6,"",0,0,27,"",{"$f":"IF(AND(Y31=\"\",Z31=\"\"),0,COUNT(V$6:$V31))","v":0},"","",{"$f":"COUNT(V$5:V31)","v":0},0,"","","",{"$f":"VLOOKUP(26,count,2,FALSE)","v":{"$error":"#N/A"}},{"$error":"#N/A"},{"$error":"#N/A"},{"$error":"#N/A"},{"$error":"#N/A"},null,{"$error":"#N/A"},{"$error":"#N/A"},{"$error":"#N/A"},{"$error":"#N/A"},null,{"$error":"#N/A"},{"$error":"#N/A"},{"$error":"#N/A"},{"$error":"#N/A"},{"$error":"#N/A"}]
[null,"",null,null,{"$error":"#N/A"},null,null,null,"","",null,8,10,6,"",0,0,28,"",{"$f":"IF(AND(Y32=\"\",Z32=\"\"),0,COUNT(V$6:$V32))","v":0},"","",{"$f":"COUNT(V$5:V32)","v":0},0,"","","",{"$f":"VLOOKUP(27,count,2,FALSE)","v":{"$error":"#N/A"}},{"$error":"#N/A"},{"$error":"#N/A"},{"$error":"#N/A"},{"$error":"#N/A"},null,{"$error":"#N/A"},{"$error":"#N/A"},{"$error":"#N/A"},{"$error":"#N/A"},null,{"$error":"#N/A"},{"$error":"#N/A"},{"$error":"#N/A"},{"$error":"#N/A"},{"$error":"#N/A"}]
[null,"",null,null,{"$error":"#N/A"},null,null,null,"","",null,8,10,6,"",0,0,29,"",{"$f":"IF(AND(Y33=\"\",Z33=\"\"),0,COUNT(V$6:$V33))","v":0},"","",{"$f":"COUNT(V$5:V33)","v":0},0,"","","",{"$f":"VLOOKUP(28,count,2,FALSE)","v":{"$error":"#N/A"}},{"$error":"#N/A"},{"$error":"#N/A"},{"$error":"#N/A"},{"$error":"#N/A"},null,{"$error":"#N/A"},{"$error":"#N/A"},{"$error":"#N/A"},{"$error":"#N/A"},null,{"$error":"#N/A"},{"$error":"#N/A"},{"$error":"#N/A"},{"$error":"#N/A"},{"$error":"#N/A"}]
[null,"",null,null,{"$error":"#N/A"},null,null,null,"","",null,8,10,6,"",0,0,30,"",{"$f":"IF(AND(Y34=\"\",Z34=\"\"),0,COUNT(V$6:$V34))","v":0},"","",{"$f":"COUNT(V$5:V34)","v":0},0,"","","",{"$f":"VLOOKUP(29,count,2,FALSE)","v":{"$error":"#N/A"}},{"$error":"#N/A"},{"$error":"#N/A"},{"$error":"#N/A"},{"$error":"#N/A"},null,{"$error":"#N/A"},{"$error":"#N/A"},{"$error":"#N/A"},{"$error":"#N/A"},null,{"$error":"#N/A"},{"$error":"#N/A"},{"$error":"#N/A"},{"$error":"#N/A"},{"$error":"#N/A"}]
[null,"",null,null,{"$error":"#N/A"},null,null,null,"","",null,8,10,6,"",0,0,31,"",{"$f":"IF(AND(Y35=\"\",Z35=\"\"),0,COUNT(V$6:$V35))","v":0},"","",{"$f":"COUNT(V$5:V35)","v":0},0,"","","",{"$f":"VLOOKUP(30,count,2,FALSE)","v":{"$error":"#N/A"}},{"$error":"#N/A"},{"$error":"#N/A"},{"$error":"#N/A"},{"$error":"#N/A"},null,{"$error":"#N/A"},{"$error":"#N/A"},{"$error":"#N/A"},{"$error":"#N/A"},null,{"$error":"#N/A"},{"$error":"#N/A"},{"$error":"#N/A"},{"$error":"#N/A"},{"$error":"#N/A"}]
[null,"",null,null,{"$error":"#N/A"},null,null,null,"","",null,8,10,6,"",0,0,32,"",{"$f":"IF(AND(Y36=\"\",Z36=\"\"),0,COUNT(V$6:$V36))","v":0},"","",{"$f":"COUNT(V$5:V36)","v":0},0,"","","",{"$f":"VLOOKUP(31,count,2,FALSE)","v":{"$error":"#N/A"}},{"$error":"#N/A"},{"$error":"#N/A"},{"$error":"#N/A"},{"$error":"#N/A"},null,{"$error":"#N/A"},{"$error":"#N/A"},{"$error":"#N/A"},{"$error":"#N/A"},null,{"$error":"#N/A"},{"$error":"#N/A"},{"$error":"#N/A"},{"$error":"#N/A"},{"$error":"#N/A"}]
[null,"",null,null,{"$error":"#N/A"},null,null,null,{"$f":"IF(H37=\"\",\"\",(G37-H37))","v":""},{"$f":"IF(A37=\"\",\"\",IF(AND(G37>1,H37>0),MROUND((6.5+I37),0.5),IF(AND(A37<>\"\",H37=\"\"),J36)))","v":""},null,8,10,6,{"$f":"I37","v":""},{"$f":"IF(AND(H37=\"\",A36=A37),P36,IF(AND(A36=A37,H37>1),O37+P36,IF(H37=\"\",0,IF(H37>0,O37))))","v":0},{"$f":"IF(AND(A37=A36,H37>1),Q36+1,IF(AND(H37=\"\",A37=A36),Q36,IF(AND(H37=\"\",P37=0),0,1)))","v":0},{"$f":"IF(A37=A36,R36+1,1)","v":33},"",{"$f":"IF(AND(Y37=\"\",Z37=\"\"),0,COUNT(V$6:$V37))","v":0},"","",{"$f":"COUNT(V$5:V37)","v":0},0,"","","",{"$f":"VLOOKUP(32,count,2,FALSE)","v":{"$error":"#N/A"}},{"$error":"#N/A"},{"$error":"#N/A"},{"$error":"#N/A"},{"$error":"#N/A"},null,{"$error":"#N/A"},{"$error":"#N/A"},{"$error":"#N/A"},{"$error":"#N/A"},null,{"$error":"#N/A"},{"$f":"IF(AM37=\"\",\"\",G37)","v":{"$error":"#N/A"}},{"$error":"#N/A"},{"$error":"#N/A"},{"$error":"#N/A"}]
[null,"",null,null,{"$error":"#N/A"},null,null,null,"","",null,8,10,6,"",0,0,34,"",{"$f":"IF(AND(Y38=\"\",Z38=\"\"),0,COUNT(V$6:$V38))","v":0},{"$f":"IF(AND(Y38=\"\",Z38=\"\"),\"\",A38)","v":""},"",{"$f":"COUNT(V$5:V38)","v":0},0,{"$f":"IF(X38<X39,S38+6,\"\")","v":""},{"$f":"IF(S38=\"\",\"\",IF(AND(X38=\"\",S38>0),S38+6,\"\"))","v":""},{"$f":"IF(Z38=\"\",\"\",ABS($AI$6-Z38))","v":""},{"$f":"VLOOKUP(33,count,2,FALSE)","v":{"$error":"#N/A"}},{"$error":"#N/A"},{"$error":"#N/A"},{"$error":"#N/A"},{"$error":"#N/A"},null,{"$error":"#N/A"},{"$error":"#N/A"},{"$error":"#N/A"},{"$error":"#N/A"},null,{"$error":"#N/A"},{"$error":"#N/A"},{"$error":"#N/A"},{"$error":"#N/A"},{"$error":"#N/A"}]
[null,"",null,null,{"$error":"#N/A"},null,null,null,"","",null,8,10,6,"",0,0,35,"",{"$f":"IF(AND(Y39=\"\",Z39=\"\"),0,COUNT(V$6:$V39))","v":0},"","",{"$f":"COUNT(V$5:V39)","v":0},0,"","","",{"$f":"VLOOKUP(34,count,2,FALSE)","v":{"$error":"#N/A"}},{"$error":"#N/A"},{"$error":"#N/A"},{"$error":"#N/A"},{"$error":"#N/A"},null,{"$f":"AB38","v":{"$error":"#N/A"}},{"$error":"#N/A"},{"$f":"IF($AI39=\"\",#N/A,($AI39+1.5))","v":{"$error":"#N/A"}},{"$f":"IF($AI39=\"\",#N/A,($AI39-1))","v":{"$error":"#N/A"}},null,{"$error":"#N/A"},{"$error":"#N/A"},{"$error":"#N/A"},{"$error":"#N/A"},{"$error":"#N/A"}]
[null,"",null,null,{"$error":"#N/A"},null,null,null,"","",null,8,10,6,"",0,0,36,"",{"$f":"IF(AND(Y40=\"\",Z40=\"\"),0,COUNT(V$6:$V40))","v":0},"","",{"$f":"COUNT(V$5:V40)","v":0},0,"","","",{"$f":"VLOOKUP(35,count,2,FALSE)","v":{"$error":"#N/A"}},{"$error":"#N/A"},{"$error":"#N/A"},{"$f":"AVERAGE(AC39:AC40)","v":{"$error":"#N/A"}},{"$error":"#N/A"},null,{"$error":"#N/A"},{"$error":"#N/A"},{"$error":"#N/A"},{"$error":"#N/A"},null,{"$error":"#N/A"},{"$error":"#N/A"},{"$error":"#N/A"},{"$error":"#N/A"},{"$error":"#N/A"}]
[null,"",null,null,{"$error":"#N/A"},null,null,null,"","",null,8,10,6,"",0,0,37,"",{"$f":"IF(AND(Y41=\"\",Z41=\"\"),0,COUNT(V$6:$V41))","v":0},"","",{"$f":"COUNT(V$5:V41)","v":0},0,"","","",{"$f":"VLOOKUP(36,count,2,FALSE)","v":{"$error":"#N/A"}},{"$error":"#N/A"},{"$error":"#N/A"},{"$error":"#N/A"},{"$error":"#N/A"},null,{"$error":"#N/A"},{"$error":"#N/A"},{"$error":"#N/A"},{"$error":"#N/A"},null,{"$error":"#N/A"},{"$error":"#N/A"},{"$error":"#N/A"},{"$error":"#N/A"},{"$error":"#N/A"}]
[null,"",null,null,{"$error":"#N/A"},null,null,null,"","",null,8,10,6,"",0,0,38,"",{"$f":"IF(AND(Y42=\"\",Z42=\"\"),0,COUNT(V$6:$V42))","v":0},"","",{"$f":"COUNT(V$5:V42)","v":0},0,"","","",{"$f":"VLOOKUP(37,count,2,FALSE)","v":{"$error":"#N/A"}},{"$error":"#N/A"},{"$error":"#N/A"},{"$error":"#N/A"},{"$error":"#N/A"},null,{"$error":"#N/A"},{"$error":"#N/A"},{"$error":"#N/A"},{"$error":"#N/A"},null,{"$error":"#N/A"},{"$error":"#N/A"},{"$error":"#N/A"},{"$error":"#N/A"},{"$error":"#N/A"}]
[null,"",null,null,{"$error":"#N/A"},null,null,null,"","",null,8,10,6,"",0,0,39,"",{"$f":"IF(AND(Y43=\"\",Z43=\"\"),0,COUNT(V$6:$V43))","v":0},"","",{"$f":"COUNT(V$5:V43)","v":0},0,"","","",{"$f":"VLOOKUP(38,count,2,FALSE)","v":{"$error":"#N/A"}},{"$error":"#N/A"},{"$error":"#N/A"},{"$error":"#N/A"},{"$error":"#N/A"},null,{"$error":"#N/A"},{"$error":"#N/A"},{"$error":"#N/A"},{"$error":"#N/A"},null,{"$error":"#N/A"},{"$error":"#N/A"},{"$error":"#N/A"},{"$error":"#N/A"},{"$error":"#N/A"}]
[null,"",null,null,{"$error":"#N/A"},null,null,null,"","",null,8,10,6,"",0,0,40,"",{"$f":"IF(AND(Y44=\"\",Z44=\"\"),0,COUNT(V$6:$V44))","v":0},"","",{"$f":"COUNT(V$5:V44)","v":0},0,"","","",{"$f":"VLOOKUP(39,count,2,FALSE)","v":{"$error":"#N/A"}},{"$error":"#N/A"},{"$error":"#N/A"},{"$error":"#N/A"},{"$error":"#N/A"},null,{"$error":"#N/A"},{"$error":"#N/A"},{"$error":"#N/A"},{"$error":"#N/A"},null,{"$error":"#N/A"},{"$error":"#N/A"},{"$error":"#N/A"},{"$error":"#N/A"},{"$error":"#N/A"}]
[null,"",null,null,{"$error":"#N/A"},null,null,null,"","",null,8,10,6,"",0,0,41,"",{"$f":"IF(AND(Y45=\"\",Z45=\"\"),0,COUNT(V$6:$V45))","v":0},"","",{"$f":"COUNT(V$5:V45)","v":0},0,"","","",{"$f":"VLOOKUP(40,count,2,FALSE)","v":{"$error":"#N/A"}},{"$error":"#N/A"},{"$error":"#N/A"},{"$error":"#N/A"},{"$error":"#N/A"},null,{"$error":"#N/A"},{"$error":"#N/A"},{"$error":"#N/A"},{"$error":"#N/A"},null,{"$error":"#N/A"},{"$error":"#N/A"},{"$error":"#N/A"},{"$error":"#N/A"},{"$error":"#N/A"}]
[null,"",null,null,{"$error":"#N/A"},null,null,null,"","",null,8,10,6,"",0,0,42,"",{"$f":"IF(AND(Y46=\"\",Z46=\"\"),0,COUNT(V$6:$V46))","v":0},"","",{"$f":"COUNT(V$5:V46)","v":0},0,"","","",{"$f":"VLOOKUP(41,count,2,FALSE)","v":{"$error":"#N/A"}},{"$error":"#N/A"},{"$error":"#N/A"},{"$error":"#N/A"},{"$error":"#N/A"},null,{"$error":"#N/A"},{"$error":"#N/A"},{"$error":"#N/A"},{"$error":"#N/A"},null,{"$error":"#N/A"},{"$error":"#N/A"},{"$error":"#N/A"},{"$error":"#N/A"},{"$error":"#N/A"}]
[null,"",null,null,{"$error":"#N/A"},null,null,null,"","",null,8,10,6,"",0,0,43,"",{"$f":"IF(AND(Y47=\"\",Z47=\"\"),0,COUNT(V$6:$V47))","v":0},"","",{"$f":"COUNT(V$5:V47)","v":0},0,"","","",{"$f":"VLOOKUP(42,count,2,FALSE)","v":{"$error":"#N/A"}},{"$error":"#N/A"},{"$error":"#N/A"},{"$error":"#N/A"},{"$error":"#N/A"},null,{"$error":"#N/A"},{"$error":"#N/A"},{"$error":"#N/A"},{"$error":"#N/A"},null,{"$error":"#N/A"},{"$error":"#N/A"},{"$error":"#N/A"},{"$error":"#N/A"},{"$error":"#N/A"}]
[null,"",null,null,{"$error":"#N/A"},null,null,null,"","",null,8,10,6,"",0,0,44,"",{"$f":"IF(AND(Y48=\"\",Z48=\"\"),0,COUNT(V$6:$V48))","v":0},"","",{"$f":"COUNT(V$5:V48)","v":0},0,"","","",{"$f":"VLOOKUP(43,count,2,FALSE)","v":{"$error":"#N/A"}},{"$error":"#N/A"},{"$error":"#N/A"},{"$error":"#N/A"},{"$error":"#N/A"},null,{"$error":"#N/A"},{"$error":"#N/A"},{"$error":"#N/A"},{"$error":"#N/A"},null,{"$error":"#N/A"},{"$error":"#N/A"},{"$error":"#N/A"},{"$error":"#N/A"},{"$error":"#N/A"}]
[null,"",null,null,{"$error":"#N/A"},null,null,null,"","",null,8,10,6,"",0,0,45,"",{"$f":"IF(AND(Y49=\"\",Z49=\"\"),0,COUNT(V$6:$V49))","v":0},"","",{"$f":"COUNT(V$5:V49)","v":0},0,"","","",{"$f":"VLOOKUP(44,count,2,FALSE)","v":{"$error":"#N/A"}},{"$error":"#N/A"},{"$error":"#N/A"},{"$error":"#N/A"},{"$error":"#N/A"},null,{"$error":"#N/A"},{"$error":"#N/A"},{"$error":"#N/A"},{"$error":"#N/A"},null,{"$error":"#N/A"},{"$error":"#N/A"},{"$error":"#N/A"},{"$error":"#N/A"},{"$error":"#N/A"}]
[null,"",null,null,{"$error":"#N/A"},null,null,null,"","",null,8,10,6,"",0,0,46,"",{"$f":"IF(AND(Y50=\"\",Z50=\"\"),0,COUNT(V$6:$V50))","v":0},"","",{"$f":"COUNT(V$5:V50)","v":0},0,"","","",{"$f":"VLOOKUP(45,count,2,FALSE)","v":{"$error":"#N/A"}},{"$error":"#N/A"},{"$error":"#N/A"},{"$error":"#N/A"},{"$error":"#N/A"},null,{"$error":"#N/A"},{"$error":"#N/A"},{"$error":"#N/A"},{"$error":"#N/A"},null,{"$error":"#N/A"},{"$error":"#N/A"},{"$error":"#N/A"},{"$error":"#N/A"},{"$error":"#N/A"}]
[null,"",null,null,{"$error":"#N/A"},null,null,null,"","",null,8,10,6,"",0,0,47,"",{"$f":"IF(AND(Y51=\"\",Z51=\"\"),0,COUNT(V$6:$V51))","v":0},"","",{"$f":"COUNT(V$5:V51)","v":0},0,"","","",{"$f":"VLOOKUP(46,count,2,FALSE)","v":{"$error":"#N/A"}},{"$error":"#N/A"},{"$error":"#N/A"},{"$error":"#N/A"},{"$error":"#N/A"},null,{"$error":"#N/A"},{"$error":"#N/A"},{"$error":"#N/A"},{"$error":"#N/A"},null,{"$error":"#N/A"},{"$error":"#N/A"},{"$error":"#N/A"},{"$error":"#N/A"},{"$error":"#N/A"}]
[null,"",null,null,{"$error":"#N/A"},null,null,null,"","",null,8,10,6,"",0,0,48,"",{"$f":"IF(AND(Y52=\"\",Z52=\"\"),0,COUNT(V$6:$V52))","v":0},"","",{"$f":"COUNT(V$5:V52)","v":0},0,"","","",{"$f":"VLOOKUP(47,count,2,FALSE)","v":{"$error":"#N/A"}},{"$error":"#N/A"},{"$error":"#N/A"},{"$error":"#N/A"},{"$error":"#N/A"},null,{"$error":"#N/A"},{"$error":"#N/A"},{"$error":"#N/A"},{"$error":"#N/A"},null,{"$error":"#N/A"},{"$error":"#N/A"},{"$error":"#N/A"},{"$error":"#N/A"},{"$error":"#N/A"}]
[null,"",null,null,{"$error":"#N/A"},null,null,null,"","",null,8,10,6,"",0,0,49,"",{"$f":"IF(AND(Y53=\"\",Z53=\"\"),0,COUNT(V$6:$V53))","v":0},"","",{"$f":"COUNT(V$5:V53)","v":0},0,"","","",{"$f":"VLOOKUP(48,count,2,FALSE)","v":{"$error":"#N/A"}},{"$error":"#N/A"},{"$error":"#N/A"},{"$error":"#N/A"},{"$error":"#N/A"},null,{"$error":"#N/A"},{"$error":"#N/A"},{"$error":"#N/A"},{"$error":"#N/A"},null,{"$error":"#N/A"},{"$error":"#N/A"},{"$error":"#N/A"},{"$error":"#N/A"},{"$error":"#N/A"}]
[null,"",null,null,{"$error":"#N/A"},null,null,null,"","",null,8,10,6,"",0,0,50,"",{"$f":"IF(AND(Y54=\"\",Z54=\"\"),0,COUNT(V$6:$V54))","v":0},"","",{"$f":"COUNT(V$5:V54)","v":0},0,"","","",{"$f":"VLOOKUP(49,count,2,FALSE)","v":{"$error":"#N/A"}},{"$error":"#N/A"},{"$error":"#N/A"},{"$error":"#N/A"},{"$error":"#N/A"},null,{"$error":"#N/A"},{"$error":"#N/A"},{"$error":"#N/A"},{"$error":"#N/A"},null,{"$error":"#N/A"},{"$error":"#N/A"},{"$error":"#N/A"},{"$error":"#N/A"},{"$error":"#N/A"}]
[null,"",null,null,{"$error":"#N/A"},null,null,null,"","",null,8,10,6,"",0,0,51,"",{"$f":"IF(AND(Y55=\"\",Z55=\"\"),0,COUNT(V$6:$V55))","v":0},"","",{"$f":"COUNT(V$5:V55)","v":0},0,"","","",{"$f":"VLOOKUP(50,count,2,FALSE)","v":{"$error":"#N/A"}},{"$error":"#N/A"},{"$error":"#N/A"},{"$error":"#N/A"},{"$error":"#N/A"},null,{"$error":"#N/A"},{"$error":"#N/A"},{"$error":"#N/A"},{"$error":"#N/A"},null,{"$error":"#N/A"},{"$error":"#N/A"},{"$error":"#N/A"},{"$error":"#N/A"},{"$error":"#N/A"}]
[null,"",null,null,{"$error":"#N/A"},null,null,null,"","",null,8,10,6,"",0,0,52,"",{"$f":"IF(AND(Y56=\"\",Z56=\"\"),0,COUNT(V$6:$V56))","v":0},"","",{"$f":"COUNT(V$5:V56)","v":0},0,"","","",{"$f":"VLOOKUP(51,count,2,FALSE)","v":{"$error":"#N/A"}},{"$error":"#N/A"},{"$error":"#N/A"},{"$error":"#N/A"},{"$error":"#N/A"},null,{"$error":"#N/A"},{"$error":"#N/A"},{"$error":"#N/A"},{"$error":"#N/A"},null,{"$error":"#N/A"},{"$error":"#N/A"},{"$error":"#N/A"},{"$error":"#N/A"},{"$error":"#N/A"}]
[null,"",null,null,{"$error":"#N/A"},null,null,null,"","",null,8,10,6,"",0,0,53,"",{"$f":"IF(AND(Y57=\"\",Z57=\"\"),0,COUNT(V$6:$V57))","v":0},"","",{"$f":"COUNT(V$5:V57)","v":0},0,"","","",{"$f":"VLOOKUP(52,count,2,FALSE)","v":{"$error":"#N/A"}},{"$error":"#N/A"},{"$error":"#N/A"},{"$error":"#N/A"},{"$error":"#N/A"},null,{"$error":"#N/A"},{"$error":"#N/A"},{"$error":"#N/A"},{"$error":"#N/A"},null,{"$error":"#N/A"},{"$error":"#N/A"},{"$error":"#N/A"},{"$error":"#N/A"},{"$error":"#N/A"}]
[null,"",null,null,{"$error":"#N/A"},null,null,null,"","",null,8,10,6,"",0,0,54,"",{"$f":"IF(AND(Y58=\"\",Z58=\"\"),0,COUNT(V$6:$V58))","v":0},"","",{"$f":"COUNT(V$5:V58)","v":0},0,"","","",{"$f":"VLOOKUP(53,count,2,FALSE)","v":{"$error":"#N/A"}},{"$error":"#N/A"},{"$error":"#N/A"},{"$error":"#N/A"},{"$error":"#N/A"},null,{"$error":"#N/A"},{"$error":"#N/A"},{"$error":"#N/A"},{"$error":"#N/A"},null,{"$error":"#N/A"},{"$error":"#N/A"},{"$error":"#N/A"},{"$error":"#N/A"},{"$error":"#N/A"}]
[null,"",null,null,{"$error":"#N/A"},null,null,null,"","",null,8,10,6,"",0,0,55,"",{"$f":"IF(AND(Y59=\"\",Z59=\"\"),0,COUNT(V$6:$V59))","v":0},"","",{"$f":"COUNT(V$5:V59)","v":0},0,"","","",{"$f":"VLOOKUP(54,count,2,FALSE)","v":{"$error":"#N/A"}},{"$error":"#N/A"},{"$error":"#N/A"},{"$error":"#N/A"},{"$error":"#N/A"},null,{"$error":"#N/A"},{"$error":"#N/A"},{"$error":"#N/A"},{"$error":"#N/A"},null,{"$error":"#N/A"},{"$error":"#N/A"},{"$error":"#N/A"},{"$error":"#N/A"},{"$error":"#N/A"}]
[null,"",null,null,{"$error":"#N/A"},null,null,null,"","",null,8,10,6,"",0,0,56,"",{"$f":"IF(AND(Y60=\"\",Z60=\"\"),0,COUNT(V$6:$V60))","v":0},"","",{"$f":"COUNT(V$5:V60)","v":0},0,"","","",{"$f":"VLOOKUP(55,count,2,FALSE)","v":{"$error":"#N/A"}},{"$error":"#N/A"},{"$error":"#N/A"},{"$error":"#N/A"},{"$error":"#N/A"},null,{"$error":"#N/A"},{"$error":"#N/A"},{"$error":"#N/A"},{"$error":"#N/A"},null,{"$error":"#N/A"},{"$error":"#N/A"},{"$error":"#N/A"},{"$error":"#N/A"},{"$error":"#N/A"}]
[null,"",null,null,{"$error":"#N/A"},null,null,null,"","",null,8,10,6,"",0,0,57,"",{"$f":"IF(AND(Y61=\"\",Z61=\"\"),0,COUNT(V$6:$V61))","v":0},"","",{"$f":"COUNT(V$5:V61)","v":0},0,"","","",{"$f":"VLOOKUP(56,count,2,FALSE)","v":{"$error":"#N/A"}},{"$error":"#N/A"},{"$error":"#N/A"},{"$error":"#N/A"},{"$error":"#N/A"},null,{"$error":"#N/A"},{"$error":"#N/A"},{"$error":"#N/A"},{"$error":"#N/A"},null,{"$error":"#N/A"},{"$error":"#N/A"},{"$error":"#N/A"},{"$error":"#N/A"},{"$error":"#N/A"}]
[null,"",null,null,{"$error":"#N/A"},null,null,null,"","",null,8,10,6,"",0,0,58,"",{"$f":"IF(AND(Y62=\"\",Z62=\"\"),0,COUNT(V$6:$V62))","v":0},"","",{"$f":"COUNT(V$5:V62)","v":0},0,"","","",{"$f":"VLOOKUP(57,count,2,FALSE)","v":{"$error":"#N/A"}},{"$error":"#N/A"},{"$error":"#N/A"},{"$error":"#N/A"},{"$error":"#N/A"},null,{"$error":"#N/A"},{"$error":"#N/A"},{"$error":"#N/A"},{"$error":"#N/A"},null,{"$error":"#N/A"},{"$error":"#N/A"},{"$error":"#N/A"},{"$error":"#N/A"},{"$error":"#N/A"}]
[null,"",null,null,{"$error":"#N/A"},null,null,null,"","",null,8,10,6,"",0,0,59,"",{"$f":"IF(AND(Y63=\"\",Z63=\"\"),0,COUNT(V$6:$V63))","v":0},"","",{"$f":"COUNT(V$5:V63)","v":0},0,"","","",{"$f":"VLOOKUP(58,count,2,FALSE)","v":{"$error":"#N/A"}},{"$error":"#N/A"},{"$error":"#N/A"},{"$error":"#N/A"},{"$error":"#N/A"},null,{"$error":"#N/A"},{"$error":"#N/A"},{"$error":"#N/A"},{"$error":"#N/A"},null,{"$error":"#N/A"},{"$error":"#N/A"},{"$error":"#N/A"},{"$error":"#N/A"},{"$error":"#N/A"}]
[null,"",null,null,{"$error":"#N/A"},null,null,null,"","",null,8,10,6,"",0,0,60,"",{"$f":"IF(AND(Y64=\"\",Z64=\"\"),0,COUNT(V$6:$V64))","v":0},"","",{"$f":"COUNT(V$5:V64)","v":0},0,"","","",{"$f":"VLOOKUP(59,count,2,FALSE)","v":{"$error":"#N/A"}},{"$error":"#N/A"},{"$error":"#N/A"},{"$error":"#N/A"},{"$error":"#N/A"},null,{"$error":"#N/A"},{"$error":"#N/A"},{"$error":"#N/A"},{"$error":"#N/A"},null,{"$error":"#N/A"},{"$error":"#N/A"},{"$error":"#N/A"},{"$error":"#N/A"},{"$error":"#N/A"}]
[null,"",null,null,{"$error":"#N/A"},null,null,null,"","",null,8,10,6,"",0,0,61,"",{"$f":"IF(AND(Y65=\"\",Z65=\"\"),0,COUNT(V$6:$V65))","v":0},"","",{"$f":"COUNT(V$5:V65)","v":0},0,"","","",{"$f":"VLOOKUP(60,count,2,FALSE)","v":{"$error":"#N/A"}},{"$error":"#N/A"},{"$error":"#N/A"},{"$error":"#N/A"},{"$error":"#N/A"},null,{"$error":"#N/A"},{"$error":"#N/A"},{"$error":"#N/A"},{"$error":"#N/A"},null,{"$error":"#N/A"},{"$error":"#N/A"},{"$error":"#N/A"},{"$error":"#N/A"},{"$error":"#N/A"}]
[null,"",null,null,{"$error":"#N/A"},null,null,null,"","",null,8,10,6,"",0,0,62,"",{"$f":"IF(AND(Y66=\"\",Z66=\"\"),0,COUNT(V$6:$V66))","v":0},"","",{"$f":"COUNT(V$5:V66)","v":0},0,"","","",{"$f":"VLOOKUP(61,count,2,FALSE)","v":{"$error":"#N/A"}},{"$error":"#N/A"},{"$error":"#N/A"},{"$error":"#N/A"},{"$error":"#N/A"},null,{"$error":"#N/A"},{"$error":"#N/A"},{"$error":"#N/A"},{"$error":"#N/A"},null,{"$error":"#N/A"},{"$error":"#N/A"},{"$error":"#N/A"},{"$error":"#N/A"},{"$error":"#N/A"}]
[null,"",null,null,{"$error":"#N/A"},null,null,null,"","",null,8,10,6,"",0,0,63,"",{"$f":"IF(AND(Y67=\"\",Z67=\"\"),0,COUNT(V$6:$V67))","v":0},"","",{"$f":"COUNT(V$5:V67)","v":0},0,"","","",{"$f":"VLOOKUP(62,count,2,FALSE)","v":{"$error":"#N/A"}},{"$error":"#N/A"},{"$error":"#N/A"},{"$error":"#N/A"},{"$error":"#N/A"},null,{"$error":"#N/A"},{"$error":"#N/A"},{"$error":"#N/A"},{"$error":"#N/A"},null,{"$error":"#N/A"},{"$error":"#N/A"},{"$error":"#N/A"},{"$error":"#N/A"},{"$error":"#N/A"}]
[null,"",null,null,{"$error":"#N/A"},null,null,null,"","",null,8,10,6,"",0,0,64,"",{"$f":"IF(AND(Y68=\"\",Z68=\"\"),0,COUNT(V$6:$V68))","v":0},"","",{"$f":"COUNT(V$5:V68)","v":0},0,"","","",{"$f":"VLOOKUP(63,count,2,FALSE)","v":{"$error":"#N/A"}},{"$error":"#N/A"},{"$error":"#N/A"},{"$error":"#N/A"},{"$error":"#N/A"},null,{"$error":"#N/A"},{"$error":"#N/A"},{"$error":"#N/A"},{"$error":"#N/A"},null,{"$error":"#N/A"},{"$error":"#N/A"},{"$error":"#N/A"},{"$error":"#N/A"},{"$error":"#N/A"}]
[null,"",null,null,{"$error":"#N/A"},null,null,null,{"$f":"IF(H69=\"\",\"\",(G69-H69))","v":""},{"$f":"IF(A69=\"\",\"\",IF(AND(G69>1,H69>0),MROUND((6.5+I69),0.5),IF(AND(A69<>\"\",H69=\"\"),J68)))","v":""},null,8,10,6,{"$f":"I69","v":""},{"$f":"IF(AND(H69=\"\",A68=A69),P68,IF(AND(A68=A69,H69>1),O69+P68,IF(H69=\"\",0,IF(H69>0,O69))))","v":0},{"$f":"IF(AND(A69=A68,H69>1),Q68+1,IF(AND(H69=\"\",A69=A68),Q68,IF(AND(H69=\"\",P69=0),0,1)))","v":0},{"$f":"IF(A69=A68,R68+1,1)","v":65},"",{"$f":"IF(AND(Y69=\"\",Z69=\"\"),0,COUNT(V$6:$V69))","v":0},"","",{"$f":"COUNT(V$5:V69)","v":0},0,"","","",{"$f":"VLOOKUP(64,count,2,FALSE)","v":{"$error":"#N/A"}},{"$error":"#N/A"},{"$error":"#N/A"},{"$error":"#N/A"},{"$error":"#N/A"},null,{"$error":"#N/A"},{"$error":"#N/A"},{"$error":"#N/A"},{"$error":"#N/A"},null,{"$error":"#N/A"},{"$f":"IF(AM69=\"\",\"\",G69)","v":{"$error":"#N/A"}},{"$error":"#N/A"},{"$error":"#N/A"},{"$error":"#N/A"}]
[null,"",null,null,{"$f":"IF((D70>0),(D70/$E$4),#N/A)","v":{"$error":"#N/A"}},null,null,null,"","",null,8,{"$f":"IF(L70=\"\",\"\",L70+2)","v":10},{"$f":"IF(L70=\"\",\"\",L70-2)","v":6},"",0,0,66,{"$f":"IF(AND(R70>=R71,Q70>0),P70/Q70,\"\")","v":""},{"$f":"IF(AND(Y70=\"\",Z70=\"\"),0,COUNT(V$6:$V70))","v":0},{"$f":"IF(AND(Y70=\"\",Z70=\"\"),\"\",A70)","v":""},"",{"$f":"COUNT(V$5:V70)","v":0},0,{"$f":"IF(X70<X71,S70+6,\"\")","v":""},{"$f":"IF(S70=\"\",\"\",IF(AND(X70=\"\",S70>0),S70+6,\"\"))","v":""},{"$f":"IF(Z70=\"\",\"\",ABS($AI$6-Z70))","v":""},{"$f":"VLOOKUP(65,count,2,FALSE)","v":{"$error":"#N/A"}},{"$error":"#N/A"},{"$error":"#N/A"},{"$error":"#N/A"},{"$error":"#N/A"},null,{"$error":"#N/A"},{"$error":"#N/A"},{"$error":"#N/A"},{"$error":"#N/A"},null,{"$f":"IF(A70=\"\",#N/A,A70)","v":{"$error":"#N/A"}},{"$error":"#N/A"},{"$error":"#N/A"},{"$error":"#N/A"},{"$error":"#N/A"}]
[null,{"$f":"IF(A71=\"\",\"\",B70+1)","v":""},null,null,{"$error":"#N/A"},null,null,null,"","",null,8,10,6,"",0,0,67,"",{"$f":"IF(AND(Y71=\"\",Z71=\"\"),0,COUNT(V$6:$V71))","v":0},"",{"$f":"IF(AND(R71>=R72,Q71>0),1,\"\")","v":""},{"$f":"COUNT(V$5:V71)","v":0},{"$f":"IF(W70>=2,\"\",W70)","v":0},"","","",{"$f":"VLOOKUP(66,count,2,FALSE)","v":{"$error":"#N/A"}},{"$error":"#N/A"},{"$f":"AC71-6","v":{"$error":"#N/A"}},{"$error":"#N/A"},{"$error":"#N/A"},null,{"$f":"AB70","v":{"$error":"#N/A"}},{"$error":"#N/A"},{"$f":"IF($AI71=\"\",#N/A,($AI71+1.5))","v":{"$error":"#N/A"}},{"$f":"IF($AI71=\"\",#N/A,($AI71-1))","v":{"$error":"#N/A"}},null,{"$error":"#N/A"},{"$error":"#N/A"},{"$f":"IF(AM71=$AM$5,AQ71+1.5,IF(AM70=\"\",\"\",AQ71+1.5))","v":{"$error":"#N/A"}},{"$f":"IF(AM71=$AM$5,AQ71-1,IF(AN70=\"\",\"\",AQ71-1))","v":{"$error":"#N/A"}},{"$f":"IF(AM71=AM70,AQ70,VLOOKUP(AM71,graph,2,FALSE))","v":{"$error":"#N/A"}}]
[null,"",null,null,{"$error":"#N/A"},null,null,null,"","",null,8,10,6,"",0,0,68,"",{"$f":"IF(AND(Y72=\"\",Z72=\"\"),0,COUNT(V$6:$V72))","v":0},"","",{"$f":"COUNT(V$5:V72)","v":0},0,"","","",{"$f":"VLOOKUP(67,count,2,FALSE)","v":{"$error":"#N/A"}},{"$error":"#N/A"},{"$error":"#N/A"},{"$f":"AVERAGE(AC71:AC72)","v":{"$error":"#N/A"}},{"$error":"#N/A"},null,{"$error":"#N/A"},{"$error":"#N/A"},{"$error":"#N/A"},{"$error":"#N/A"},null,{"$error":"#N/A"},{"$error":"#N/A"},{"$error":"#N/A"},{"$error":"#N/A"},{"$error":"#N/A"}]
[null,"",null,null,{"$error":"#N/A"},null,null,null,"","",null,8,10,6,"",0,0,69,"",{"$f":"IF(AND(Y73=\"\",Z73=\"\"),0,COUNT(V$6:$V73))","v":0},"","",{"$f":"COUNT(V$5:V73)","v":0},0,"","","",{"$f":"VLOOKUP(68,count,2,FALSE)","v":{"$error":"#N/A"}},{"$f":"VLOOKUP(AB73,time,6,FALSE)","v":{"$error":"#N/A"}},{"$error":"#N/A"},{"$error":"#N/A"},{"$f":"AE73-6","v":{"$error":"#N/A"}},null,{"$error":"#N/A"},{"$error":"#N/A"},{"$error":"#N/A"},{"$error":"#N/A"},null,{"$error":"#N/A"},{"$error":"#N/A"},{"$error":"#N/A"},{"$error":"#N/A"},{"$error":"#N/A"}]
[null,"",null,null,{"$error":"#N/A"},null,null,null,"","",null,8,10,6,"",0,0,70,"",{"$f":"IF(AND(Y74=\"\",Z74=\"\"),0,COUNT(V$6:$V74))","v":0},"","",{"$f":"COUNT(V$5:V74)","v":0},0,"","","",{"$f":"VLOOKUP(69,count,2,FALSE)","v":{"$error":"#N/A"}},{"$error":"#N/A"},{"$error":"#N/A"},{"$error":"#N/A"},{"$error":"#N/A"},null,{"$error":"#N/A"},{"$error":"#N/A"},{"$error":"#N/A"},{"$error":"#N/A"},null,{"$error":"#N/A"},{"$error":"#N/A"},{"$error":"#N/A"},{"$error":"#N/A"},{"$error":"#N/A"}]
[null,"",null,null,{"$error":"#N/A"},null,null,null,"","",null,8,10,6,"",0,0,71,"",{"$f":"IF(AND(Y75=\"\",Z75=\"\"),0,COUNT(V$6:$V75))","v":0},"","",{"$f":"COUNT(V$5:V75)","v":0},0,"","","",{"$f":"VLOOKUP(70,count,2,FALSE)","v":{"$error":"#N/A"}},{"$error":"#N/A"},{"$error":"#N/A"},{"$error":"#N/A"},{"$error":"#N/A"},null,{"$error":"#N/A"},{"$f":"IF(ABS(AE73-AE72)>0.5,MROUND(AE73,0.5),AI74)","v":{"$error":"#N/A"}},{"$error":"#N/A"},{"$error":"#N/A"},null,{"$error":"#N/A"},{"$error":"#N/A"},{"$error":"#N/A"},{"$error":"#N/A"},{"$error":"#N/A"}]
[null,"",null,null,{"$error":"#N/A"},null,null,null,"","",null,8,10,6,"",0,0,72,"",{"$f":"IF(AND(Y76=\"\",Z76=\"\"),0,COUNT(V$6:$V76))","v":0},"","",{"$f":"COUNT(V$5:V76)","v":0},0,"","","",{"$f":"VLOOKUP(71,count,2,FALSE)","v":{"$error":"#N/A"}},{"$error":"#N/A"},{"$error":"#N/A"},{"$error":"#N/A"},{"$error":"#N/A"},null,{"$error":"#N/A"},{"$error":"#N/A"},{"$error":"#N/A"},{"$error":"#N/A"},null,{"$error":"#N/A"},{"$error":"#N/A"},{"$error":"#N/A"},{"$error":"#N/A"},{"$error":"#N/A"}]
[null,"",null,null,{"$error":"#N/A"},null,null,null,"","",null,8,10,6,"",0,0,73,"",{"$f":"IF(AND(Y77=\"\",Z77=\"\"),0,COUNT(V$6:$V77))","v":0},"","",{"$f":"COUNT(V$5:V77)","v":0},0,"","","",{"$f":"VLOOKUP(72,count,2,FALSE)","v":{"$error":"#N/A"}},{"$error":"#N/A"},{"$error":"#N/A"},{"$error":"#N/A"},{"$error":"#N/A"},null,{"$error":"#N/A"},{"$error":"#N/A"},{"$error":"#N/A"},{"$error":"#N/A"},null,{"$error":"#N/A"},{"$error":"#N/A"},{"$error":"#N/A"},{"$error":"#N/A"},{"$error":"#N/A"}]
[null,"",null,null,{"$error":"#N/A"},null,null,null,"","",null,8,10,6,"",0,0,74,"",{"$f":"IF(AND(Y78=\"\",Z78=\"\"),0,COUNT(V$6:$V78))","v":0},"","",{"$f":"COUNT(V$5:V78)","v":0},0,"","","",{"$f":"VLOOKUP(73,count,2,FALSE)","v":{"$error":"#N/A"}},{"$error":"#N/A"},{"$error":"#N/A"},{"$error":"#N/A"},{"$error":"#N/A"},null,{"$error":"#N/A"},{"$error":"#N/A"},{"$error":"#N/A"},{"$error":"#N/A"},null,{"$error":"#N/A"},{"$error":"#N/A"},{"$error":"#N/A"},{"$error":"#N/A"},{"$error":"#N/A"}]
[null,"",null,null,{"$error":"#N/A"},null,null,null,"","",null,8,10,6,"",0,0,75,"",{"$f":"IF(AND(Y79=\"\",Z79=\"\"),0,COUNT(V$6:$V79))","v":0},"","",{"$f":"COUNT(V$5:V79)","v":0},0,"","","",{"$f":"VLOOKUP(74,count,2,FALSE)","v":{"$error":"#N/A"}},{"$error":"#N/A"},{"$error":"#N/A"},{"$error":"#N/A"},{"$error":"#N/A"},null,{"$error":"#N/A"},{"$error":"#N/A"},{"$error":"#N/A"},{"$error":"#N/A"},null,{"$error":"#N/A"},{"$error":"#N/A"},{"$error":"#N/A"},{"$error":"#N/A"},{"$error":"#N/A"}]
[null,"",null,null,{"$error":"#N/A"},null,null,null,"","",null,8,10,6,"",0,0,76,"",{"$f":"IF(AND(Y80=\"\",Z80=\"\"),0,COUNT(V$6:$V80))","v":0},"","",{"$f":"COUNT(V$5:V80)","v":0},0,"","","",{"$f":"VLOOKUP(75,count,2,FALSE)","v":{"$error":"#N/A"}},{"$error":"#N/A"},{"$error":"#N/A"},{"$error":"#N/A"},{"$error":"#N/A"},null,{"$error":"#N/A"},{"$error":"#N/A"},{"$error":"#N/A"},{"$error":"#N/A"},null,{"$error":"#N/A"},{"$error":"#N/A"},{"$error":"#N/A"},{"$error":"#N/A"},{"$error":"#N/A"}]
[null,"",null,null,{"$error":"#N/A"},null,null,null,"","",null,8,10,6,"",0,0,77,"",{"$f":"IF(AND(Y81=\"\",Z81=\"\"),0,COUNT(V$6:$V81))","v":0},"","",{"$f":"COUNT(V$5:V81)","v":0},0,"","","",{"$f":"VLOOKUP(76,count,2,FALSE)","v":{"$error":"#N/A"}},{"$error":"#N/A"},{"$error":"#N/A"},{"$error":"#N/A"},{"$error":"#N/A"},null,{"$error":"#N/A"},{"$error":"#N/A"},{"$error":"#N/A"},{"$error":"#N/A"},null,{"$error":"#N/A"},{"$error":"#N/A"},{"$error":"#N/A"},{"$error":"#N/A"},{"$error":"#N/A"}]
[null,"",null,null,{"$error":"#N/A"},null,null,null,"","",null,8,10,6,"",0,0,78,"",{"$f":"IF(AND(Y82=\"\",Z82=\"\"),0,COUNT(V$6:$V82))","v":0},"","",{"$f":"COUNT(V$5:V82)","v":0},0,"","","",{"$f":"VLOOKUP(77,count,2,FALSE)","v":{"$error":"#N/A"}},{"$error":"#N/A"},{"$error":"#N/A"},{"$error":"#N/A"},{"$error":"#N/A"},null,{"$error":"#N/A"},{"$error":"#N/A"},{"$error":"#N/A"},{"$error":"#N/A"},null,{"$error":"#N/A"},{"$error":"#N/A"},{"$error":"#N/A"},{"$error":"#N/A"},{"$error":"#N/A"}]
[null,"",null,null,{"$error":"#N/A"},null,null,null,"","",null,8,10,6,"",0,0,79,"",{"$f":"IF(AND(Y83=\"\",Z83=\"\"),0,COUNT(V$6:$V83))","v":0},"","",{"$f":"COUNT(V$5:V83)","v":0},0,"","","",{"$f":"VLOOKUP(78,count,2,FALSE)","v":{"$error":"#N/A"}},{"$error":"#N/A"},{"$error":"#N/A"},{"$error":"#N/A"},{"$error":"#N/A"},null,{"$error":"#N/A"},{"$error":"#N/A"},{"$error":"#N/A"},{"$error":"#N/A"},null,{"$error":"#N/A"},{"$error":"#N/A"},{"$error":"#N/A"},{"$error":"#N/A"},{"$error":"#N/A"}]
[null,"",null,null,{"$error":"#N/A"},null,null,null,"","",null,8,10,6,"",0,0,80,"",{"$f":"IF(AND(Y84=\"\",Z84=\"\"),0,COUNT(V$6:$V84))","v":0},"","",{"$f":"COUNT(V$5:V84)","v":0},0,"","","",{"$f":"VLOOKUP(79,count,2,FALSE)","v":{"$error":"#N/A"}},{"$error":"#N/A"},{"$error":"#N/A"},{"$error":"#N/A"},{"$error":"#N/A"},null,{"$error":"#N/A"},{"$error":"#N/A"},{"$error":"#N/A"},{"$error":"#N/A"},null,{"$error":"#N/A"},{"$error":"#N/A"},{"$error":"#N/A"},{"$error":"#N/A"},{"$error":"#N/A"}]
[null,"",null,null,{"$error":"#N/A"},null,null,null,"","",null,8,10,6,"",0,0,81,"",{"$f":"IF(AND(Y85=\"\",Z85=\"\"),0,COUNT(V$6:$V85))","v":0},"","",{"$f":"COUNT(V$5:V85)","v":0},0,"","","",{"$f":"VLOOKUP(80,count,2,FALSE)","v":{"$error":"#N/A"}},{"$error":"#N/A"},{"$error":"#N/A"},{"$error":"#N/A"},{"$error":"#N/A"},null,{"$error":"#N/A"},{"$error":"#N/A"},{"$error":"#N/A"},{"$error":"#N/A"},null,{"$error":"#N/A"},{"$error":"#N/A"},{"$error":"#N/A"},{"$error":"#N/A"},{"$error":"#N/A"}]
[null,"",null,null,{"$error":"#N/A"},null,null,null,"","",null,8,10,6,"",0,0,82,"",{"$f":"IF(AND(Y86=\"\",Z86=\"\"),0,COUNT(V$6:$V86))","v":0},"","",{"$f":"COUNT(V$5:V86)","v":0},0,"","","",{"$f":"VLOOKUP(81,count,2,FALSE)","v":{"$error":"#N/A"}},{"$error":"#N/A"},{"$error":"#N/A"},{"$error":"#N/A"},{"$error":"#N/A"},null,{"$error":"#N/A"},{"$error":"#N/A"},{"$error":"#N/A"},{"$error":"#N/A"},null,{"$error":"#N/A"},{"$error":"#N/A"},{"$error":"#N/A"},{"$error":"#N/A"},{"$error":"#N/A"}]
[null,"",null,null,{"$error":"#N/A"},null,null,null,"","",null,8,10,6,"",0,0,83,"",{"$f":"IF(AND(Y87=\"\",Z87=\"\"),0,COUNT(V$6:$V87))","v":0},"","",{"$f":"COUNT(V$5:V87)","v":0},0,"","","",{"$f":"VLOOKUP(82,count,2,FALSE)","v":{"$error":"#N/A"}},{"$error":"#N/A"},{"$error":"#N/A"},{"$error":"#N/A"},{"$error":"#N/A"},null,{"$error":"#N/A"},{"$error":"#N/A"},{"$error":"#N/A"},{"$error":"#N/A"},null,{"$error":"#N/A"},{"$error":"#N/A"},{"$error":"#N/A"},{"$error":"#N/A"},{"$error":"#N/A"}]
[null,"",null,null,{"$error":"#N/A"},null,null,null,"","",null,8,10,6,"",0,0,84,"",{"$f":"IF(AND(Y88=\"\",Z88=\"\"),0,COUNT(V$6:$V88))","v":0},"","",{"$f":"COUNT(V$5:V88)","v":0},0,"","","",{"$f":"VLOOKUP(83,count,2,FALSE)","v":{"$error":"#N/A"}},{"$error":"#N/A"},{"$error":"#N/A"},{"$error":"#N/A"},{"$error":"#N/A"},null,{"$error":"#N/A"},{"$error":"#N/A"},{"$error":"#N/A"},{"$error":"#N/A"},null,{"$error":"#N/A"},{"$error":"#N/A"},{"$error":"#N/A"},{"$error":"#N/A"},{"$error":"#N/A"}]
[null,"",null,null,{"$error":"#N/A"},null,null,null,"","",null,8,10,6,"",0,0,85,"",{"$f":"IF(AND(Y89=\"\",Z89=\"\"),0,COUNT(V$6:$V89))","v":0},"","",{"$f":"COUNT(V$5:V89)","v":0},0,"","","",{"$f":"VLOOKUP(84,count,2,FALSE)","v":{"$error":"#N/A"}},{"$error":"#N/A"},{"$error":"#N/A"},{"$error":"#N/A"},{"$error":"#N/A"},null,{"$error":"#N/A"},{"$error":"#N/A"},{"$error":"#N/A"},{"$error":"#N/A"},null,{"$error":"#N/A"},{"$error":"#N/A"},{"$error":"#N/A"},{"$error":"#N/A"},{"$error":"#N/A"}]
[null,"",null,null,{"$error":"#N/A"},null,null,null,"","",null,8,10,6,"",0,0,86,"",{"$f":"IF(AND(Y90=\"\",Z90=\"\"),0,COUNT(V$6:$V90))","v":0},"","",{"$f":"COUNT(V$5:V90)","v":0},0,"","","",{"$f":"VLOOKUP(85,count,2,FALSE)","v":{"$error":"#N/A"}},{"$error":"#N/A"},{"$error":"#N/A"},{"$error":"#N/A"},{"$error":"#N/A"},null,{"$error":"#N/A"},{"$error":"#N/A"},{"$error":"#N/A"},{"$error":"#N/A"},null,{"$error":"#N/A"},{"$error":"#N/A"},{"$error":"#N/A"},{"$error":"#N/A"},{"$error":"#N/A"}]
[null,"",null,null,{"$error":"#N/A"},null,null,null,"","",null,8,10,6,"",0,0,87,"",{"$f":"IF(AND(Y91=\"\",Z91=\"\"),0,COUNT(V$6:$V91))","v":0},"","",{"$f":"COUNT(V$5:V91)","v":0},0,"","","",{"$f":"VLOOKUP(86,count,2,FALSE)","v":{"$error":"#N/A"}},{"$error":"#N/A"},{"$error":"#N/A"},{"$error":"#N/A"},{"$error":"#N/A"},null,{"$error":"#N/A"},{"$error":"#N/A"},{"$error":"#N/A"},{"$error":"#N/A"},null,{"$error":"#N/A"},{"$error":"#N/A"},{"$error":"#N/A"},{"$error":"#N/A"},{"$error":"#N/A"}]
[null,"",null,null,{"$error":"#N/A"},null,null,null,"","",null,8,10,6,"",0,0,88,"",{"$f":"IF(AND(Y92=\"\",Z92=\"\"),0,COUNT(V$6:$V92))","v":0},"","",{"$f":"COUNT(V$5:V92)","v":0},0,"","","",{"$f":"VLOOKUP(87,count,2,FALSE)","v":{"$error":"#N/A"}},{"$error":"#N/A"},{"$error":"#N/A"},{"$error":"#N/A"},{"$error":"#N/A"},null,{"$error":"#N/A"},{"$error":"#N/A"},{"$error":"#N/A"},{"$error":"#N/A"},null,{"$error":"#N/A"},{"$error":"#N/A"},{"$error":"#N/A"},{"$error":"#N/A"},{"$error":"#N/A"}]
[null,"",null,null,{"$error":"#N/A"},null,null,null,"","",null,8,10,6,"",0,0,89,"",{"$f":"IF(AND(Y93=\"\",Z93=\"\"),0,COUNT(V$6:$V93))","v":0},"","",{"$f":"COUNT(V$5:V93)","v":0},0,"","","",{"$f":"VLOOKUP(88,count,2,FALSE)","v":{"$error":"#N/A"}},{"$error":"#N/A"},{"$error":"#N/A"},{"$error":"#N/A"},{"$error":"#N/A"},null,{"$error":"#N/A"},{"$error":"#N/A"},{"$error":"#N/A"},{"$error":"#N/A"},null,{"$error":"#N/A"},{"$error":"#N/A"},{"$error":"#N/A"},{"$error":"#N/A"},{"$error":"#N/A"}]
[null,"",null,null,{"$error":"#N/A"},null,null,null,"","",null,8,10,6,"",0,0,90,"",{"$f":"IF(AND(Y94=\"\",Z94=\"\"),0,COUNT(V$6:$V94))","v":0},"","",{"$f":"COUNT(V$5:V94)","v":0},0,"","","",{"$f":"VLOOKUP(89,count,2,FALSE)","v":{"$error":"#N/A"}},{"$error":"#N/A"},{"$error":"#N/A"},{"$error":"#N/A"},{"$error":"#N/A"},null,{"$error":"#N/A"},{"$error":"#N/A"},{"$error":"#N/A"},{"$error":"#N/A"},null,{"$error":"#N/A"},{"$error":"#N/A"},{"$error":"#N/A"},{"$error":"#N/A"},{"$error":"#N/A"}]
[null,"",null,null,{"$error":"#N/A"},null,null,null,"","",null,8,10,6,"",0,0,91,"",{"$f":"IF(AND(Y95=\"\",Z95=\"\"),0,COUNT(V$6:$V95))","v":0},"","",{"$f":"COUNT(V$5:V95)","v":0},0,"","","",{"$f":"VLOOKUP(90,count,2,FALSE)","v":{"$error":"#N/A"}},{"$error":"#N/A"},{"$error":"#N/A"},{"$error":"#N/A"},{"$error":"#N/A"},null,{"$error":"#N/A"},{"$error":"#N/A"},{"$error":"#N/A"},{"$error":"#N/A"},null,{"$error":"#N/A"},{"$error":"#N/A"},{"$error":"#N/A"},{"$error":"#N/A"},{"$error":"#N/A"}]
[null,"",null,null,{"$error":"#N/A"},null,null,null,"","",null,8,10,6,"",0,0,92,"",{"$f":"IF(AND(Y96=\"\",Z96=\"\"),0,COUNT(V$6:$V96))","v":0},"","",{"$f":"COUNT(V$5:V96)","v":0},0,"","","",{"$f":"VLOOKUP(91,count,2,FALSE)","v":{"$error":"#N/A"}},{"$error":"#N/A"},{"$error":"#N/A"},{"$error":"#N/A"},{"$error":"#N/A"},null,{"$error":"#N/A"},{"$error":"#N/A"},{"$error":"#N/A"},{"$error":"#N/A"},null,{"$error":"#N/A"},{"$error":"#N/A"},{"$error":"#N/A"},{"$error":"#N/A"},{"$error":"#N/A"}]
[null,"",null,null,{"$error":"#N/A"},null,null,null,"","",null,8,10,6,"",0,0,93,"",{"$f":"IF(AND(Y97=\"\",Z97=\"\"),0,COUNT(V$6:$V97))","v":0},"","",{"$f":"COUNT(V$5:V97)","v":0},0,"","","",{"$f":"VLOOKUP(92,count,2,FALSE)","v":{"$error":"#N/A"}},{"$error":"#N/A"},{"$error":"#N/A"},{"$error":"#N/A"},{"$error":"#N/A"},null,{"$error":"#N/A"},{"$error":"#N/A"},{"$error":"#N/A"},{"$error":"#N/A"},null,{"$error":"#N/A"},{"$error":"#N/A"},{"$error":"#N/A"},{"$error":"#N/A"},{"$error":"#N/A"}]
[null,"",null,null,{"$error":"#N/A"},null,null,null,"","",null,8,10,6,"",0,0,94,"",{"$f":"IF(AND(Y98=\"\",Z98=\"\"),0,COUNT(V$6:$V98))","v":0},"","",{"$f":"COUNT(V$5:V98)","v":0},0,"","","",{"$f":"VLOOKUP(93,count,2,FALSE)","v":{"$error":"#N/A"}},{"$error":"#N/A"},{"$error":"#N/A"},{"$error":"#N/A"},{"$error":"#N/A"},null,{"$error":"#N/A"},{"$error":"#N/A"},{"$error":"#N/A"},{"$error":"#N/A"},null,{"$error":"#N/A"},{"$error":"#N/A"},{"$error":"#N/A"},{"$error":"#N/A"},{"$error":"#N/A"}]
[null,"",null,null,{"$error":"#N/A"},null,null,null,"","",null,8,10,6,"",0,0,95,"",{"$f":"IF(AND(Y99=\"\",Z99=\"\"),0,COUNT(V$6:$V99))","v":0},"","",{"$f":"COUNT(V$5:V99)","v":0},0,"","","",{"$f":"VLOOKUP(94,count,2,FALSE)","v":{"$error":"#N/A"}},{"$error":"#N/A"},{"$error":"#N/A"},{"$error":"#N/A"},{"$error":"#N/A"},null,{"$error":"#N/A"},{"$error":"#N/A"},{"$error":"#N/A"},{"$error":"#N/A"},null,{"$error":"#N/A"},{"$error":"#N/A"},{"$error":"#N/A"},{"$error":"#N/A"},{"$error":"#N/A"}]
[null,"",null,null,{"$error":"#N/A"},null,null,null,"","",null,8,10,6,"",0,0,96,"",{"$f":"IF(AND(Y100=\"\",Z100=\"\"),0,COUNT(V$6:$V100))","v":0},"","",{"$f":"COUNT(V$5:V100)","v":0},0,"","","",{"$f":"VLOOKUP(95,count,2,FALSE)","v":{"$error":"#N/A"}},{"$error":"#N/A"},{"$error":"#N/A"},{"$error":"#N/A"},{"$error":"#N/A"},null,{"$error":"#N/A"},{"$error":"#N/A"},{"$error":"#N/A"},{"$error":"#N/A"},null,{"$error":"#N/A"},{"$error":"#N/A"},{"$error":"#N/A"},{"$error":"#N/A"},{"$error":"#N/A"}]
[null,"",null,null,{"$error":"#N/A"},null,null,null,{"$f":"IF(H101=\"\",\"\",(G101-H101))","v":""},{"$f":"IF(A101=\"\",\"\",IF(AND(G101>1,H101>0),MROUND((6.5+I101),0.5),IF(AND(A101<>\"\",H101=\"\"),J100)))","v":""},null,8,10,6,{"$f":"I101","v":""},{"$f":"IF(AND(H101=\"\",A100=A101),P100,IF(AND(A100=A101,H101>1),O101+P100,IF(H101=\"\",0,IF(H101>0,O101))))","v":0},{"$f":"IF(AND(A101=A100,H101>1),Q100+1,IF(AND(H101=\"\",A101=A100),Q100,IF(AND(H101=\"\",P101=0),0,1)))","v":0},97,"",{"$f":"IF(AND(Y101=\"\",Z101=\"\"),0,COUNT(V$6:$V101))","v":0},"","",{"$f":"COUNT(V$5:V101)","v":0},0,"","","",{"$f":"VLOOKUP(96,count,2,FALSE)","v":{"$error":"#N/A"}},{"$error":"#N/A"},{"$error":"#N/A"},{"$error":"#N/A"},{"$error":"#N/A"},null,{"$error":"#N/A"},{"$error":"#N/A"},{"$error":"#N/A"},{"$error":"#N/A"},null,{"$error":"#N/A"},{"$f":"IF(AM101=\"\",\"\",G101)","v":{"$error":"#N/A"}},{"$error":"#N/A"},{"$error":"#N/A"},{"$error":"#N/A"}]
[null,"",null,null,{"$error":"#N/A"},null,null,null,{"$f":"IF(H102=\"\",\"\",(G102-H102))","v":""},"",null,8,10,6,{"$f":"I102","v":""},{"$f":"IF(AND(H102=\"\",A101=A102),P101,IF(AND(A101=A102,H102>1),O102+P101,IF(H102=\"\",0,IF(H102>0,O102))))","v":0},{"$f":"IF(AND(A102=A101,H102>1),Q101+1,IF(AND(H102=\"\",A102=A101),Q101,IF(AND(H102=\"\",P102=0),0,1)))","v":0},98,"",{"$f":"IF(AND(Y102=\"\",Z102=\"\"),0,COUNT(V$6:$V102))","v":0},"","",{"$f":"COUNT(V$5:V102)","v":0},0,{"$f":"IF(X102<X103,S102+6,\"\")","v":""},"",{"$f":"IF(Z102=\"\",\"\",ABS($AI$6-Z102))","v":""},{"$f":"VLOOKUP(97,count,2,FALSE)","v":{"$error":"#N/A"}},{"$error":"#N/A"},{"$error":"#N/A"},{"$error":"#N/A"},{"$error":"#N/A"},null,{"$error":"#N/A"},{"$error":"#N/A"},{"$error":"#N/A"},{"$error":"#N/A"},null,{"$error":"#N/A"},{"$error":"#N/A"},{"$error":"#N/A"},{"$error":"#N/A"},{"$error":"#N/A"}]
[null,"",null,null,{"$error":"#N/A"},null,null,null,{"$f":"IF(H103=\"\",\"\",(G103-H103))","v":""},"",null,8,10,6,{"$f":"I103","v":""},{"$f":"IF(AND(H103=\"\",A102=A103),P102,IF(AND(A102=A103,H103>1),O103+P102,IF(H103=\"\",0,IF(H103>0,O103))))","v":0},{"$f":"IF(AND(A103=A102,H103>1),Q102+1,IF(AND(H103=\"\",A103=A102),Q102,IF(AND(H103=\"\",P103=0),0,1)))","v":0},99,"",{"$f":"IF(AND(Y103=\"\",Z103=\"\"),0,COUNT(V$6:$V103))","v":0},"","",{"$f":"COUNT(V$5:V103)","v":0},0,{"$f":"IF(X103<X104,S103+6,\"\")","v":""},"",{"$f":"IF(Z103=\"\",\"\",ABS($AI$6-Z103))","v":""},{"$f":"VLOOKUP(98,count,2,FALSE)","v":{"$error":"#N/A"}},{"$error":"#N/A"},{"$error":"#N/A"},{"$error":"#N/A"},{"$error":"#N/A"},null,{"$error":"#N/A"},{"$error":"#N/A"},{"$error":"#N/A"},{"$error":"#N/A"},null,{"$error":"#N/A"},{"$error":"#N/A"},{"$error":"#N/A"},{"$error":"#N/A"},{"$error":"#N/A"}]
[null,"",null,null,{"$error":"#N/A"},null,null,null,{"$f":"IF(H104=\"\",\"\",(G104-H104))","v":""},"",null,8,10,6,{"$f":"I104","v":""},{"$f":"IF(AND(H104=\"\",A103=A104),P103,IF(AND(A103=A104,H104>1),O104+P103,IF(H104=\"\",0,IF(H104>0,O104))))","v":0},{"$f":"IF(AND(A104=A103,H104>1),Q103+1,IF(AND(H104=\"\",A104=A103),Q103,IF(AND(H104=\"\",P104=0),0,1)))","v":0},100,"",{"$f":"IF(AND(Y104=\"\",Z104=\"\"),0,COUNT(V$6:$V104))","v":0},"","",{"$f":"COUNT(V$5:V104)","v":0},0,{"$f":"IF(X104<X105,S104+6,\"\")","v":""},"",{"$f":"IF(Z104=\"\",\"\",ABS($AI$6-Z104))","v":""},{"$f":"VLOOKUP(99,count,2,FALSE)","v":{"$error":"#N/A"}},{"$error":"#N/A"},{"$error":"#N/A"},{"$f":"AVERAGE(AC103:AC104)","v":{"$error":"#N/A"}},{"$error":"#N/A"},null,{"$error":"#N/A"},{"$error":"#N/A"},{"$error":"#N/A"},{"$error":"#N/A"},null,{"$error":"#N/A"},{"$error":"#N/A"},{"$error":"#N/A"},{"$error":"#N/A"},{"$error":"#N/A"}]
[null,"",null,null,{"$error":"#N/A"},null,null,null,{"$f":"IF(H105=\"\",\"\",(G105-H105))","v":""},"",null,8,10,6,{"$f":"I105","v":""},{"$f":"IF(AND(H105=\"\",A104=A105),P104,IF(AND(A104=A105,H105>1),O105+P104,IF(H105=\"\",0,IF(H105>0,O105))))","v":0},{"$f":"IF(AND(A105=A104,H105>1),Q104+1,IF(AND(H105=\"\",A105=A104),Q104,IF(AND(H105=\"\",P105=0),0,1)))","v":0},101,"",{"$f":"IF(AND(Y105=\"\",Z105=\"\"),0,COUNT(V$6:$V105))","v":0},"","",{"$f":"COUNT(V$5:V105)","v":0},0,{"$f":"IF(X105<X106,S105+6,\"\")","v":""},"",{"$f":"IF(Z105=\"\",\"\",ABS($AI$6-Z105))","v":""},{"$f":"VLOOKUP(100,count,2,FALSE)","v":{"$error":"#N/A"}},{"$error":"#N/A"},{"$error":"#N/A"},{"$f":"AVERAGE(AC104:AC105)","v":{"$error":"#N/A"}},{"$error":"#N/A"},null,{"$error":"#N/A"},{"$error":"#N/A"},{"$error":"#N/A"},{"$error":"#N/A"},null,{"$f":"IF(A105=\"\",#N/A,A105)","v":{"$error":"#N/A"}},{"$error":"#N/A"},{"$error":"#N/A"},{"$error":"#N/A"},{"$error":"#N/A"}]
[null,"",null,null,{"$error":"#N/A"},null,null,null,"","",null,8,10,6,"",0,0,102,"",{"$f":"IF(AND(Y106=\"\",Z106=\"\"),0,COUNT(V$6:$V106))","v":0},"","",{"$f":"COUNT(V$5:V106)","v":0},0,"","","",{"$f":"VLOOKUP(101,count,2,FALSE)","v":{"$error":"#N/A"}},{"$error":"#N/A"},{"$error":"#N/A"},{"$error":"#N/A"},{"$error":"#N/A"},null,{"$error":"#N/A"},{"$error":"#N/A"},{"$error":"#N/A"},{"$error":"#N/A"},null,{"$error":"#N/A"},{"$error":"#N/A"},{"$error":"#N/A"},{"$error":"#N/A"},{"$error":"#N/A"}]
[null,"",null,null,{"$error":"#N/A"},null,null,null,"","",null,8,10,6,"",0,0,103,"",{"$f":"IF(AND(Y107=\"\",Z107=\"\"),0,COUNT(V$6:$V107))","v":0},"","",{"$f":"COUNT(V$5:V107)","v":0},0,"","","",{"$f":"VLOOKUP(102,count,2,FALSE)","v":{"$error":"#N/A"}},{"$error":"#N/A"},{"$error":"#N/A"},{"$error":"#N/A"},{"$error":"#N/A"},null,{"$error":"#N/A"},{"$error":"#N/A"},{"$error":"#N/A"},{"$error":"#N/A"},null,{"$error":"#N/A"},{"$error":"#N/A"},{"$error":"#N/A"},{"$error":"#N/A"},{"$error":"#N/A"}]
[null,"",null,null,{"$error":"#N/A"},null,null,null,"","",null,8,10,6,"",0,0,104,"",{"$f":"IF(AND(Y108=\"\",Z108=\"\"),0,COUNT(V$6:$V108))","v":0},"","",{"$f":"COUNT(V$5:V108)","v":0},0,"","","",{"$f":"VLOOKUP(103,count,2,FALSE)","v":{"$error":"#N/A"}},{"$error":"#N/A"},{"$error":"#N/A"},{"$error":"#N/A"},{"$error":"#N/A"},null,{"$error":"#N/A"},{"$error":"#N/A"},{"$error":"#N/A"},{"$error":"#N/A"},null,{"$error":"#N/A"},{"$error":"#N/A"},{"$error":"#N/A"},{"$error":"#N/A"},{"$error":"#N/A"}]
[null,"",null,null,{"$error":"#N/A"},null,null,null,"","",null,8,10,6,"",0,0,105,"",{"$f":"IF(AND(Y109=\"\",Z109=\"\"),0,COUNT(V$6:$V109))","v":0},"","",{"$f":"COUNT(V$5:V109)","v":0},0,"","","",{"$f":"VLOOKUP(104,count,2,FALSE)","v":{"$error":"#N/A"}},{"$error":"#N/A"},{"$error":"#N/A"},{"$error":"#N/A"},{"$error":"#N/A"},null,{"$error":"#N/A"},{"$error":"#N/A"},{"$error":"#N/A"},{"$error":"#N/A"},null,{"$error":"#N/A"},{"$error":"#N/A"},{"$error":"#N/A"},{"$error":"#N/A"},{"$error":"#N/A"}]
[null,"",null,null,{"$error":"#N/A"},null,null,null,"","",null,8,10,6,"",0,0,106,"",{"$f":"IF(AND(Y110=\"\",Z110=\"\"),0,COUNT(V$6:$V110))","v":0},"","",{"$f":"COUNT(V$5:V110)","v":0},0,"","","",{"$f":"VLOOKUP(105,count,2,FALSE)","v":{"$error":"#N/A"}},{"$error":"#N/A"},{"$error":"#N/A"},{"$error":"#N/A"},{"$error":"#N/A"},null,{"$error":"#N/A"},{"$error":"#N/A"},{"$error":"#N/A"},{"$error":"#N/A"},null,{"$error":"#N/A"},{"$error":"#N/A"},{"$error":"#N/A"},{"$error":"#N/A"},{"$error":"#N/A"}]
[null,"",null,null,{"$error":"#N/A"},null,null,null,"","",null,8,10,6,"",0,0,107,"",{"$f":"IF(AND(Y111=\"\",Z111=\"\"),0,COUNT(V$6:$V111))","v":0},"","",{"$f":"COUNT(V$5:V111)","v":0},0,"","","",{"$f":"VLOOKUP(106,count,2,FALSE)","v":{"$error":"#N/A"}},{"$error":"#N/A"},{"$error":"#N/A"},{"$error":"#N/A"},{"$error":"#N/A"},null,{"$error":"#N/A"},{"$error":"#N/A"},{"$error":"#N/A"},{"$error":"#N/A"},null,{"$error":"#N/A"},{"$error":"#N/A"},{"$error":"#N/A"},{"$error":"#N/A"},{"$error":"#N/A"}]
[null,"",null,null,{"$error":"#N/A"},null,null,null,"","",null,8,10,6,"",0,0,108,"",{"$f":"IF(AND(Y112=\"\",Z112=\"\"),0,COUNT(V$6:$V112))","v":0},"","",{"$f":"COUNT(V$5:V112)","v":0},0,"","","",{"$f":"VLOOKUP(107,count,2,FALSE)","v":{"$error":"#N/A"}},{"$error":"#N/A"},{"$error":"#N/A"},{"$error":"#N/A"},{"$error":"#N/A"},null,{"$error":"#N/A"},{"$error":"#N/A"},{"$error":"#N/A"},{"$error":"#N/A"},null,{"$error":"#N/A"},{"$error":"#N/A"},{"$error":"#N/A"},{"$error":"#N/A"},{"$error":"#N/A"}]
[null,"",null,null,{"$error":"#N/A"},null,null,null,"","",null,8,10,6,"",0,0,109,"",{"$f":"IF(AND(Y113=\"\",Z113=\"\"),0,COUNT(V$6:$V113))","v":0},"","",{"$f":"COUNT(V$5:V113)","v":0},0,"","","",{"$f":"VLOOKUP(108,count,2,FALSE)","v":{"$error":"#N/A"}},{"$error":"#N/A"},{"$error":"#N/A"},{"$error":"#N/A"},{"$error":"#N/A"},null,{"$error":"#N/A"},{"$error":"#N/A"},{"$error":"#N/A"},{"$error":"#N/A"},null,{"$error":"#N/A"},{"$error":"#N/A"},{"$error":"#N/A"},{"$error":"#N/A"},{"$error":"#N/A"}]
[null,"",null,null,{"$error":"#N/A"},null,null,null,"","",null,8,10,6,"",0,0,110,"",{"$f":"IF(AND(Y114=\"\",Z114=\"\"),0,COUNT(V$6:$V114))","v":0},"","",{"$f":"COUNT(V$5:V114)","v":0},0,"","","",{"$f":"VLOOKUP(109,count,2,FALSE)","v":{"$error":"#N/A"}},{"$error":"#N/A"},{"$error":"#N/A"},{"$error":"#N/A"},{"$error":"#N/A"},null,{"$error":"#N/A"},{"$error":"#N/A"},{"$error":"#N/A"},{"$error":"#N/A"},null,{"$error":"#N/A"},{"$error":"#N/A"},{"$error":"#N/A"},{"$error":"#N/A"},{"$error":"#N/A"}]
[null,"",null,null,{"$error":"#N/A"},null,null,null,"","",null,8,10,6,"",0,0,111,"",{"$f":"IF(AND(Y115=\"\",Z115=\"\"),0,COUNT(V$6:$V115))","v":0},"","",{"$f":"COUNT(V$5:V115)","v":0},0,"","","",{"$f":"VLOOKUP(110,count,2,FALSE)","v":{"$error":"#N/A"}},{"$error":"#N/A"},{"$error":"#N/A"},{"$error":"#N/A"},{"$error":"#N/A"},null,{"$error":"#N/A"},{"$error":"#N/A"},{"$error":"#N/A"},{"$error":"#N/A"},null,{"$error":"#N/A"},{"$error":"#N/A"},{"$error":"#N/A"},{"$error":"#N/A"},{"$error":"#N/A"}]
[null,"",null,null,{"$error":"#N/A"},null,null,null,"","",null,8,10,6,"",0,0,112,"",{"$f":"IF(AND(Y116=\"\",Z116=\"\"),0,COUNT(V$6:$V116))","v":0},"","",{"$f":"COUNT(V$5:V116)","v":0},0,"","","",{"$f":"VLOOKUP(111,count,2,FALSE)","v":{"$error":"#N/A"}},{"$error":"#N/A"},{"$error":"#N/A"},{"$error":"#N/A"},{"$error":"#N/A"},null,{"$error":"#N/A"},{"$error":"#N/A"},{"$error":"#N/A"},{"$error":"#N/A"},null,{"$error":"#N/A"},{"$error":"#N/A"},{"$error":"#N/A"},{"$error":"#N/A"},{"$error":"#N/A"}]
[null,"",null,null,{"$error":"#N/A"},null,null,null,"","",null,8,10,6,"",0,0,113,"",{"$f":"IF(AND(Y117=\"\",Z117=\"\"),0,COUNT(V$6:$V117))","v":0},"","",{"$f":"COUNT(V$5:V117)","v":0},0,"","","",{"$f":"VLOOKUP(112,count,2,FALSE)","v":{"$error":"#N/A"}},{"$error":"#N/A"},{"$error":"#N/A"},{"$error":"#N/A"},{"$error":"#N/A"},null,{"$error":"#N/A"},{"$error":"#N/A"},{"$error":"#N/A"},{"$error":"#N/A"},null,{"$error":"#N/A"},{"$error":"#N/A"},{"$error":"#N/A"},{"$error":"#N/A"},{"$error":"#N/A"}]
[null,"",null,null,{"$error":"#N/A"},null,null,null,"","",null,8,10,6,"",0,0,114,"",{"$f":"IF(AND(Y118=\"\",Z118=\"\"),0,COUNT(V$6:$V118))","v":0},"","",{"$f":"COUNT(V$5:V118)","v":0},0,"","","",{"$f":"VLOOKUP(113,count,2,FALSE)","v":{"$error":"#N/A"}},{"$error":"#N/A"},{"$error":"#N/A"},{"$error":"#N/A"},{"$error":"#N/A"},null,{"$error":"#N/A"},{"$error":"#N/A"},{"$error":"#N/A"},{"$error":"#N/A"},null,{"$error":"#N/A"},{"$error":"#N/A"},{"$error":"#N/A"},{"$error":"#N/A"},{"$error":"#N/A"}]
[null,"",null,null,{"$error":"#N/A"},null,null,null,"","",null,8,10,6,"",0,0,115,"",{"$f":"IF(AND(Y119=\"\",Z119=\"\"),0,COUNT(V$6:$V119))","v":0},"","",{"$f":"COUNT(V$5:V119)","v":0},0,"","","",{"$f":"VLOOKUP(114,count,2,FALSE)","v":{"$error":"#N/A"}},{"$error":"#N/A"},{"$error":"#N/A"},{"$error":"#N/A"},{"$error":"#N/A"},null,{"$error":"#N/A"},{"$error":"#N/A"},{"$error":"#N/A"},{"$error":"#N/A"},null,{"$error":"#N/A"},{"$error":"#N/A"},{"$error":"#N/A"},{"$error":"#N/A"},{"$error":"#N/A"}]
[null,"",null,null,{"$error":"#N/A"},null,null,null,"","",null,8,10,6,"",0,0,116,"",{"$f":"IF(AND(Y120=\"\",Z120=\"\"),0,COUNT(V$6:$V120))","v":0},"","",{"$f":"COUNT(V$5:V120)","v":0},0,"","","",{"$f":"VLOOKUP(115,count,2,FALSE)","v":{"$error":"#N/A"}},{"$error":"#N/A"},{"$error":"#N/A"},{"$error":"#N/A"},{"$error":"#N/A"},null,{"$error":"#N/A"},{"$error":"#N/A"},{"$error":"#N/A"},{"$error":"#N/A"},null,{"$error":"#N/A"},{"$error":"#N/A"},{"$error":"#N/A"},{"$error":"#N/A"},{"$error":"#N/A"}]
[null,"",null,null,{"$error":"#N/A"},null,null,null,"","",null,8,10,6,"",0,0,117,"",{"$f":"IF(AND(Y121=\"\",Z121=\"\"),0,COUNT(V$6:$V121))","v":0},"","",{"$f":"COUNT(V$5:V121)","v":0},0,"","","",{"$f":"VLOOKUP(116,count,2,FALSE)","v":{"$error":"#N/A"}},{"$error":"#N/A"},{"$error":"#N/A"},{"$error":"#N/A"},{"$error":"#N/A"},null,{"$error":"#N/A"},{"$error":"#N/A"},{"$error":"#N/A"},{"$error":"#N/A"},null,{"$error":"#N/A"},{"$error":"#N/A"},{"$error":"#N/A"},{"$error":"#N/A"},{"$error":"#N/A"}]
[null,"",null,null,{"$error":"#N/A"},null,null,null,"","",null,8,10,6,"",0,0,118,"",{"$f":"IF(AND(Y122=\"\",Z122=\"\"),0,COUNT(V$6:$V122))","v":0},"","",{"$f":"COUNT(V$5:V122)","v":0},0,"","","",{"$f":"VLOOKUP(117,count,2,FALSE)","v":{"$error":"#N/A"}},{"$error":"#N/A"},{"$error":"#N/A"},{"$error":"#N/A"},{"$error":"#N/A"},null,{"$error":"#N/A"},{"$error":"#N/A"},{"$error":"#N/A"},{"$error":"#N/A"},null,{"$error":"#N/A"},{"$error":"#N/A"},{"$error":"#N/A"},{"$error":"#N/A"},{"$error":"#N/A"}]
[null,"",null,null,{"$error":"#N/A"},null,null,null,"","",null,8,10,6,"",0,0,119,"",{"$f":"IF(AND(Y123=\"\",Z123=\"\"),0,COUNT(V$6:$V123))","v":0},"","",{"$f":"COUNT(V$5:V123)","v":0},0,"","","",{"$f":"VLOOKUP(118,count,2,FALSE)","v":{"$error":"#N/A"}},{"$error":"#N/A"},{"$error":"#N/A"},{"$error":"#N/A"},{"$error":"#N/A"},null,{"$error":"#N/A"},{"$error":"#N/A"},{"$error":"#N/A"},{"$error":"#N/A"},null,{"$error":"#N/A"},{"$error":"#N/A"},{"$error":"#N/A"},{"$error":"#N/A"},{"$error":"#N/A"}]
[null,"",null,null,{"$error":"#N/A"},null,null,null,"","",null,8,10,6,"",0,0,120,"",{"$f":"IF(AND(Y124=\"\",Z124=\"\"),0,COUNT(V$6:$V124))","v":0},"","",{"$f":"COUNT(V$5:V124)","v":0},0,"","","",{"$f":"VLOOKUP(119,count,2,FALSE)","v":{"$error":"#N/A"}},{"$error":"#N/A"},{"$error":"#N/A"},{"$error":"#N/A"},{"$error":"#N/A"},null,{"$error":"#N/A"},{"$error":"#N/A"},{"$error":"#N/A"},{"$error":"#N/A"},null,{"$error":"#N/A"},{"$error":"#N/A"},{"$error":"#N/A"},{"$error":"#N/A"},{"$error":"#N/A"}]
[null,"",null,null,{"$error":"#N/A"},null,null,null,"","",null,8,10,6,"",0,0,121,"",{"$f":"IF(AND(Y125=\"\",Z125=\"\"),0,COUNT(V$6:$V125))","v":0},"","",{"$f":"COUNT(V$5:V125)","v":0},0,"","","",{"$f":"VLOOKUP(120,count,2,FALSE)","v":{"$error":"#N/A"}},{"$error":"#N/A"},{"$error":"#N/A"},{"$error":"#N/A"},{"$error":"#N/A"},null,{"$error":"#N/A"},{"$error":"#N/A"},{"$error":"#N/A"},{"$error":"#N/A"},null,{"$error":"#N/A"},{"$error":"#N/A"},{"$error":"#N/A"},{"$error":"#N/A"},{"$error":"#N/A"}]
[null,"",null,null,{"$error":"#N/A"},null,null,null,"","",null,8,10,6,"",0,0,122,"",{"$f":"IF(AND(Y126=\"\",Z126=\"\"),0,COUNT(V$6:$V126))","v":0},"","",{"$f":"COUNT(V$5:V126)","v":0},0,"","","",{"$f":"VLOOKUP(121,count,2,FALSE)","v":{"$error":"#N/A"}},{"$error":"#N/A"},{"$error":"#N/A"},{"$error":"#N/A"},{"$error":"#N/A"},null,{"$error":"#N/A"},{"$error":"#N/A"},{"$error":"#N/A"},{"$error":"#N/A"},null,{"$error":"#N/A"},{"$error":"#N/A"},{"$error":"#N/A"},{"$error":"#N/A"},{"$error":"#N/A"}]
[null,"",null,null,{"$error":"#N/A"},null,null,null,"","",null,8,10,6,"",0,0,123,"",{"$f":"IF(AND(Y127=\"\",Z127=\"\"),0,COUNT(V$6:$V127))","v":0},"","",{"$f":"COUNT(V$5:V127)","v":0},0,"","","",{"$f":"VLOOKUP(122,count,2,FALSE)","v":{"$error":"#N/A"}},{"$error":"#N/A"},{"$error":"#N/A"},{"$error":"#N/A"},{"$error":"#N/A"},null,{"$error":"#N/A"},{"$error":"#N/A"},{"$error":"#N/A"},{"$error":"#N/A"},null,{"$error":"#N/A"},{"$error":"#N/A"},{"$error":"#N/A"},{"$error":"#N/A"},{"$error":"#N/A"}]
[null,"",null,null,{"$error":"#N/A"},null,null,null,"","",null,8,10,6,"",0,0,124,"",{"$f":"IF(AND(Y128=\"\",Z128=\"\"),0,COUNT(V$6:$V128))","v":0},"","",{"$f":"COUNT(V$5:V128)","v":0},0,"","","",{"$f":"VLOOKUP(123,count,2,FALSE)","v":{"$error":"#N/A"}},{"$error":"#N/A"},{"$error":"#N/A"},{"$error":"#N/A"},{"$error":"#N/A"},null,{"$error":"#N/A"},{"$error":"#N/A"},{"$error":"#N/A"},{"$error":"#N/A"},null,{"$error":"#N/A"},{"$error":"#N/A"},{"$error":"#N/A"},{"$error":"#N/A"},{"$error":"#N/A"}]
[null,"",null,null,{"$error":"#N/A"},null,null,null,"","",null,8,10,6,"",0,0,125,"",{"$f":"IF(AND(Y129=\"\",Z129=\"\"),0,COUNT(V$6:$V129))","v":0},"","",{"$f":"COUNT(V$5:V129)","v":0},0,"","","",{"$f":"VLOOKUP(124,count,2,FALSE)","v":{"$error":"#N/A"}},{"$error":"#N/A"},{"$error":"#N/A"},{"$error":"#N/A"},{"$error":"#N/A"},null,{"$error":"#N/A"},{"$error":"#N/A"},{"$error":"#N/A"},{"$error":"#N/A"},null,{"$error":"#N/A"},{"$error":"#N/A"},{"$error":"#N/A"},{"$error":"#N/A"},{"$error":"#N/A"}]
[null,"",null,null,{"$error":"#N/A"},null,null,null,"","",null,8,10,6,"",0,0,126,"",{"$f":"IF(AND(Y130=\"\",Z130=\"\"),0,COUNT(V$6:$V130))","v":0},"","",{"$f":"COUNT(V$5:V130)","v":0},0,"","","",{"$f":"VLOOKUP(125,count,2,FALSE)","v":{"$error":"#N/A"}},{"$error":"#N/A"},{"$error":"#N/A"},{"$error":"#N/A"},{"$error":"#N/A"},null,{"$error":"#N/A"},{"$error":"#N/A"},{"$error":"#N/A"},{"$error":"#N/A"},null,{"$error":"#N/A"},{"$error":"#N/A"},{"$error":"#N/A"},{"$error":"#N/A"},{"$error":"#N/A"}]
[null,"",null,null,{"$error":"#N/A"},null,null,null,"","",null,8,10,6,"",0,0,127,"",{"$f":"IF(AND(Y131=\"\",Z131=\"\"),0,COUNT(V$6:$V131))","v":0},"","",{"$f":"COUNT(V$5:V131)","v":0},0,"","","",{"$f":"VLOOKUP(126,count,2,FALSE)","v":{"$error":"#N/A"}},{"$error":"#N/A"},{"$error":"#N/A"},{"$error":"#N/A"},{"$error":"#N/A"},null,{"$error":"#N/A"},{"$error":"#N/A"},{"$error":"#N/A"},{"$error":"#N/A"},null,{"$error":"#N/A"},{"$error":"#N/A"},{"$error":"#N/A"},{"$error":"#N/A"},{"$error":"#N/A"}]
[null,"",null,null,{"$error":"#N/A"},null,null,null,"","",null,8,10,6,"",0,0,128,"",{"$f":"IF(AND(Y132=\"\",Z132=\"\"),0,COUNT(V$6:$V132))","v":0},"","",{"$f":"COUNT(V$5:V132)","v":0},0,"","","",{"$f":"VLOOKUP(127,count,2,FALSE)","v":{"$error":"#N/A"}},{"$error":"#N/A"},{"$error":"#N/A"},{"$error":"#N/A"},{"$error":"#N/A"},null,{"$error":"#N/A"},{"$error":"#N/A"},{"$error":"#N/A"},{"$error":"#N/A"},null,{"$error":"#N/A"},{"$error":"#N/A"},{"$error":"#N/A"},{"$error":"#N/A"},{"$error":"#N/A"}]
[null,"",null,null,{"$error":"#N/A"},null,null,null,"",{"$f":"IF(A133=\"\",\"\",IF(AND(G133>1,H133>0),MROUND((6.5+I133),0.5),IF(AND(A133<>\"\",H133=\"\"),J132)))","v":""},null,8,10,6,"",0,0,{"$f":"IF(A133=A132,R132+1,1)","v":129},"",{"$f":"IF(AND(Y133=\"\",Z133=\"\"),0,COUNT(V$6:$V133))","v":0},"","",{"$f":"COUNT(V$5:V133)","v":0},0,"","","",{"$f":"VLOOKUP(128,count,2,FALSE)","v":{"$error":"#N/A"}},{"$error":"#N/A"},{"$error":"#N/A"},{"$error":"#N/A"},{"$error":"#N/A"},null,{"$error":"#N/A"},{"$error":"#N/A"},{"$error":"#N/A"},{"$error":"#N/A"},null,{"$error":"#N/A"},{"$f":"IF(AM133=\"\",\"\",G133)","v":{"$error":"#N/A"}},{"$error":"#N/A"},{"$error":"#N/A"},{"$error":"#N/A"}]
[null,"",null,null,{"$f":"IF((D134>0),(D134/$E$4),#N/A)","v":{"$error":"#N/A"}},null,null,null,"","",null,8,{"$f":"IF(L134=\"\",\"\",L134+2)","v":10},{"$f":"IF(L134=\"\",\"\",L134-2)","v":6},"",0,0,130,{"$f":"IF(AND(R134>=R135,Q134>0),P134/Q134,\"\")","v":""},{"$f":"IF(AND(Y134=\"\",Z134=\"\"),0,COUNT(V$6:$V134))","v":0},{"$f":"IF(AND(Y134=\"\",Z134=\"\"),\"\",A134)","v":""},"",{"$f":"COUNT(V$5:V134)","v":0},0,"",{"$f":"IF(S134=\"\",\"\",IF(AND(X134=\"\",S134>0),S134+6,\"\"))","v":""},"",{"$f":"VLOOKUP(129,count,2,FALSE)","v":{"$error":"#N/A"}},{"$error":"#N/A"},{"$error":"#N/A"},{"$error":"#N/A"},{"$error":"#N/A"},null,{"$error":"#N/A"},{"$error":"#N/A"},{"$error":"#N/A"},{"$error":"#N/A"},null,{"$error":"#N/A"},{"$error":"#N/A"},{"$error":"#N/A"},{"$error":"#N/A"},{"$error":"#N/A"}]
[null,{"$f":"IF(A135=\"\",\"\",B134+1)","v":""},null,null,{"$error":"#N/A"},null,null,null,"","",null,8,10,6,"",0,0,131,"",{"$f":"IF(AND(Y135=\"\",Z135=\"\"),0,COUNT(V$6:$V135))","v":0},"",{"$f":"IF(AND(R135>=R136,Q135>0),1,\"\")","v":""},{"$f":"COUNT(V$5:V135)","v":0},{"$f":"IF(W134>=2,\"\",W134)","v":0},"","","",{"$f":"VLOOKUP(130,count,2,FALSE)","v":{"$error":"#N/A"}},{"$error":"#N/A"},{"$f":"AC135-6","v":{"$error":"#N/A"}},{"$error":"#N/A"},{"$error":"#N/A"},null,{"$f":"AB134","v":{"$error":"#N/A"}},{"$error":"#N/A"},{"$f":"IF($AI135=\"\",#N/A,($AI135+1.5))","v":{"$error":"#N/A"}},{"$f":"IF($AI135=\"\",#N/A,($AI135-1))","v":{"$error":"#N/A"}},null,{"$error":"#N/A"},{"$error":"#N/A"},{"$f":"IF(AM135=$AM$5,AQ135+1.5,IF(AM134=\"\",\"\",AQ135+1.5))","v":{"$error":"#N/A"}},{"$f":"IF(AM135=$AM$5,AQ135-1,IF(AN134=\"\",\"\",AQ135-1))","v":{"$error":"#N/A"}},{"$f":"IF(AM135=AM134,AQ134,VLOOKUP(AM135,graph,2,FALSE))","v":{"$error":"#N/A"}}]
[null,"",null,null,{"$error":"#N/A"},null,null,null,"","",null,8,10,6,"",0,0,132,"",{"$f":"IF(AND(Y136=\"\",Z136=\"\"),0,COUNT(V$6:$V136))","v":0},"","",{"$f":"COUNT(V$5:V136)","v":0},0,"","","",{"$f":"VLOOKUP(131,count,2,FALSE)","v":{"$error":"#N/A"}},{"$error":"#N/A"},{"$error":"#N/A"},{"$error":"#N/A"},{"$error":"#N/A"},null,{"$error":"#N/A"},{"$error":"#N/A"},{"$error":"#N/A"},{"$error":"#N/A"},null,{"$error":"#N/A"},{"$error":"#N/A"},{"$error":"#N/A"},{"$error":"#N/A"},{"$error":"#N/A"}]
[null,"",null,null,{"$error":"#N/A"},null,null,null,"","",null,8,10,6,"",0,0,133,"",{"$f":"IF(AND(Y137=\"\",Z137=\"\"),0,COUNT(V$6:$V137))","v":0},"","",{"$f":"COUNT(V$5:V137)","v":0},0,"","","",{"$f":"VLOOKUP(132,count,2,FALSE)","v":{"$error":"#N/A"}},{"$f":"VLOOKUP(AB137,time,6,FALSE)","v":{"$error":"#N/A"}},{"$error":"#N/A"},{"$error":"#N/A"},{"$f":"AE137-6","v":{"$error":"#N/A"}},null,{"$error":"#N/A"},{"$error":"#N/A"},{"$error":"#N/A"},{"$error":"#N/A"},null,{"$error":"#N/A"},{"$error":"#N/A"},{"$error":"#N/A"},{"$error":"#N/A"},{"$error":"#N/A"}]
[null,"",null,null,{"$error":"#N/A"},null,null,null,"","",null,8,10,6,"",0,0,134,"",{"$f":"IF(AND(Y138=\"\",Z138=\"\"),0,COUNT(V$6:$V138))","v":0},"","",{"$f":"COUNT(V$5:V138)","v":0},0,"","","",{"$f":"VLOOKUP(133,count,2,FALSE)","v":{"$error":"#N/A"}},{"$error":"#N/A"},{"$error":"#N/A"},{"$error":"#N/A"},{"$error":"#N/A"},null,{"$error":"#N/A"},{"$error":"#N/A"},{"$error":"#N/A"},{"$error":"#N/A"},null,{"$error":"#N/A"},{"$error":"#N/A"},{"$error":"#N/A"},{"$error":"#N/A"},{"$error":"#N/A"}]
[null,"",null,null,{"$error":"#N/A"},null,null,null,"","",null,8,10,6,"",0,0,135,"",{"$f":"IF(AND(Y139=\"\",Z139=\"\"),0,COUNT(V$6:$V139))","v":0},"","",{"$f":"COUNT(V$5:V139)","v":0},0,"","","",{"$f":"VLOOKUP(134,count,2,FALSE)","v":{"$error":"#N/A"}},{"$error":"#N/A"},{"$error":"#N/A"},{"$error":"#N/A"},{"$error":"#N/A"},null,{"$error":"#N/A"},{"$f":"IF(ABS(AE137-AE136)>0.5,MROUND(AE137,0.5),AI138)","v":{"$error":"#N/A"}},{"$error":"#N/A"},{"$error":"#N/A"},null,{"$error":"#N/A"},{"$error":"#N/A"},{"$error":"#N/A"},{"$error":"#N/A"},{"$error":"#N/A"}]
[null,"",null,null,{"$error":"#N/A"},null,null,null,"","",null,8,10,6,"",0,0,136,"",{"$f":"IF(AND(Y140=\"\",Z140=\"\"),0,COUNT(V$6:$V140))","v":0},"","",{"$f":"COUNT(V$5:V140)","v":0},0,"","","",{"$f":"VLOOKUP(135,count,2,FALSE)","v":{"$error":"#N/A"}},{"$error":"#N/A"},{"$error":"#N/A"},{"$error":"#N/A"},{"$error":"#N/A"},null,{"$error":"#N/A"},{"$error":"#N/A"},{"$error":"#N/A"},{"$error":"#N/A"},null,{"$error":"#N/A"},{"$error":"#N/A"},{"$error":"#N/A"},{"$error":"#N/A"},{"$error":"#N/A"}]
[null,"",null,null,{"$error":"#N/A"},null,null,null,"","",null,8,10,6,"",0,0,137,"",{"$f":"IF(AND(Y141=\"\",Z141=\"\"),0,COUNT(V$6:$V141))","v":0},"","",{"$f":"COUNT(V$5:V141)","v":0},0,"","","",{"$f":"VLOOKUP(136,count,2,FALSE)","v":{"$error":"#N/A"}},{"$error":"#N/A"},{"$error":"#N/A"},{"$error":"#N/A"},{"$error":"#N/A"},null,{"$error":"#N/A"},{"$error":"#N/A"},{"$error":"#N/A"},{"$error":"#N/A"},null,{"$error":"#N/A"},{"$error":"#N/A"},{"$error":"#N/A"},{"$error":"#N/A"},{"$error":"#N/A"}]
[null,"",null,null,{"$error":"#N/A"},null,null,null,"","",null,8,10,6,"",0,0,138,"",{"$f":"IF(AND(Y142=\"\",Z142=\"\"),0,COUNT(V$6:$V142))","v":0},"","",{"$f":"COUNT(V$5:V142)","v":0},0,"","","",{"$f":"VLOOKUP(137,count,2,FALSE)","v":{"$error":"#N/A"}},{"$error":"#N/A"},{"$error":"#N/A"},{"$error":"#N/A"},{"$error":"#N/A"},null,{"$error":"#N/A"},{"$error":"#N/A"},{"$error":"#N/A"},{"$error":"#N/A"},null,{"$error":"#N/A"},{"$error":"#N/A"},{"$error":"#N/A"},{"$error":"#N/A"},{"$error":"#N/A"}]
[null,"",null,null,{"$error":"#N/A"},null,null,null,"","",null,8,10,6,"",0,0,139,"",{"$f":"IF(AND(Y143=\"\",Z143=\"\"),0,COUNT(V$6:$V143))","v":0},"","",{"$f":"COUNT(V$5:V143)","v":0},0,"","","",{"$f":"VLOOKUP(138,count,2,FALSE)","v":{"$error":"#N/A"}},{"$error":"#N/A"},{"$error":"#N/A"},{"$error":"#N/A"},{"$error":"#N/A"},null,{"$error":"#N/A"},{"$error":"#N/A"},{"$error":"#N/A"},{"$error":"#N/A"},null,{"$error":"#N/A"},{"$error":"#N/A"},{"$error":"#N/A"},{"$error":"#N/A"},{"$error":"#N/A"}]
[null,"",null,null,{"$error":"#N/A"},null,null,null,"","",null,8,10,6,"",0,0,140,"",{"$f":"IF(AND(Y144=\"\",Z144=\"\"),0,COUNT(V$6:$V144))","v":0},"","",{"$f":"COUNT(V$5:V144)","v":0},0,"","","",{"$f":"VLOOKUP(139,count,2,FALSE)","v":{"$error":"#N/A"}},{"$error":"#N/A"},{"$error":"#N/A"},{"$error":"#N/A"},{"$error":"#N/A"},null,{"$error":"#N/A"},{"$error":"#N/A"},{"$error":"#N/A"},{"$error":"#N/A"},null,{"$error":"#N/A"},{"$error":"#N/A"},{"$error":"#N/A"},{"$error":"#N/A"},{"$error":"#N/A"}]
[null,"",null,null,{"$error":"#N/A"},null,null,null,"","",null,8,10,6,"",0,0,141,"",{"$f":"IF(AND(Y145=\"\",Z145=\"\"),0,COUNT(V$6:$V145))","v":0},"","",{"$f":"COUNT(V$5:V145)","v":0},0,"","","",{"$f":"VLOOKUP(140,count,2,FALSE)","v":{"$error":"#N/A"}},{"$error":"#N/A"},{"$error":"#N/A"},{"$error":"#N/A"},{"$error":"#N/A"},null,{"$error":"#N/A"},{"$error":"#N/A"},{"$error":"#N/A"},{"$error":"#N/A"},null,{"$error":"#N/A"},{"$error":"#N/A"},{"$error":"#N/A"},{"$error":"#N/A"},{"$error":"#N/A"}]
[null,"",null,null,{"$error":"#N/A"},null,null,null,"","",null,8,10,6,"",0,0,142,"",{"$f":"IF(AND(Y146=\"\",Z146=\"\"),0,COUNT(V$6:$V146))","v":0},"","",{"$f":"COUNT(V$5:V146)","v":0},0,"","","",{"$f":"VLOOKUP(141,count,2,FALSE)","v":{"$error":"#N/A"}},{"$error":"#N/A"},{"$error":"#N/A"},{"$error":"#N/A"},{"$error":"#N/A"},null,{"$error":"#N/A"},{"$error":"#N/A"},{"$error":"#N/A"},{"$error":"#N/A"},null,{"$error":"#N/A"},{"$error":"#N/A"},{"$error":"#N/A"},{"$error":"#N/A"},{"$error":"#N/A"}]
[null,"",null,null,{"$error":"#N/A"},null,null,null,"","",null,8,10,6,"",0,0,143,"",{"$f":"IF(AND(Y147=\"\",Z147=\"\"),0,COUNT(V$6:$V147))","v":0},"","",{"$f":"COUNT(V$5:V147)","v":0},0,"","","",{"$f":"VLOOKUP(142,count,2,FALSE)","v":{"$error":"#N/A"}},{"$error":"#N/A"},{"$error":"#N/A"},{"$error":"#N/A"},{"$error":"#N/A"},null,{"$error":"#N/A"},{"$error":"#N/A"},{"$error":"#N/A"},{"$error":"#N/A"},null,{"$error":"#N/A"},{"$error":"#N/A"},{"$error":"#N/A"},{"$error":"#N/A"},{"$error":"#N/A"}]
[null,"",null,null,{"$error":"#N/A"},null,null,null,"","",null,8,10,6,"",0,0,144,"",{"$f":"IF(AND(Y148=\"\",Z148=\"\"),0,COUNT(V$6:$V148))","v":0},"","",{"$f":"COUNT(V$5:V148)","v":0},0,"","","",{"$f":"VLOOKUP(143,count,2,FALSE)","v":{"$error":"#N/A"}},{"$error":"#N/A"},{"$error":"#N/A"},{"$error":"#N/A"},{"$error":"#N/A"},null,{"$error":"#N/A"},{"$error":"#N/A"},{"$error":"#N/A"},{"$error":"#N/A"},null,{"$error":"#N/A"},{"$error":"#N/A"},{"$error":"#N/A"},{"$error":"#N/A"},{"$error":"#N/A"}]
[null,"",null,null,{"$error":"#N/A"},null,null,null,"","",null,8,10,6,"",0,0,145,"",{"$f":"IF(AND(Y149=\"\",Z149=\"\"),0,COUNT(V$6:$V149))","v":0},"","",{"$f":"COUNT(V$5:V149)","v":0},0,"","","",{"$f":"VLOOKUP(144,count,2,FALSE)","v":{"$error":"#N/A"}},{"$error":"#N/A"},{"$error":"#N/A"},{"$error":"#N/A"},{"$error":"#N/A"},null,{"$error":"#N/A"},{"$error":"#N/A"},{"$error":"#N/A"},{"$error":"#N/A"},null,{"$error":"#N/A"},{"$error":"#N/A"},{"$error":"#N/A"},{"$error":"#N/A"},{"$error":"#N/A"}]
[null,"",null,null,{"$error":"#N/A"},null,null,null,"","",null,8,10,6,"",0,0,146,"",{"$f":"IF(AND(Y150=\"\",Z150=\"\"),0,COUNT(V$6:$V150))","v":0},"","",{"$f":"COUNT(V$5:V150)","v":0},0,"","","",{"$f":"VLOOKUP(145,count,2,FALSE)","v":{"$error":"#N/A"}},{"$error":"#N/A"},{"$error":"#N/A"},{"$error":"#N/A"},{"$error":"#N/A"},null,{"$error":"#N/A"},{"$error":"#N/A"},{"$error":"#N/A"},{"$error":"#N/A"},null,{"$error":"#N/A"},{"$error":"#N/A"},{"$error":"#N/A"},{"$error":"#N/A"},{"$error":"#N/A"}]
[null,"",null,null,{"$error":"#N/A"},null,null,null,"","",null,8,10,6,"",0,0,147,"",{"$f":"IF(AND(Y151=\"\",Z151=\"\"),0,COUNT(V$6:$V151))","v":0},"","",{"$f":"COUNT(V$5:V151)","v":0},0,"","","",{"$f":"VLOOKUP(146,count,2,FALSE)","v":{"$error":"#N/A"}},{"$error":"#N/A"},{"$error":"#N/A"},{"$error":"#N/A"},{"$error":"#N/A"},null,{"$error":"#N/A"},{"$error":"#N/A"},{"$error":"#N/A"},{"$error":"#N/A"},null,{"$error":"#N/A"},{"$error":"#N/A"},{"$error":"#N/A"},{"$error":"#N/A"},{"$error":"#N/A"}]
[null,"",null,null,{"$error":"#N/A"},null,null,null,"","",null,8,10,6,"",0,0,148,"",{"$f":"IF(AND(Y152=\"\",Z152=\"\"),0,COUNT(V$6:$V152))","v":0},"","",{"$f":"COUNT(V$5:V152)","v":0},0,"","","",{"$f":"VLOOKUP(147,count,2,FALSE)","v":{"$error":"#N/A"}},{"$error":"#N/A"},{"$error":"#N/A"},{"$error":"#N/A"},{"$error":"#N/A"},null,{"$error":"#N/A"},{"$error":"#N/A"},{"$error":"#N/A"},{"$error":"#N/A"},null,{"$error":"#N/A"},{"$error":"#N/A"},{"$error":"#N/A"},{"$error":"#N/A"},{"$error":"#N/A"}]
[null,"",null,null,{"$error":"#N/A"},null,null,null,"","",null,8,10,6,"",0,0,149,"",{"$f":"IF(AND(Y153=\"\",Z153=\"\"),0,COUNT(V$6:$V153))","v":0},"","",{"$f":"COUNT(V$5:V153)","v":0},0,"","","",{"$f":"VLOOKUP(148,count,2,FALSE)","v":{"$error":"#N/A"}},{"$error":"#N/A"},{"$error":"#N/A"},{"$error":"#N/A"},{"$error":"#N/A"},null,{"$error":"#N/A"},{"$error":"#N/A"},{"$error":"#N/A"},{"$error":"#N/A"},null,{"$error":"#N/A"},{"$error":"#N/A"},{"$error":"#N/A"},{"$error":"#N/A"},{"$error":"#N/A"}]
[null,"",null,null,{"$error":"#N/A"},null,null,null,"","",null,8,10,6,"",0,0,150,"",{"$f":"IF(AND(Y154=\"\",Z154=\"\"),0,COUNT(V$6:$V154))","v":0},"","",{"$f":"COUNT(V$5:V154)","v":0},0,"","","",{"$f":"VLOOKUP(149,count,2,FALSE)","v":{"$error":"#N/A"}},{"$error":"#N/A"},{"$error":"#N/A"},{"$error":"#N/A"},{"$error":"#N/A"},null,{"$error":"#N/A"},{"$error":"#N/A"},{"$error":"#N/A"},{"$error":"#N/A"},null,{"$error":"#N/A"},{"$error":"#N/A"},{"$error":"#N/A"},{"$error":"#N/A"},{"$error":"#N/A"}]
[null,{"$f":"IF(A155=\"\",\"\",B154+1)","v":""},null,null,{"$error":"#N/A"},null,null,null,{"$f":"IF(H155=\"\",\"\",(G155-H155))","v":""},"",null,8,10,6,"",{"$f":"IF(AND(H155=\"\",A154=A155),P154,IF(AND(A154=A155,H155>1),O155+P154,IF(H155=\"\",0,IF(H155>0,O155))))","v":0},{"$f":"IF(AND(A155=A154,H155>1),Q154+1,IF(AND(H155=\"\",A155=A154),Q154,IF(AND(H155=\"\",P155=0),0,1)))","v":0},{"$f":"IF(A155=A154,R154+1,1)","v":151},{"$f":"IF(AND(R155>=R156,Q155>0),P155/Q155,\"\")","v":""},{"$f":"IF(AND(Y155=\"\",Z155=\"\"),0,COUNT(V$6:$V155))","v":0},{"$f":"IF(AND(Y155=\"\",Z155=\"\"),\"\",A155)","v":""},{"$f":"IF(AND(R155>=R156,Q155>0),1,\"\")","v":""},{"$f":"COUNT(V$5:V155)","v":0},{"$f":"IF(W154>=2,\"\",W154)","v":0},{"$f":"IF(X155<X156,S155+6,\"\")","v":""},{"$f":"IF(S155=\"\",\"\",IF(AND(X155=\"\",S155>0),S155+6,\"\"))","v":""},"",{"$f":"VLOOKUP(149,count,2,FALSE)","v":{"$error":"#N/A"}},{"$error":"#N/A"},{"$error":"#N/A"},{"$f":"AVERAGE(AC154:AC155)","v":{"$error":"#N/A"}},{"$error":"#N/A"},null,{"$f":"AB154","v":{"$error":"#N/A"}},{"$error":"#N/A"},{"$error":"#N/A"},{"$error":"#N/A"},null,{"$f":"IF(A155=\"\",#N/A,A155)","v":{"$error":"#N/A"}},{"$f":"IF(AM155=\"\",\"\",G155)","v":{"$error":"#N/A"}},{"$f":"IF(AM155=$AM$5,AQ155+1.5,IF(AM154=\"\",\"\",AQ155+1.5))","v":{"$error":"#N/A"}},{"$f":"IF(AM155=$AM$5,AQ155-1,IF(AN154=\"\",\"\",AQ155-1))","v":{"$error":"#N/A"}},{"$f":"IF(AM155=AM154,AQ154,VLOOKUP(AM155,graph,2,FALSE))","v":{"$error":"#N/A"}}]
[null,"",null,null,{"$error":"#N/A"},null,null,null,"","",null,8,10,6,"",0,0,152,"",{"$f":"IF(AND(Y156=\"\",Z156=\"\"),0,COUNT(V$6:$V156))","v":0},"","",{"$f":"COUNT(V$5:V156)","v":0},0,"","","",{"$error":"#N/A"},{"$error":"#N/A"},{"$error":"#N/A"},{"$error":"#N/A"},{"$error":"#N/A"},null,{"$error":"#N/A"},{"$error":"#N/A"},{"$error":"#N/A"},{"$error":"#N/A"},null,{"$error":"#N/A"},{"$error":"#N/A"},{"$error":"#N/A"},{"$error":"#N/A"},{"$error":"#N/A"}]
[null,"",null,null,{"$error":"#N/A"},null,null,null,"","",null,8,10,6,"",0,0,153,"",{"$f":"IF(AND(Y157=\"\",Z157=\"\"),0,COUNT(V$6:$V157))","v":0},"","",{"$f":"COUNT(V$5:V157)","v":0},0,"","","",{"$error":"#N/A"},{"$error":"#N/A"},{"$error":"#N/A"},{"$error":"#N/A"},{"$error":"#N/A"},null,{"$error":"#N/A"},{"$error":"#N/A"},{"$error":"#N/A"},{"$error":"#N/A"},null,{"$error":"#N/A"},{"$error":"#N/A"},{"$error":"#N/A"},{"$error":"#N/A"},{"$error":"#N/A"}]
[null,"",null,null,{"$error":"#N/A"},null,null,null,"","",null,8,10,6,"",0,0,154,"",{"$f":"IF(AND(Y158=\"\",Z158=\"\"),0,COUNT(V$6:$V158))","v":0},"","",{"$f":"COUNT(V$5:V158)","v":0},0,"","","",{"$error":"#N/A"},{"$error":"#N/A"},{"$error":"#N/A"},{"$error":"#N/A"},{"$error":"#N/A"},null,{"$error":"#N/A"},{"$error":"#N/A"},{"$error":"#N/A"},{"$error":"#N/A"},null,{"$error":"#N/A"},{"$error":"#N/A"},{"$error":"#N/A"},{"$error":"#N/A"},{"$error":"#N/A"}]
[null,"",null,null,{"$error":"#N/A"},null,null,null,"","",null,8,10,6,"",0,0,155,"",{"$f":"IF(AND(Y159=\"\",Z159=\"\"),0,COUNT(V$6:$V159))","v":0},"","",{"$f":"COUNT(V$5:V159)","v":0},0,"","","",{"$error":"#N/A"},{"$error":"#N/A"},{"$error":"#N/A"},{"$error":"#N/A"},{"$error":"#N/A"},null,{"$error":"#N/A"},{"$error":"#N/A"},{"$error":"#N/A"},{"$error":"#N/A"},null,{"$error":"#N/A"},{"$error":"#N/A"},{"$error":"#N/A"},{"$error":"#N/A"},{"$error":"#N/A"}]
[null,"",null,null,{"$error":"#N/A"},null,null,null,"","",null,8,10,6,"",0,0,156,"",{"$f":"IF(AND(Y160=\"\",Z160=\"\"),0,COUNT(V$6:$V160))","v":0},"","",{"$f":"COUNT(V$5:V160)","v":0},0,"","","",{"$error":"#N/A"},{"$error":"#N/A"},{"$error":"#N/A"},{"$error":"#N/A"},{"$error":"#N/A"},null,{"$error":"#N/A"},{"$error":"#N/A"},{"$error":"#N/A"},{"$error":"#N/A"},null,{"$error":"#N/A"},{"$error":"#N/A"},{"$error":"#N/A"},{"$error":"#N/A"},{"$error":"#N/A"}]
[null,"",null,null,{"$error":"#N/A"},null,null,null,"","",null,8,10,6,"",0,0,157,"",{"$f":"IF(AND(Y161=\"\",Z161=\"\"),0,COUNT(V$6:$V161))","v":0},"","",{"$f":"COUNT(V$5:V161)","v":0},0,"","","",{"$error":"#N/A"},{"$error":"#N/A"},{"$error":"#N/A"},{"$error":"#N/A"},{"$error":"#N/A"},null,{"$error":"#N/A"},{"$error":"#N/A"},{"$error":"#N/A"},{"$error":"#N/A"},null,{"$error":"#N/A"},{"$error":"#N/A"},{"$error":"#N/A"},{"$error":"#N/A"},{"$error":"#N/A"}]
[null,"",null,null,{"$error":"#N/A"},null,null,null,"","",null,8,10,6,"",0,0,158,"",{"$f":"IF(AND(Y162=\"\",Z162=\"\"),0,COUNT(V$6:$V162))","v":0},"","",{"$f":"COUNT(V$5:V162)","v":0},0,"","","",{"$error":"#N/A"},{"$error":"#N/A"},{"$error":"#N/A"},{"$error":"#N/A"},{"$error":"#N/A"},null,{"$error":"#N/A"},{"$error":"#N/A"},{"$error":"#N/A"},{"$error":"#N/A"},null,{"$error":"#N/A"},{"$error":"#N/A"},{"$error":"#N/A"},{"$error":"#N/A"},{"$error":"#N/A"}]
[null,"",null,null,{"$error":"#N/A"},null,null,null,"","",null,8,10,6,"",0,0,159,"",{"$f":"IF(AND(Y163=\"\",Z163=\"\"),0,COUNT(V$6:$V163))","v":0},"","",{"$f":"COUNT(V$5:V163)","v":0},0,"","","",{"$error":"#N/A"},{"$error":"#N/A"},{"$error":"#N/A"},{"$error":"#N/A"},{"$error":"#N/A"},null,{"$error":"#N/A"},{"$error":"#N/A"},{"$error":"#N/A"},{"$error":"#N/A"},null,{"$error":"#N/A"},{"$error":"#N/A"},{"$error":"#N/A"},{"$error":"#N/A"},{"$error":"#N/A"}]
[null,"",null,null,{"$error":"#N/A"},null,null,null,"","",null,8,10,6,"",0,0,160,"",{"$f":"IF(AND(Y164=\"\",Z164=\"\"),0,COUNT(V$6:$V164))","v":0},"","",{"$f":"COUNT(V$5:V164)","v":0},0,"","","",{"$error":"#N/A"},{"$error":"#N/A"},{"$error":"#N/A"},{"$error":"#N/A"},{"$error":"#N/A"},null,{"$error":"#N/A"},{"$error":"#N/A"},{"$error":"#N/A"},{"$error":"#N/A"},null,{"$error":"#N/A"},{"$error":"#N/A"},{"$error":"#N/A"},{"$error":"#N/A"},{"$error":"#N/A"}]
[null,"",null,null,{"$error":"#N/A"},null,null,null,"",{"$f":"IF(A165=\"\",\"\",IF(AND(G165>1,H165>0),MROUND((6.5+I165),0.5),IF(AND(A165<>\"\",H165=\"\"),J164)))","v":""},null,8,10,6,"",0,0,161,"",{"$f":"IF(AND(Y165=\"\",Z165=\"\"),0,COUNT(V$6:$V165))","v":0},"","",{"$f":"COUNT(V$5:V165)","v":0},0,"","","",{"$error":"#N/A"},{"$error":"#N/A"},{"$error":"#N/A"},{"$error":"#N/A"},{"$error":"#N/A"},null,{"$error":"#N/A"},{"$error":"#N/A"},{"$error":"#N/A"},{"$error":"#N/A"},null,{"$error":"#N/A"},{"$error":"#N/A"},{"$error":"#N/A"},{"$error":"#N/A"},{"$error":"#N/A"}]
[null,"",null,null,{"$error":"#N/A"},null,null,null,"","",null,8,10,6,"",0,0,162,"",{"$f":"IF(AND(Y166=\"\",Z166=\"\"),0,COUNT(V$6:$V166))","v":0},"","",{"$f":"COUNT(V$5:V166)","v":0},0,"","","",{"$error":"#N/A"},{"$error":"#N/A"},{"$error":"#N/A"},{"$error":"#N/A"},{"$error":"#N/A"},null,{"$error":"#N/A"},{"$error":"#N/A"},{"$error":"#N/A"},{"$error":"#N/A"},null,{"$error":"#N/A"},{"$error":"#N/A"},{"$error":"#N/A"},{"$error":"#N/A"},{"$error":"#N/A"}]
[null,"",null,null,{"$error":"#N/A"},null,null,null,"","",null,8,10,6,"",0,0,163,"",{"$f":"IF(AND(Y167=\"\",Z167=\"\"),0,COUNT(V$6:$V167))","v":0},"","",{"$f":"COUNT(V$5:V167)","v":0},0,"","","",{"$error":"#N/A"},{"$error":"#N/A"},{"$error":"#N/A"},{"$error":"#N/A"},{"$error":"#N/A"},null,{"$error":"#N/A"},{"$error":"#N/A"},{"$error":"#N/A"},{"$error":"#N/A"},null,{"$error":"#N/A"},{"$error":"#N/A"},{"$error":"#N/A"},{"$error":"#N/A"},{"$error":"#N/A"}]
[null,"",null,null,{"$error":"#N/A"},null,null,null,"","",null,8,10,6,"",0,0,164,"",{"$f":"IF(AND(Y168=\"\",Z168=\"\"),0,COUNT(V$6:$V168))","v":0},"","",{"$f":"COUNT(V$5:V168)","v":0},0,"","","",{"$error":"#N/A"},{"$error":"#N/A"},{"$error":"#N/A"},{"$error":"#N/A"},{"$error":"#N/A"},null,{"$error":"#N/A"},{"$error":"#N/A"},{"$error":"#N/A"},{"$error":"#N/A"},null,{"$error":"#N/A"},{"$error":"#N/A"},{"$error":"#N/A"},{"$error":"#N/A"},{"$error":"#N/A"}]
[null,"",null,null,{"$error":"#N/A"},null,null,null,"","",null,8,10,6,{"$f":"I169","v":""},0,0,165,"",{"$f":"IF(AND(Y169=\"\",Z169=\"\"),0,COUNT(V$6:$V169))","v":0},"","",{"$f":"COUNT(V$5:V169)","v":0},0,"","",{"$f":"IF(Z169=\"\",\"\",ABS($AI$6-Z169))","v":""},{"$error":"#N/A"},{"$error":"#N/A"},{"$error":"#N/A"},{"$error":"#N/A"},{"$error":"#N/A"},null,{"$error":"#N/A"},{"$error":"#N/A"},{"$error":"#N/A"},{"$error":"#N/A"},null,{"$error":"#N/A"},{"$error":"#N/A"},{"$error":"#N/A"},{"$error":"#N/A"},{"$error":"#N/A"}]
[null,"",null,null,{"$error":"#N/A"},null,null,null,"","",null,8,10,6,"",0,0,166,"",{"$f":"IF(AND(Y170=\"\",Z170=\"\"),0,COUNT(V$6:$V170))","v":0},"","",{"$f":"COUNT(V$5:V170)","v":0},0,"","","",{"$error":"#N/A"},{"$error":"#N/A"},{"$error":"#N/A"},{"$error":"#N/A"},{"$error":"#N/A"},null,{"$error":"#N/A"},{"$error":"#N/A"},{"$error":"#N/A"},{"$error":"#N/A"},null,{"$error":"#N/A"},{"$error":"#N/A"},{"$error":"#N/A"},{"$error":"#N/A"},{"$error":"#N/A"}]
[null,"",null,null,{"$error":"#N/A"},null,null,null,"","",null,8,10,6,"",0,0,167,"",{"$f":"IF(AND(Y171=\"\",Z171=\"\"),0,COUNT(V$6:$V171))","v":0},"","",{"$f":"COUNT(V$5:V171)","v":0},0,"","","",{"$error":"#N/A"},{"$error":"#N/A"},{"$error":"#N/A"},{"$error":"#N/A"},{"$error":"#N/A"},null,{"$error":"#N/A"},{"$error":"#N/A"},{"$error":"#N/A"},{"$error":"#N/A"},null,{"$error":"#N/A"},{"$error":"#N/A"},{"$error":"#N/A"},{"$error":"#N/A"},{"$error":"#N/A"}]
[null,"",null,null,{"$error":"#N/A"},null,null,null,"","",null,8,10,6,"",0,0,168,"",{"$f":"IF(AND(Y172=\"\",Z172=\"\"),0,COUNT(V$6:$V172))","v":0},"","",{"$f":"COUNT(V$5:V172)","v":0},0,"","","",{"$error":"#N/A"},{"$error":"#N/A"},{"$error":"#N/A"},{"$error":"#N/A"},{"$error":"#N/A"},null,{"$error":"#N/A"},{"$error":"#N/A"},{"$error":"#N/A"},{"$error":"#N/A"},null,{"$error":"#N/A"},{"$error":"#N/A"},{"$error":"#N/A"},{"$error":"#N/A"},{"$error":"#N/A"}]
[null,"",null,null,{"$error":"#N/A"},null,null,null,"","",null,8,10,6,"",0,0,169,"",{"$f":"IF(AND(Y173=\"\",Z173=\"\"),0,COUNT(V$6:$V173))","v":0},"","",{"$f":"COUNT(V$5:V173)","v":0},0,"","","",{"$error":"#N/A"},{"$error":"#N/A"},{"$error":"#N/A"},{"$error":"#N/A"},{"$error":"#N/A"},null,{"$error":"#N/A"},{"$error":"#N/A"},{"$error":"#N/A"},{"$error":"#N/A"},null,{"$error":"#N/A"},{"$error":"#N/A"},{"$error":"#N/A"},{"$error":"#N/A"},{"$error":"#N/A"}]
[null,"",null,null,{"$error":"#N/A"},null,null,null,"","",null,8,10,6,"",0,0,170,"",{"$f":"IF(AND(Y174=\"\",Z174=\"\"),0,COUNT(V$6:$V174))","v":0},"","",{"$f":"COUNT(V$5:V174)","v":0},0,"","","",{"$error":"#N/A"},{"$error":"#N/A"},{"$error":"#N/A"},{"$error":"#N/A"},{"$error":"#N/A"},null,{"$error":"#N/A"},{"$error":"#N/A"},{"$error":"#N/A"},{"$error":"#N/A"},null,{"$error":"#N/A"},{"$error":"#N/A"},{"$error":"#N/A"},{"$error":"#N/A"},{"$error":"#N/A"}]
[null,"",null,null,{"$error":"#N/A"},null,null,null,"","",null,8,10,6,"",0,0,171,"",{"$f":"IF(AND(Y175=\"\",Z175=\"\"),0,COUNT(V$6:$V175))","v":0},"","",{"$f":"COUNT(V$5:V175)","v":0},0,"","","",{"$error":"#N/A"},{"$error":"#N/A"},{"$error":"#N/A"},{"$error":"#N/A"},{"$error":"#N/A"},null,{"$error":"#N/A"},{"$error":"#N/A"},{"$error":"#N/A"},{"$error":"#N/A"},null,{"$error":"#N/A"},{"$error":"#N/A"},{"$error":"#N/A"},{"$error":"#N/A"},{"$error":"#N/A"}]
[null,"",null,null,{"$error":"#N/A"},null,null,null,"","",null,8,10,6,"",0,0,172,"",{"$f":"IF(AND(Y176=\"\",Z176=\"\"),0,COUNT(V$6:$V176))","v":0},"","",{"$f":"COUNT(V$5:V176)","v":0},0,"","","",{"$error":"#N/A"},{"$error":"#N/A"},{"$error":"#N/A"},{"$error":"#N/A"},{"$error":"#N/A"},null,{"$error":"#N/A"},{"$error":"#N/A"},{"$error":"#N/A"},{"$error":"#N/A"},null,{"$error":"#N/A"},{"$error":"#N/A"},{"$error":"#N/A"},{"$error":"#N/A"},{"$error":"#N/A"}]
[null,"",null,null,{"$error":"#N/A"},null,null,null,"","",null,8,10,6,"",0,0,173,"",{"$f":"IF(AND(Y177=\"\",Z177=\"\"),0,COUNT(V$6:$V177))","v":0},"","",{"$f":"COUNT(V$5:V177)","v":0},0,"","","",{"$error":"#N/A"},{"$error":"#N/A"},{"$error":"#N/A"},{"$error":"#N/A"},{"$error":"#N/A"},null,{"$error":"#N/A"},{"$error":"#N/A"},{"$error":"#N/A"},{"$error":"#N/A"},null,{"$error":"#N/A"},{"$error":"#N/A"},{"$error":"#N/A"},{"$error":"#N/A"},{"$error":"#N/A"}]
[null,"",null,null,{"$error":"#N/A"},null,null,null,"","",null,8,10,6,"",0,0,174,"",{"$f":"IF(AND(Y178=\"\",Z178=\"\"),0,COUNT(V$6:$V178))","v":0},"","",{"$f":"COUNT(V$5:V178)","v":0},0,"","","",{"$error":"#N/A"},{"$error":"#N/A"},{"$error":"#N/A"},{"$error":"#N/A"},{"$error":"#N/A"},null,{"$error":"#N/A"},{"$error":"#N/A"},{"$error":"#N/A"},{"$error":"#N/A"},null,{"$error":"#N/A"},{"$error":"#N/A"},{"$error":"#N/A"},{"$error":"#N/A"},{"$error":"#N/A"}]
[null,"",null,null,{"$error":"#N/A"},null,null,null,"","",null,8,10,6,"",0,0,175,"",{"$f":"IF(AND(Y179=\"\",Z179=\"\"),0,COUNT(V$6:$V179))","v":0},"","",{"$f":"COUNT(V$5:V179)","v":0},0,"","","",{"$error":"#N/A"},{"$error":"#N/A"},{"$error":"#N/A"},{"$error":"#N/A"},{"$error":"#N/A"},null,{"$error":"#N/A"},{"$error":"#N/A"},{"$error":"#N/A"},{"$error":"#N/A"},null,{"$error":"#N/A"},{"$error":"#N/A"},{"$error":"#N/A"},{"$error":"#N/A"},{"$error":"#N/A"}]
[null,"",null,null,{"$error":"#N/A"},null,null,null,"","",null,8,10,6,"",0,0,176,"",{"$f":"IF(AND(Y180=\"\",Z180=\"\"),0,COUNT(V$6:$V180))","v":0},"","",{"$f":"COUNT(V$5:V180)","v":0},0,"","","",{"$error":"#N/A"},{"$error":"#N/A"},{"$error":"#N/A"},{"$error":"#N/A"},{"$error":"#N/A"},null,{"$error":"#N/A"},{"$error":"#N/A"},{"$error":"#N/A"},{"$error":"#N/A"},null,{"$error":"#N/A"},{"$error":"#N/A"},{"$error":"#N/A"},{"$error":"#N/A"},{"$error":"#N/A"}]
[null,"",null,null,{"$error":"#N/A"},null,null,null,"","",null,8,10,6,"",0,0,177,"",{"$f":"IF(AND(Y181=\"\",Z181=\"\"),0,COUNT(V$6:$V181))","v":0},"","",{"$f":"COUNT(V$5:V181)","v":0},0,"","","",{"$error":"#N/A"},{"$error":"#N/A"},{"$error":"#N/A"},{"$error":"#N/A"},{"$error":"#N/A"},null,{"$error":"#N/A"},{"$error":"#N/A"},{"$error":"#N/A"},{"$error":"#N/A"},null,{"$error":"#N/A"},{"$error":"#N/A"},{"$error":"#N/A"},{"$error":"#N/A"},{"$error":"#N/A"}]
[null,"",null,null,{"$error":"#N/A"},null,null,null,"","",null,8,10,6,"",0,0,178,"",{"$f":"IF(AND(Y182=\"\",Z182=\"\"),0,COUNT(V$6:$V182))","v":0},"","",{"$f":"COUNT(V$5:V182)","v":0},0,"","","",{"$error":"#N/A"},{"$error":"#N/A"},{"$error":"#N/A"},{"$error":"#N/A"},{"$error":"#N/A"},null,{"$error":"#N/A"},{"$error":"#N/A"},{"$error":"#N/A"},{"$error":"#N/A"},null,{"$error":"#N/A"},{"$error":"#N/A"},{"$error":"#N/A"},{"$error":"#N/A"},{"$error":"#N/A"}]
[null,"",null,null,{"$error":"#N/A"},null,null,null,"","",null,8,10,6,"",0,0,179,"",{"$f":"IF(AND(Y183=\"\",Z183=\"\"),0,COUNT(V$6:$V183))","v":0},"","",{"$f":"COUNT(V$5:V183)","v":0},0,"","","",{"$error":"#N/A"},{"$error":"#N/A"},{"$error":"#N/A"},{"$error":"#N/A"},{"$error":"#N/A"},null,{"$error":"#N/A"},{"$error":"#N/A"},{"$error":"#N/A"},{"$error":"#N/A"},null,{"$error":"#N/A"},{"$error":"#N/A"},{"$error":"#N/A"},{"$error":"#N/A"},{"$error":"#N/A"}]
[null,"",null,null,{"$error":"#N/A"},null,null,null,"","",null,8,10,6,"",0,0,180,"",{"$f":"IF(AND(Y184=\"\",Z184=\"\"),0,COUNT(V$6:$V184))","v":0},"","",{"$f":"COUNT(V$5:V184)","v":0},0,"","","",{"$error":"#N/A"},{"$error":"#N/A"},{"$error":"#N/A"},{"$error":"#N/A"},{"$error":"#N/A"},null,{"$error":"#N/A"},{"$error":"#N/A"},{"$error":"#N/A"},{"$error":"#N/A"},null,{"$error":"#N/A"},{"$error":"#N/A"},{"$error":"#N/A"},{"$error":"#N/A"},{"$error":"#N/A"}]
[null,"",null,null,{"$error":"#N/A"},null,null,null,"","",null,8,10,6,"",0,0,181,"",{"$f":"IF(AND(Y185=\"\",Z185=\"\"),0,COUNT(V$6:$V185))","v":0},"","",{"$f":"COUNT(V$5:V185)","v":0},0,"","","",{"$error":"#N/A"},{"$error":"#N/A"},{"$error":"#N/A"},{"$error":"#N/A"},{"$error":"#N/A"},null,{"$error":"#N/A"},{"$error":"#N/A"},{"$error":"#N/A"},{"$error":"#N/A"},null,{"$error":"#N/A"},{"$error":"#N/A"},{"$error":"#N/A"},{"$error":"#N/A"},{"$error":"#N/A"}]
[null,"",null,null,{"$error":"#N/A"},null,null,null,"","",null,8,10,6,"",0,0,182,"",{"$f":"IF(AND(Y186=\"\",Z186=\"\"),0,COUNT(V$6:$V186))","v":0},"","",{"$f":"COUNT(V$5:V186)","v":0},0,"","","",{"$error":"#N/A"},{"$error":"#N/A"},{"$error":"#N/A"},{"$error":"#N/A"},{"$error":"#N/A"},null,{"$error":"#N/A"},{"$error":"#N/A"},{"$error":"#N/A"},{"$error":"#N/A"},null,{"$error":"#N/A"},{"$error":"#N/A"},{"$error":"#N/A"},{"$error":"#N/A"},{"$error":"#N/A"}]
[null,"",null,null,{"$error":"#N/A"},null,null,null,"","",null,8,10,6,"",0,0,183,"",{"$f":"IF(AND(Y187=\"\",Z187=\"\"),0,COUNT(V$6:$V187))","v":0},"","",{"$f":"COUNT(V$5:V187)","v":0},0,"","","",{"$error":"#N/A"},{"$error":"#N/A"},{"$error":"#N/A"},{"$error":"#N/A"},{"$error":"#N/A"},null,{"$error":"#N/A"},{"$error":"#N/A"},{"$error":"#N/A"},{"$error":"#N/A"},null,{"$error":"#N/A"},{"$error":"#N/A"},{"$error":"#N/A"},{"$error":"#N/A"},{"$error":"#N/A"}]
[null,"",null,null,{"$error":"#N/A"},null,null,null,"","",null,8,10,6,"",0,0,184,"",{"$f":"IF(AND(Y188=\"\",Z188=\"\"),0,COUNT(V$6:$V188))","v":0},"","",{"$f":"COUNT(V$5:V188)","v":0},0,"","","",{"$error":"#N/A"},{"$error":"#N/A"},{"$error":"#N/A"},{"$error":"#N/A"},{"$error":"#N/A"},null,{"$error":"#N/A"},{"$error":"#N/A"},{"$error":"#N/A"},{"$error":"#N/A"},null,{"$error":"#N/A"},{"$error":"#N/A"},{"$error":"#N/A"},{"$error":"#N/A"},{"$error":"#N/A"}]
[null,"",null,null,{"$error":"#N/A"},null,null,null,"","",null,8,10,6,"",0,0,185,"",{"$f":"IF(AND(Y189=\"\",Z189=\"\"),0,COUNT(V$6:$V189))","v":0},"","",{"$f":"COUNT(V$5:V189)","v":0},0,"","","",{"$error":"#N/A"},{"$error":"#N/A"},{"$error":"#N/A"},{"$error":"#N/A"},{"$error":"#N/A"},null,{"$error":"#N/A"},{"$error":"#N/A"},{"$error":"#N/A"},{"$error":"#N/A"},null,{"$error":"#N/A"},{"$error":"#N/A"},{"$error":"#N/A"},{"$error":"#N/A"},{"$error":"#N/A"}]
[null,"",null,null,{"$error":"#N/A"},null,null,null,"","",null,8,10,6,"",0,0,186,"",{"$f":"IF(AND(Y190=\"\",Z190=\"\"),0,COUNT(V$6:$V190))","v":0},"","",{"$f":"COUNT(V$5:V190)","v":0},0,"","","",{"$error":"#N/A"},{"$error":"#N/A"},{"$error":"#N/A"},{"$error":"#N/A"},{"$error":"#N/A"},null,{"$error":"#N/A"},{"$error":"#N/A"},{"$error":"#N/A"},{"$error":"#N/A"},null,{"$error":"#N/A"},{"$error":"#N/A"},{"$error":"#N/A"},{"$error":"#N/A"},{"$error":"#N/A"}]
[null,"",null,null,{"$error":"#N/A"},null,null,null,"","",null,8,10,6,"",0,0,187,"",{"$f":"IF(AND(Y191=\"\",Z191=\"\"),0,COUNT(V$6:$V191))","v":0},"","",{"$f":"COUNT(V$5:V191)","v":0},0,"","","",{"$error":"#N/A"},{"$error":"#N/A"},{"$error":"#N/A"},{"$error":"#N/A"},{"$error":"#N/A"},null,{"$error":"#N/A"},{"$error":"#N/A"},{"$error":"#N/A"},{"$error":"#N/A"},null,{"$error":"#N/A"},{"$error":"#N/A"},{"$error":"#N/A"},{"$error":"#N/A"},{"$error":"#N/A"}]
[null,"",null,null,{"$error":"#N/A"},null,null,null,"","",null,8,10,6,"",0,0,188,"",{"$f":"IF(AND(Y192=\"\",Z192=\"\"),0,COUNT(V$6:$V192))","v":0},"","",{"$f":"COUNT(V$5:V192)","v":0},0,"","","",{"$error":"#N/A"},{"$error":"#N/A"},{"$error":"#N/A"},{"$error":"#N/A"},{"$error":"#N/A"},null,{"$error":"#N/A"},{"$error":"#N/A"},{"$error":"#N/A"},{"$error":"#N/A"},null,{"$error":"#N/A"},{"$error":"#N/A"},{"$error":"#N/A"},{"$error":"#N/A"},{"$error":"#N/A"}]
[null,"",null,null,{"$error":"#N/A"},null,null,null,"","",null,8,10,6,"",0,0,189,"",{"$f":"IF(AND(Y193=\"\",Z193=\"\"),0,COUNT(V$6:$V193))","v":0},"","",{"$f":"COUNT(V$5:V193)","v":0},0,"","","",{"$error":"#N/A"},{"$error":"#N/A"},{"$error":"#N/A"},{"$error":"#N/A"},{"$error":"#N/A"},null,{"$error":"#N/A"},{"$error":"#N/A"},{"$error":"#N/A"},{"$error":"#N/A"},null,{"$error":"#N/A"},{"$error":"#N/A"},{"$error":"#N/A"},{"$error":"#N/A"},{"$error":"#N/A"}]
[null,"",null,null,{"$error":"#N/A"},null,null,null,"","",null,8,10,6,"",0,0,190,"",{"$f":"IF(AND(Y194=\"\",Z194=\"\"),0,COUNT(V$6:$V194))","v":0},"","",{"$f":"COUNT(V$5:V194)","v":0},0,"","","",{"$error":"#N/A"},{"$error":"#N/A"},{"$error":"#N/A"},{"$error":"#N/A"},{"$error":"#N/A"},null,{"$error":"#N/A"},{"$error":"#N/A"},{"$error":"#N/A"},{"$error":"#N/A"},null,{"$error":"#N/A"},{"$error":"#N/A"},{"$error":"#N/A"},{"$error":"#N/A"},{"$error":"#N/A"}]
[null,"",null,null,{"$error":"#N/A"},null,null,null,"","",null,8,10,6,"",0,0,191,"",{"$f":"IF(AND(Y195=\"\",Z195=\"\"),0,COUNT(V$6:$V195))","v":0},"","",{"$f":"COUNT(V$5:V195)","v":0},0,"","","",{"$error":"#N/A"},{"$error":"#N/A"},{"$error":"#N/A"},{"$error":"#N/A"},{"$error":"#N/A"},null,{"$error":"#N/A"},{"$error":"#N/A"},{"$error":"#N/A"},{"$error":"#N/A"},null,{"$error":"#N/A"},{"$error":"#N/A"},{"$error":"#N/A"},{"$error":"#N/A"},{"$error":"#N/A"}]
[null,"",null,null,{"$error":"#N/A"},null,null,null,"","",null,8,10,6,"",0,0,192,"",{"$f":"IF(AND(Y196=\"\",Z196=\"\"),0,COUNT(V$6:$V196))","v":0},"","",{"$f":"COUNT(V$5:V196)","v":0},0,"","","",{"$error":"#N/A"},{"$error":"#N/A"},{"$error":"#N/A"},{"$error":"#N/A"},{"$error":"#N/A"},null,{"$error":"#N/A"},{"$error":"#N/A"},{"$error":"#N/A"},{"$error":"#N/A"},null,{"$error":"#N/A"},{"$error":"#N/A"},{"$error":"#N/A"},{"$error":"#N/A"},{"$error":"#N/A"}]
[null,"",null,null,{"$error":"#N/A"},null,null,null,"",{"$f":"IF(A197=\"\",\"\",IF(AND(G197>1,I197>0),MROUND((6.5+I197),0.5),IF(AND(A197<>\"\",I197>0.01),J196)))","v":""},null,8,10,6,"",0,0,193,"",{"$f":"IF(AND(Y197=\"\",Z197=\"\"),0,COUNT(V$6:$V197))","v":0},"","",{"$f":"COUNT(V$5:V197)","v":0},0,"","","",{"$error":"#N/A"},{"$error":"#N/A"},{"$error":"#N/A"},{"$error":"#N/A"},{"$error":"#N/A"},null,{"$error":"#N/A"},{"$error":"#N/A"},{"$error":"#N/A"},{"$error":"#N/A"},null,{"$error":"#N/A"},{"$error":"#N/A"},{"$error":"#N/A"},{"$error":"#N/A"},{"$error":"#N/A"}]
[null,"",null,null,{"$f":"IF((D198>0),(D198/$E$4),#N/A)","v":{"$error":"#N/A"}},null,null,null,"","",null,8,{"$f":"IF(L198=\"\",\"\",L198+2)","v":10},{"$f":"IF(L198=\"\",\"\",L198-2)","v":6},"",0,0,194,"",{"$f":"IF(AND(Y198=\"\",Z198=\"\"),0,COUNT(V$6:$V198))","v":0},"","",{"$f":"COUNT(V$5:V198)","v":0},0,"","","",{"$error":"#N/A"},{"$error":"#N/A"},{"$error":"#N/A"},{"$error":"#N/A"},{"$error":"#N/A"},null,{"$error":"#N/A"},{"$error":"#N/A"},{"$error":"#N/A"},{"$error":"#N/A"},null,{"$error":"#N/A"},{"$error":"#N/A"},{"$error":"#N/A"},{"$error":"#N/A"},{"$error":"#N/A"}]
[null,"",null,null,{"$error":"#N/A"},null,null,null,"","",null,8,10,6,"",0,0,195,"",{"$f":"IF(AND(Y199=\"\",Z199=\"\"),0,COUNT(V$6:$V199))","v":0},"","",{"$f":"COUNT(V$5:V199)","v":0},0,"","","",{"$error":"#N/A"},{"$error":"#N/A"},{"$f":"AC199-6","v":{"$error":"#N/A"}},{"$error":"#N/A"},{"$error":"#N/A"},null,{"$error":"#N/A"},{"$error":"#N/A"},{"$f":"IF($AI199=\"\",#N/A,($AI199+1.5))","v":{"$error":"#N/A"}},{"$f":"IF($AI199=\"\",#N/A,($AI199-1))","v":{"$error":"#N/A"}},null,{"$error":"#N/A"},{"$error":"#N/A"},{"$error":"#N/A"},{"$error":"#N/A"},{"$error":"#N/A"}]
[null,"",null,null,{"$error":"#N/A"},null,null,null,"","",null,8,10,6,"",0,0,196,"",{"$f":"IF(AND(Y200=\"\",Z200=\"\"),0,COUNT(V$6:$V200))","v":0},"","",{"$f":"COUNT(V$5:V200)","v":0},0,"","","",{"$error":"#N/A"},{"$error":"#N/A"},{"$error":"#N/A"},{"$error":"#N/A"},{"$error":"#N/A"},null,{"$error":"#N/A"},{"$error":"#N/A"},{"$error":"#N/A"},{"$error":"#N/A"},null,{"$error":"#N/A"},{"$error":"#N/A"},{"$error":"#N/A"},{"$error":"#N/A"},{"$error":"#N/A"}]
[null,"",null,null,{"$error":"#N/A"},null,null,null,"","",null,8,10,6,"",0,0,197,"",{"$f":"IF(AND(Y201=\"\",Z201=\"\"),0,COUNT(V$6:$V201))","v":0},"","",{"$f":"COUNT(V$5:V201)","v":0},0,"","","",{"$error":"#N/A"},{"$f":"VLOOKUP(AB201,time,6,FALSE)","v":{"$error":"#N/A"}},{"$error":"#N/A"},{"$error":"#N/A"},{"$f":"AE201-6","v":{"$error":"#N/A"}},null,{"$error":"#N/A"},{"$error":"#N/A"},{"$error":"#N/A"},{"$error":"#N/A"},null,{"$error":"#N/A"},{"$error":"#N/A"},{"$error":"#N/A"},{"$error":"#N/A"},{"$error":"#N/A"}]
[null,"",null,null,{"$error":"#N/A"},null,null,null,"","",null,8,10,6,"",0,0,198,"",{"$f":"IF(AND(Y202=\"\",Z202=\"\"),0,COUNT(V$6:$V202))","v":0},"","",{"$f":"COUNT(V$5:V202)","v":0},0,"","","",{"$error":"#N/A"},{"$error":"#N/A"},{"$error":"#N/A"},{"$error":"#N/A"},{"$error":"#N/A"},null,{"$error":"#N/A"},{"$error":"#N/A"},{"$error":"#N/A"},{"$error":"#N/A"},null,{"$error":"#N/A"},{"$error":"#N/A"},{"$error":"#N/A"},{"$error":"#N/A"},{"$error":"#N/A"}]
[null,"",null,null,{"$error":"#N/A"},null,null,null,"","",null,8,10,6,"",0,0,199,"",{"$f":"IF(AND(Y203=\"\",Z203=\"\"),0,COUNT(V$6:$V203))","v":0},"","",{"$f":"COUNT(V$5:V203)","v":0},0,"","","",{"$error":"#N/A"},{"$error":"#N/A"},{"$error":"#N/A"},{"$error":"#N/A"},{"$error":"#N/A"},null,{"$error":"#N/A"},{"$f":"IF(ABS(AE201-AE200)>0.5,MROUND(AE201,0.5),AI202)","v":{"$error":"#N/A"}},{"$error":"#N/A"},{"$error":"#N/A"},null,{"$error":"#N/A"},{"$error":"#N/A"},{"$error":"#N/A"},{"$error":"#N/A"},{"$error":"#N/A"}]
[null,"",null,null,{"$error":"#N/A"},null,null,null,"","",null,8,10,6,"",0,0,200,"",{"$f":"IF(AND(Y204=\"\",Z204=\"\"),0,COUNT(V$6:$V204))","v":0},"","",{"$f":"COUNT(V$5:V204)","v":0},0,"","","",{"$error":"#N/A"},{"$error":"#N/A"},{"$error":"#N/A"},{"$error":"#N/A"},{"$error":"#N/A"},null,{"$error":"#N/A"},{"$error":"#N/A"},{"$error":"#N/A"},{"$error":"#N/A"},null,{"$error":"#N/A"},{"$error":"#N/A"},{"$error":"#N/A"},{"$error":"#N/A"},{"$error":"#N/A"}]
[null,"",null,null,{"$error":"#N/A"},null,null,null,"","",null,8,10,6,"",0,0,201,"",{"$f":"IF(AND(Y205=\"\",Z205=\"\"),0,COUNT(V$6:$V205))","v":0},"","",{"$f":"COUNT(V$5:V205)","v":0},0,"","","",{"$error":"#N/A"},{"$error":"#N/A"},{"$error":"#N/A"},{"$error":"#N/A"},{"$error":"#N/A"},null,{"$error":"#N/A"},{"$error":"#N/A"},{"$error":"#N/A"},{"$error":"#N/A"},null,{"$error":"#N/A"},{"$error":"#N/A"},{"$error":"#N/A"},{"$error":"#N/A"},{"$error":"#N/A"}]
[null,"",null,null,{"$error":"#N/A"},null,null,null,"","",null,8,10,6,"",0,0,202,"",{"$f":"IF(AND(Y206=\"\",Z206=\"\"),0,COUNT(V$6:$V206))","v":0},"","",{"$f":"COUNT(V$5:V206)","v":0},0,"","","",{"$error":"#N/A"},{"$error":"#N/A"},{"$error":"#N/A"},{"$error":"#N/A"},{"$error":"#N/A"},null,{"$error":"#N/A"},{"$error":"#N/A"},{"$error":"#N/A"},{"$error":"#N/A"},null,{"$error":"#N/A"},{"$error":"#N/A"},{"$error":"#N/A"},{"$error":"#N/A"},{"$error":"#N/A"}]
[null,"",null,null,{"$error":"#N/A"},null,null,null,"","",null,8,10,6,"",0,0,203,"",{"$f":"IF(AND(Y207=\"\",Z207=\"\"),0,COUNT(V$6:$V207))","v":0},"","",{"$f":"COUNT(V$5:V207)","v":0},0,"","","",{"$error":"#N/A"},{"$error":"#N/A"},{"$error":"#N/A"},{"$error":"#N/A"},{"$error":"#N/A"},null,{"$error":"#N/A"},{"$error":"#N/A"},{"$error":"#N/A"},{"$error":"#N/A"},null,{"$error":"#N/A"},{"$error":"#N/A"},{"$error":"#N/A"},{"$error":"#N/A"},{"$error":"#N/A"}]
[null,"",null,null,{"$error":"#N/A"},null,null,null,"","",null,8,10,6,"",0,0,204,"",{"$f":"IF(AND(Y208=\"\",Z208=\"\"),0,COUNT(V$6:$V208))","v":0},"","",{"$f":"COUNT(V$5:V208)","v":0},0,"","","",{"$error":"#N/A"},{"$error":"#N/A"},{"$error":"#N/A"},{"$error":"#N/A"},{"$error":"#N/A"},null,{"$error":"#N/A"},{"$error":"#N/A"},{"$error":"#N/A"},{"$error":"#N/A"},null,{"$error":"#N/A"},{"$error":"#N/A"},{"$error":"#N/A"},{"$error":"#N/A"},{"$error":"#N/A"}]
[null,"",null,null,{"$error":"#N/A"},null,null,null,"","",null,8,10,6,"",0,0,205,"",{"$f":"IF(AND(Y209=\"\",Z209=\"\"),0,COUNT(V$6:$V209))","v":0},"","",{"$f":"COUNT(V$5:V209)","v":0},0,"","","",{"$error":"#N/A"},{"$error":"#N/A"},{"$error":"#N/A"},{"$error":"#N/A"},{"$error":"#N/A"},null,{"$error":"#N/A"},{"$error":"#N/A"},{"$error":"#N/A"},{"$error":"#N/A"},null,{"$error":"#N/A"},{"$error":"#N/A"},{"$error":"#N/A"},{"$error":"#N/A"},{"$error":"#N/A"}]
[null,"",null,null,{"$error":"#N/A"},null,null,null,"","",null,8,10,6,"",0,0,206,"",{"$f":"IF(AND(Y210=\"\",Z210=\"\"),0,COUNT(V$6:$V210))","v":0},"","",{"$f":"COUNT(V$5:V210)","v":0},0,"","","",{"$error":"#N/A"},{"$error":"#N/A"},{"$error":"#N/A"},{"$error":"#N/A"},{"$error":"#N/A"},null,{"$error":"#N/A"},{"$error":"#N/A"},{"$error":"#N/A"},{"$error":"#N/A"},null,{"$error":"#N/A"},{"$error":"#N/A"},{"$error":"#N/A"},{"$error":"#N/A"},{"$error":"#N/A"}]
[null,"",null,null,{"$error":"#N/A"},null,null,null,"","",null,8,10,6,"",0,0,207,"",{"$f":"IF(AND(Y211=\"\",Z211=\"\"),0,COUNT(V$6:$V211))","v":0},"","",{"$f":"COUNT(V$5:V211)","v":0},0,"","","",{"$error":"#N/A"},{"$error":"#N/A"},{"$error":"#N/A"},{"$error":"#N/A"},{"$error":"#N/A"},null,{"$error":"#N/A"},{"$error":"#N/A"},{"$error":"#N/A"},{"$error":"#N/A"},null,{"$error":"#N/A"},{"$error":"#N/A"},{"$error":"#N/A"},{"$error":"#N/A"},{"$error":"#N/A"}]
[null,"",null,null,{"$error":"#N/A"},null,null,null,"","",null,8,10,6,"",0,0,208,"",{"$f":"IF(AND(Y212=\"\",Z212=\"\"),0,COUNT(V$6:$V212))","v":0},"","",{"$f":"COUNT(V$5:V212)","v":0},0,"","","",{"$error":"#N/A"},{"$error":"#N/A"},{"$error":"#N/A"},{"$error":"#N/A"},{"$error":"#N/A"},null,{"$error":"#N/A"},{"$error":"#N/A"},{"$error":"#N/A"},{"$error":"#N/A"},null,{"$error":"#N/A"},{"$error":"#N/A"},{"$error":"#N/A"},{"$error":"#N/A"},{"$error":"#N/A"}]
[null,"",null,null,{"$error":"#N/A"},null,null,null,"","",null,8,10,6,"",0,0,209,"",{"$f":"IF(AND(Y213=\"\",Z213=\"\"),0,COUNT(V$6:$V213))","v":0},"","",{"$f":"COUNT(V$5:V213)","v":0},0,"","","",{"$error":"#N/A"},{"$error":"#N/A"},{"$error":"#N/A"},{"$error":"#N/A"},{"$error":"#N/A"},null,{"$error":"#N/A"},{"$error":"#N/A"},{"$error":"#N/A"},{"$error":"#N/A"},null,{"$error":"#N/A"},{"$error":"#N/A"},{"$error":"#N/A"},{"$error":"#N/A"},{"$error":"#N/A"}]
[null,"",null,null,{"$error":"#N/A"},null,null,null,"","",null,8,10,6,"",0,0,210,"",{"$f":"IF(AND(Y214=\"\",Z214=\"\"),0,COUNT(V$6:$V214))","v":0},"","",{"$f":"COUNT(V$5:V214)","v":0},0,"","","",{"$error":"#N/A"},{"$error":"#N/A"},{"$error":"#N/A"},{"$error":"#N/A"},{"$error":"#N/A"},null,{"$error":"#N/A"},{"$error":"#N/A"},{"$error":"#N/A"},{"$error":"#N/A"},null,{"$error":"#N/A"},{"$error":"#N/A"},{"$error":"#N/A"},{"$error":"#N/A"},{"$error":"#N/A"}]
[null,"",null,null,{"$error":"#N/A"},null,null,null,"","",null,8,10,6,"",0,0,211,"",{"$f":"IF(AND(Y215=\"\",Z215=\"\"),0,COUNT(V$6:$V215))","v":0},"","",{"$f":"COUNT(V$5:V215)","v":0},0,"","","",{"$error":"#N/A"},{"$error":"#N/A"},{"$error":"#N/A"},{"$error":"#N/A"},{"$error":"#N/A"},null,{"$error":"#N/A"},{"$error":"#N/A"},{"$error":"#N/A"},{"$error":"#N/A"},null,{"$error":"#N/A"},{"$error":"#N/A"},{"$error":"#N/A"},{"$error":"#N/A"},{"$error":"#N/A"}]
[null,"",null,null,{"$error":"#N/A"},null,null,null,"","",null,8,10,6,"",0,0,212,"",{"$f":"IF(AND(Y216=\"\",Z216=\"\"),0,COUNT(V$6:$V216))","v":0},"","",{"$f":"COUNT(V$5:V216)","v":0},0,"","","",{"$error":"#N/A"},{"$error":"#N/A"},{"$error":"#N/A"},{"$error":"#N/A"},{"$error":"#N/A"},null,{"$error":"#N/A"},{"$error":"#N/A"},{"$error":"#N/A"},{"$error":"#N/A"},null,{"$error":"#N/A"},{"$error":"#N/A"},{"$error":"#N/A"},{"$error":"#N/A"},{"$error":"#N/A"}]
[null,"",null,null,{"$error":"#N/A"},null,null,null,"","",null,8,10,6,"",0,0,213,"",{"$f":"IF(AND(Y217=\"\",Z217=\"\"),0,COUNT(V$6:$V217))","v":0},"","",{"$f":"COUNT(V$5:V217)","v":0},0,"","","",{"$error":"#N/A"},{"$error":"#N/A"},{"$error":"#N/A"},{"$error":"#N/A"},{"$error":"#N/A"},null,{"$error":"#N/A"},{"$error":"#N/A"},{"$error":"#N/A"},{"$error":"#N/A"},null,{"$error":"#N/A"},{"$error":"#N/A"},{"$error":"#N/A"},{"$error":"#N/A"},{"$error":"#N/A"}]
[null,"",null,null,{"$error":"#N/A"},null,null,null,"","",null,8,10,6,"",0,0,214,"",{"$f":"IF(AND(Y218=\"\",Z218=\"\"),0,COUNT(V$6:$V218))","v":0},"","",{"$f":"COUNT(V$5:V218)","v":0},0,"","","",{"$error":"#N/A"},{"$error":"#N/A"},{"$error":"#N/A"},{"$error":"#N/A"},{"$error":"#N/A"},null,{"$error":"#N/A"},{"$error":"#N/A"},{"$error":"#N/A"},{"$error":"#N/A"},null,{"$error":"#N/A"},{"$error":"#N/A"},{"$error":"#N/A"},{"$error":"#N/A"},{"$error":"#N/A"}]
[null,{"$f":"IF(A219=\"\",\"\",B218+1)","v":""},null,null,{"$error":"#N/A"},null,null,null,{"$f":"IF(H219=\"\",\"\",(G219-H219))","v":""},"",null,8,10,6,"",{"$f":"IF(AND(H219=\"\",A218=A219),P218,IF(AND(A218=A219,H219>1),O219+P218,IF(H219=\"\",0,IF(H219>0,O219))))","v":0},{"$f":"IF(AND(A219=A218,H219>1),Q218+1,IF(AND(H219=\"\",A219=A218),Q218,IF(AND(H219=\"\",P219=0),0,1)))","v":0},{"$f":"IF(A219=A218,R218+1,1)","v":215},{"$f":"IF(AND(R219>=R220,Q219>0),P219/Q219,\"\")","v":""},{"$f":"IF(AND(Y219=\"\",Z219=\"\"),0,COUNT(V$6:$V219))","v":0},{"$f":"IF(AND(Y219=\"\",Z219=\"\"),\"\",A219)","v":""},{"$f":"IF(AND(R219>=R220,Q219>0),1,\"\")","v":""},{"$f":"COUNT(V$5:V219)","v":0},{"$f":"IF(W218>=2,\"\",W218)","v":0},{"$f":"IF(X219<X220,S219+6,\"\")","v":""},{"$f":"IF(S219=\"\",\"\",IF(AND(X219=\"\",S219>0),S219+6,\"\"))","v":""},"",{"$f":"VLOOKUP(149,count,2,FALSE)","v":{"$error":"#N/A"}},{"$error":"#N/A"},{"$error":"#N/A"},{"$f":"AVERAGE(AC218:AC219)","v":{"$error":"#N/A"}},{"$error":"#N/A"},null,{"$f":"AB218","v":{"$error":"#N/A"}},{"$error":"#N/A"},{"$error":"#N/A"},{"$error":"#N/A"},null,{"$f":"IF(A219=\"\",#N/A,A219)","v":{"$error":"#N/A"}},{"$f":"IF(AM219=\"\",\"\",G219)","v":{"$error":"#N/A"}},{"$f":"IF(AM219=$AM$5,AQ219+1.5,IF(AM218=\"\",\"\",AQ219+1.5))","v":{"$error":"#N/A"}},{"$f":"IF(AM219=$AM$5,AQ219-1,IF(AN218=\"\",\"\",AQ219-1))","v":{"$error":"#N/A"}},{"$f":"IF(AM219=AM218,AQ218,VLOOKUP(AM219,graph,2,FALSE))","v":{"$error":"#N/A"}}]
[null,"",null,null,{"$error":"#N/A"},null,null,null,"","",null,8,10,6,"",0,0,216,"",{"$f":"IF(AND(Y220=\"\",Z220=\"\"),0,COUNT(V$6:$V220))","v":0},"","",{"$f":"COUNT(V$5:V220)","v":0},0,"","","",{"$error":"#N/A"},{"$error":"#N/A"},{"$error":"#N/A"},{"$error":"#N/A"},{"$error":"#N/A"},null,{"$error":"#N/A"},{"$error":"#N/A"},{"$error":"#N/A"},{"$error":"#N/A"},null,{"$error":"#N/A"},{"$error":"#N/A"},{"$error":"#N/A"},{"$error":"#N/A"},{"$error":"#N/A"}]
[null,"",null,null,{"$error":"#N/A"},null,null,null,"","",null,8,10,6,"",0,0,217,"",{"$f":"IF(AND(Y221=\"\",Z221=\"\"),0,COUNT(V$6:$V221))","v":0},"","",{"$f":"COUNT(V$5:V221)","v":0},0,"","","",{"$error":"#N/A"},{"$error":"#N/A"},{"$error":"#N/A"},{"$error":"#N/A"},{"$error":"#N/A"},null,{"$error":"#N/A"},{"$error":"#N/A"},{"$error":"#N/A"},{"$error":"#N/A"},null,{"$error":"#N/A"},{"$error":"#N/A"},{"$error":"#N/A"},{"$error":"#N/A"},{"$error":"#N/A"}]
[null,"",null,null,{"$error":"#N/A"},null,null,null,"","",null,8,10,6,"",0,0,218,"",{"$f":"IF(AND(Y222=\"\",Z222=\"\"),0,COUNT(V$6:$V222))","v":0},"","",{"$f":"COUNT(V$5:V222)","v":0},0,"","","",{"$error":"#N/A"},{"$error":"#N/A"},{"$error":"#N/A"},{"$error":"#N/A"},{"$error":"#N/A"},null,{"$error":"#N/A"},{"$error":"#N/A"},{"$error":"#N/A"},{"$error":"#N/A"},null,{"$error":"#N/A"},{"$error":"#N/A"},{"$error":"#N/A"},{"$error":"#N/A"},{"$error":"#N/A"}]
[null,"",null,null,{"$error":"#N/A"},null,null,null,"","",null,8,10,6,"",0,0,219,"",{"$f":"IF(AND(Y223=\"\",Z223=\"\"),0,COUNT(V$6:$V223))","v":0},"","",{"$f":"COUNT(V$5:V223)","v":0},0,"","","",{"$error":"#N/A"},{"$error":"#N/A"},{"$error":"#N/A"},{"$error":"#N/A"},{"$error":"#N/A"},null,{"$error":"#N/A"},{"$error":"#N/A"},{"$error":"#N/A"},{"$error":"#N/A"},null,{"$error":"#N/A"},{"$error":"#N/A"},{"$error":"#N/A"},{"$error":"#N/A"},{"$error":"#N/A"}]
[null,"",null,null,{"$error":"#N/A"},null,null,null,"","",null,8,10,6,"",0,0,220,"",{"$f":"IF(AND(Y224=\"\",Z224=\"\"),0,COUNT(V$6:$V224))","v":0},"","",{"$f":"COUNT(V$5:V224)","v":0},0,"","","",{"$error":"#N/A"},{"$error":"#N/A"},{"$error":"#N/A"},{"$error":"#N/A"},{"$error":"#N/A"},null,{"$error":"#N/A"},{"$error":"#N/A"},{"$error":"#N/A"},{"$error":"#N/A"},null,{"$error":"#N/A"},{"$error":"#N/A"},{"$error":"#N/A"},{"$error":"#N/A"},{"$error":"#N/A"}]
[null,"",null,null,{"$error":"#N/A"},null,null,null,"","",null,8,10,6,"",0,0,221,"",{"$f":"IF(AND(Y225=\"\",Z225=\"\"),0,COUNT(V$6:$V225))","v":0},"","",{"$f":"COUNT(V$5:V225)","v":0},0,"","","",{"$error":"#N/A"},{"$error":"#N/A"},{"$error":"#N/A"},{"$error":"#N/A"},{"$error":"#N/A"},null,{"$error":"#N/A"},{"$error":"#N/A"},{"$error":"#N/A"},{"$error":"#N/A"},null,{"$error":"#N/A"},{"$error":"#N/A"},{"$error":"#N/A"},{"$error":"#N/A"},{"$error":"#N/A"}]
[null,"",null,null,{"$error":"#N/A"},null,null,null,"","",null,8,10,6,"",0,0,222,"",{"$f":"IF(AND(Y226=\"\",Z226=\"\"),0,COUNT(V$6:$V226))","v":0},"","",{"$f":"COUNT(V$5:V226)","v":0},0,"","","",{"$error":"#N/A"},{"$error":"#N/A"},{"$error":"#N/A"},{"$error":"#N/A"},{"$error":"#N/A"},null,{"$error":"#N/A"},{"$error":"#N/A"},{"$error":"#N/A"},{"$error":"#N/A"},null,{"$error":"#N/A"},{"$error":"#N/A"},{"$error":"#N/A"},{"$error":"#N/A"},{"$error":"#N/A"}]
[null,"",null,null,{"$error":"#N/A"},null,null,null,"","",null,8,10,6,"",0,0,223,"",{"$f":"IF(AND(Y227=\"\",Z227=\"\"),0,COUNT(V$6:$V227))","v":0},"","",{"$f":"COUNT(V$5:V227)","v":0},0,"","","",{"$error":"#N/A"},{"$error":"#N/A"},{"$error":"#N/A"},{"$error":"#N/A"},{"$error":"#N/A"},null,{"$error":"#N/A"},{"$error":"#N/A"},{"$error":"#N/A"},{"$error":"#N/A"},null,{"$error":"#N/A"},{"$error":"#N/A"},{"$error":"#N/A"},{"$error":"#N/A"},{"$error":"#N/A"}]
[null,"",null,null,{"$error":"#N/A"},null,null,null,"","",null,8,10,6,"",0,0,224,"",{"$f":"IF(AND(Y228=\"\",Z228=\"\"),0,COUNT(V$6:$V228))","v":0},"","",{"$f":"COUNT(V$5:V228)","v":0},0,"","","",{"$error":"#N/A"},{"$error":"#N/A"},{"$error":"#N/A"},{"$error":"#N/A"},{"$error":"#N/A"},null,{"$error":"#N/A"},{"$error":"#N/A"},{"$error":"#N/A"},{"$error":"#N/A"},null,{"$error":"#N/A"},{"$error":"#N/A"},{"$error":"#N/A"},{"$error":"#N/A"},{"$error":"#N/A"}]
[null,"",null,null,{"$error":"#N/A"},null,null,null,"","",null,8,10,6,"",0,0,225,"",{"$f":"IF(AND(Y229=\"\",Z229=\"\"),0,COUNT(V$6:$V229))","v":0},"","",{"$f":"COUNT(V$5:V229)","v":0},0,"","","",{"$error":"#N/A"},{"$error":"#N/A"},{"$error":"#N/A"},{"$error":"#N/A"},{"$error":"#N/A"},null,{"$error":"#N/A"},{"$error":"#N/A"},{"$error":"#N/A"},{"$error":"#N/A"},null,{"$error":"#N/A"},{"$error":"#N/A"},{"$error":"#N/A"},{"$error":"#N/A"},{"$error":"#N/A"}]
[null,"",null,null,{"$error":"#N/A"},null,null,null,"","",null,8,10,6,"",0,0,226,"",{"$f":"IF(AND(Y230=\"\",Z230=\"\"),0,COUNT(V$6:$V230))","v":0},"","",{"$f":"COUNT(V$5:V230)","v":0},0,"","","",{"$error":"#N/A"},{"$error":"#N/A"},{"$error":"#N/A"},{"$error":"#N/A"},{"$error":"#N/A"},null,{"$error":"#N/A"},{"$error":"#N/A"},{"$error":"#N/A"},{"$error":"#N/A"},null,{"$error":"#N/A"},{"$error":"#N/A"},{"$error":"#N/A"},{"$error":"#N/A"},{"$error":"#N/A"}]
[null,"",null,null,{"$error":"#N/A"},null,null,null,"","",null,8,10,6,"",0,0,227,"",{"$f":"IF(AND(Y231=\"\",Z231=\"\"),0,COUNT(V$6:$V231))","v":0},"","",{"$f":"COUNT(V$5:V231)","v":0},0,"","","",{"$error":"#N/A"},{"$error":"#N/A"},{"$error":"#N/A"},{"$error":"#N/A"},{"$error":"#N/A"},null,{"$error":"#N/A"},{"$error":"#N/A"},{"$error":"#N/A"},{"$error":"#N/A"},null,{"$error":"#N/A"},{"$error":"#N/A"},{"$error":"#N/A"},{"$error":"#N/A"},{"$error":"#N/A"}]
[null,"",null,null,{"$error":"#N/A"},null,null,null,"","",null,8,10,6,"",0,0,228,"",{"$f":"IF(AND(Y232=\"\",Z232=\"\"),0,COUNT(V$6:$V232))","v":0},"","",{"$f":"COUNT(V$5:V232)","v":0},0,"","","",{"$error":"#N/A"},{"$error":"#N/A"},{"$error":"#N/A"},{"$error":"#N/A"},{"$error":"#N/A"},null,{"$error":"#N/A"},{"$error":"#N/A"},{"$error":"#N/A"},{"$error":"#N/A"},null,{"$error":"#N/A"},{"$error":"#N/A"},{"$error":"#N/A"},{"$error":"#N/A"},{"$error":"#N/A"}]
[null,"",null,null,{"$error":"#N/A"},null,null,null,"","",null,8,10,6,{"$f":"I233","v":""},0,0,229,"",{"$f":"IF(AND(Y233=\"\",Z233=\"\"),0,COUNT(V$6:$V233))","v":0},"","",{"$f":"COUNT(V$5:V233)","v":0},0,"","",{"$f":"IF(Z233=\"\",\"\",ABS($AI$6-Z233))","v":""},{"$error":"#N/A"},{"$error":"#N/A"},{"$error":"#N/A"},{"$error":"#N/A"},{"$error":"#N/A"},null,{"$error":"#N/A"},{"$error":"#N/A"},{"$error":"#N/A"},{"$error":"#N/A"},null,{"$error":"#N/A"},{"$error":"#N/A"},{"$error":"#N/A"},{"$error":"#N/A"},{"$error":"#N/A"}]
[null,"",null,null,{"$error":"#N/A"},null,null,null,"","",null,8,10,6,"",0,0,230,"",{"$f":"IF(AND(Y234=\"\",Z234=\"\"),0,COUNT(V$6:$V234))","v":0},"","",{"$f":"COUNT(V$5:V234)","v":0},0,"","","",{"$error":"#N/A"},{"$error":"#N/A"},{"$error":"#N/A"},{"$error":"#N/A"},{"$error":"#N/A"},null,{"$error":"#N/A"},{"$error":"#N/A"},{"$error":"#N/A"},{"$error":"#N/A"},null,{"$error":"#N/A"},{"$error":"#N/A"},{"$error":"#N/A"},{"$error":"#N/A"},{"$error":"#N/A"}]
[null,"",null,null,{"$error":"#N/A"},null,null,null,"","",null,8,10,6,"",0,0,231,"",{"$f":"IF(AND(Y235=\"\",Z235=\"\"),0,COUNT(V$6:$V235))","v":0},"","",{"$f":"COUNT(V$5:V235)","v":0},0,"","","",{"$error":"#N/A"},{"$error":"#N/A"},{"$error":"#N/A"},{"$error":"#N/A"},{"$error":"#N/A"},null,{"$error":"#N/A"},{"$error":"#N/A"},{"$error":"#N/A"},{"$error":"#N/A"},null,{"$error":"#N/A"},{"$error":"#N/A"},{"$error":"#N/A"},{"$error":"#N/A"},{"$error":"#N/A"}]
[null,"",null,null,{"$error":"#N/A"},null,null,null,"","",null,8,10,6,"",0,0,232,"",{"$f":"IF(AND(Y236=\"\",Z236=\"\"),0,COUNT(V$6:$V236))","v":0},"","",{"$f":"COUNT(V$5:V236)","v":0},0,"","","",{"$error":"#N/A"},{"$error":"#N/A"},{"$error":"#N/A"},{"$error":"#N/A"},{"$error":"#N/A"},null,{"$error":"#N/A"},{"$error":"#N/A"},{"$error":"#N/A"},{"$error":"#N/A"},null,{"$error":"#N/A"},{"$error":"#N/A"},{"$error":"#N/A"},{"$error":"#N/A"},{"$error":"#N/A"}]
[null,"",null,null,{"$error":"#N/A"},null,null,null,"","",null,8,10,6,"",0,0,233,"",{"$f":"IF(AND(Y237=\"\",Z237=\"\"),0,COUNT(V$6:$V237))","v":0},"","",{"$f":"COUNT(V$5:V237)","v":0},0,"","","",{"$error":"#N/A"},{"$error":"#N/A"},{"$error":"#N/A"},{"$error":"#N/A"},{"$error":"#N/A"},null,{"$error":"#N/A"},{"$error":"#N/A"},{"$error":"#N/A"},{"$error":"#N/A"},null,{"$error":"#N/A"},{"$error":"#N/A"},{"$error":"#N/A"},{"$error":"#N/A"},{"$error":"#N/A"}]
[null,"",null,null,{"$error":"#N/A"},null,null,null,"","",null,8,10,6,"",0,0,234,"",{"$f":"IF(AND(Y238=\"\",Z238=\"\"),0,COUNT(V$6:$V238))","v":0},"","",{"$f":"COUNT(V$5:V238)","v":0},0,"","","",{"$error":"#N/A"},{"$error":"#N/A"},{"$error":"#N/A"},{"$error":"#N/A"},{"$error":"#N/A"},null,{"$error":"#N/A"},{"$error":"#N/A"},{"$error":"#N/A"},{"$error":"#N/A"},null,{"$error":"#N/A"},{"$error":"#N/A"},{"$error":"#N/A"},{"$error":"#N/A"},{"$error":"#N/A"}]
[null,"",null,null,{"$error":"#N/A"},null,null,null,"","",null,8,10,6,"",0,0,235,"",{"$f":"IF(AND(Y239=\"\",Z239=\"\"),0,COUNT(V$6:$V239))","v":0},"","",{"$f":"COUNT(V$5:V239)","v":0},0,"","","",{"$error":"#N/A"},{"$error":"#N/A"},{"$error":"#N/A"},{"$error":"#N/A"},{"$error":"#N/A"},null,{"$error":"#N/A"},{"$error":"#N/A"},{"$error":"#N/A"},{"$error":"#N/A"},null,{"$error":"#N/A"},{"$error":"#N/A"},{"$error":"#N/A"},{"$error":"#N/A"},{"$error":"#N/A"}]
[null,"",null,null,{"$error":"#N/A"},null,null,null,"","",null,8,10,6,"",0,0,236,"",{"$f":"IF(AND(Y240=\"\",Z240=\"\"),0,COUNT(V$6:$V240))","v":0},"","",{"$f":"COUNT(V$5:V240)","v":0},0,"","","",{"$error":"#N/A"},{"$error":"#N/A"},{"$error":"#N/A"},{"$error":"#N/A"},{"$error":"#N/A"},null,{"$error":"#N/A"},{"$error":"#N/A"},{"$error":"#N/A"},{"$error":"#N/A"},null,{"$error":"#N/A"},{"$error":"#N/A"},{"$error":"#N/A"},{"$error":"#N/A"},{"$error":"#N/A"}]
[null,"",null,null,{"$error":"#N/A"},null,null,null,"","",null,8,10,6,"",0,0,237,"",{"$f":"IF(AND(Y241=\"\",Z241=\"\"),0,COUNT(V$6:$V241))","v":0},"","",{"$f":"COUNT(V$5:V241)","v":0},0,"","","",{"$error":"#N/A"},{"$error":"#N/A"},{"$error":"#N/A"},{"$error":"#N/A"},{"$error":"#N/A"},null,{"$error":"#N/A"},{"$error":"#N/A"},{"$error":"#N/A"},{"$error":"#N/A"},null,{"$error":"#N/A"},{"$error":"#N/A"},{"$error":"#N/A"},{"$error":"#N/A"},{"$error":"#N/A"}]
[null,"",null,null,{"$error":"#N/A"},null,null,null,"","",null,8,10,6,"",0,0,238,"",{"$f":"IF(AND(Y242=\"\",Z242=\"\"),0,COUNT(V$6:$V242))","v":0},"","",{"$f":"COUNT(V$5:V242)","v":0},0,"","","",{"$error":"#N/A"},{"$error":"#N/A"},{"$error":"#N/A"},{"$error":"#N/A"},{"$error":"#N/A"},null,{"$error":"#N/A"},{"$error":"#N/A"},{"$error":"#N/A"},{"$error":"#N/A"},null,{"$error":"#N/A"},{"$error":"#N/A"},{"$error":"#N/A"},{"$error":"#N/A"},{"$error":"#N/A"}]
[null,"",null,null,{"$error":"#N/A"},null,null,null,"","",null,8,10,6,"",0,0,239,"",{"$f":"IF(AND(Y243=\"\",Z243=\"\"),0,COUNT(V$6:$V243))","v":0},"","",{"$f":"COUNT(V$5:V243)","v":0},0,"","","",{"$error":"#N/A"},{"$error":"#N/A"},{"$error":"#N/A"},{"$error":"#N/A"},{"$error":"#N/A"},null,{"$error":"#N/A"},{"$error":"#N/A"},{"$error":"#N/A"},{"$error":"#N/A"},null,{"$error":"#N/A"},{"$error":"#N/A"},{"$error":"#N/A"},{"$error":"#N/A"},{"$error":"#N/A"}]
[null,"",null,null,{"$error":"#N/A"},null,null,null,"","",null,8,10,6,"",0,0,240,"",{"$f":"IF(AND(Y244=\"\",Z244=\"\"),0,COUNT(V$6:$V244))","v":0},"","",{"$f":"COUNT(V$5:V244)","v":0},0,"","","",{"$error":"#N/A"},{"$error":"#N/A"},{"$error":"#N/A"},{"$error":"#N/A"},{"$error":"#N/A"},null,{"$error":"#N/A"},{"$error":"#N/A"},{"$error":"#N/A"},{"$error":"#N/A"},null,{"$error":"#N/A"},{"$error":"#N/A"},{"$error":"#N/A"},{"$error":"#N/A"},{"$error":"#N/A"}]
[null,"",null,null,{"$error":"#N/A"},null,null,null,"","",null,8,10,6,"",0,0,241,"",{"$f":"IF(AND(Y245=\"\",Z245=\"\"),0,COUNT(V$6:$V245))","v":0},"","",{"$f":"COUNT(V$5:V245)","v":0},0,"","","",{"$error":"#N/A"},{"$error":"#N/A"},{"$error":"#N/A"},{"$error":"#N/A"},{"$error":"#N/A"},null,{"$error":"#N/A"},{"$error":"#N/A"},{"$error":"#N/A"},{"$error":"#N/A"},null,{"$error":"#N/A"},{"$error":"#N/A"},{"$error":"#N/A"},{"$error":"#N/A"},{"$error":"#N/A"}]
[null,"",null,null,{"$error":"#N/A"},null,null,null,"","",null,8,10,6,"",0,0,242,"",{"$f":"IF(AND(Y246=\"\",Z246=\"\"),0,COUNT(V$6:$V246))","v":0},"","",{"$f":"COUNT(V$5:V246)","v":0},0,"","","",{"$error":"#N/A"},{"$error":"#N/A"},{"$error":"#N/A"},{"$error":"#N/A"},{"$error":"#N/A"},null,{"$error":"#N/A"},{"$error":"#N/A"},{"$error":"#N/A"},{"$error":"#N/A"},null,{"$error":"#N/A"},{"$error":"#N/A"},{"$error":"#N/A"},{"$error":"#N/A"},{"$error":"#N/A"}]
[null,"",null,null,{"$error":"#N/A"},null,null,null,"","",null,8,10,6,"",0,0,243,"",{"$f":"IF(AND(Y247=\"\",Z247=\"\"),0,COUNT(V$6:$V247))","v":0},"","",{"$f":"COUNT(V$5:V247)","v":0},0,"","","",{"$error":"#N/A"},{"$error":"#N/A"},{"$error":"#N/A"},{"$error":"#N/A"},{"$error":"#N/A"},null,{"$error":"#N/A"},{"$error":"#N/A"},{"$error":"#N/A"},{"$error":"#N/A"},null,{"$error":"#N/A"},{"$error":"#N/A"},{"$error":"#N/A"},{"$error":"#N/A"},{"$error":"#N/A"}]
[null,"",null,null,{"$error":"#N/A"},null,null,null,"","",null,8,10,6,"",0,0,244,"",{"$f":"IF(AND(Y248=\"\",Z248=\"\"),0,COUNT(V$6:$V248))","v":0},"","",{"$f":"COUNT(V$5:V248)","v":0},0,"","","",{"$error":"#N/A"},{"$error":"#N/A"},{"$error":"#N/A"},{"$error":"#N/A"},{"$error":"#N/A"},null,{"$error":"#N/A"},{"$error":"#N/A"},{"$error":"#N/A"},{"$error":"#N/A"},null,{"$error":"#N/A"},{"$error":"#N/A"},{"$error":"#N/A"},{"$error":"#N/A"},{"$error":"#N/A"}]
[null,"",null,null,{"$error":"#N/A"},null,null,null,"","",null,8,10,6,"",0,0,245,"",{"$f":"IF(AND(Y249=\"\",Z249=\"\"),0,COUNT(V$6:$V249))","v":0},"","",{"$f":"COUNT(V$5:V249)","v":0},0,"","","",{"$error":"#N/A"},{"$error":"#N/A"},{"$error":"#N/A"},{"$error":"#N/A"},{"$error":"#N/A"},null,{"$error":"#N/A"},{"$error":"#N/A"},{"$error":"#N/A"},{"$error":"#N/A"},null,{"$error":"#N/A"},{"$error":"#N/A"},{"$error":"#N/A"},{"$error":"#N/A"},{"$error":"#N/A"}]
[null,"",null,null,{"$error":"#N/A"},null,null,null,"","",null,8,10,6,"",0,0,246,"",{"$f":"IF(AND(Y250=\"\",Z250=\"\"),0,COUNT(V$6:$V250))","v":0},"","",{"$f":"COUNT(V$5:V250)","v":0},0,"","","",{"$error":"#N/A"},{"$error":"#N/A"},{"$error":"#N/A"},{"$error":"#N/A"},{"$error":"#N/A"},null,{"$error":"#N/A"},{"$error":"#N/A"},{"$error":"#N/A"},{"$error":"#N/A"},null,{"$error":"#N/A"},{"$error":"#N/A"},{"$error":"#N/A"},{"$error":"#N/A"},{"$error":"#N/A"}]
[null,"",null,null,{"$error":"#N/A"},null,null,null,"","",null,8,10,6,"",0,0,247,"",{"$f":"IF(AND(Y251=\"\",Z251=\"\"),0,COUNT(V$6:$V251))","v":0},"","",{"$f":"COUNT(V$5:V251)","v":0},0,"","","",{"$error":"#N/A"},{"$error":"#N/A"},{"$error":"#N/A"},{"$error":"#N/A"},{"$error":"#N/A"},null,{"$error":"#N/A"},{"$error":"#N/A"},{"$error":"#N/A"},{"$error":"#N/A"},null,{"$error":"#N/A"},{"$error":"#N/A"},{"$error":"#N/A"},{"$error":"#N/A"},{"$error":"#N/A"}]
[null,{"$f":"IF(A252=\"\",\"\",B251+1)","v":""},null,null,{"$error":"#N/A"},null,null,null,{"$f":"IF(H252=\"\",\"\",(G252-H252))","v":""},"",null,8,10,6,"",{"$f":"IF(AND(H252=\"\",A251=A252),P251,IF(AND(A251=A252,H252>1),O252+P251,IF(H252=\"\",0,IF(H252>0,O252))))","v":0},{"$f":"IF(AND(A252=A251,H252>1),Q251+1,IF(AND(H252=\"\",A252=A251),Q251,IF(AND(H252=\"\",P252=0),0,1)))","v":0},{"$f":"IF(A252=A251,R251+1,1)","v":248},{"$f":"IF(AND(R252>=R253,Q252>0),P252/Q252,\"\")","v":""},{"$f":"IF(AND(Y252=\"\",Z252=\"\"),0,COUNT(V$6:$V252))","v":0},{"$f":"IF(AND(Y252=\"\",Z252=\"\"),\"\",A252)","v":""},{"$f":"IF(AND(R252>=R253,Q252>0),1,\"\")","v":""},{"$f":"COUNT(V$5:V252)","v":0},{"$f":"IF(W251>=2,\"\",W251)","v":0},{"$f":"IF(X252<X253,S252+6,\"\")","v":""},{"$f":"IF(S252=\"\",\"\",IF(AND(X252=\"\",S252>0),S252+6,\"\"))","v":""},"",{"$error":"#N/A"},{"$error":"#N/A"},{"$error":"#N/A"},{"$f":"AVERAGE(AC251:AC252)","v":{"$error":"#N/A"}},{"$error":"#N/A"},null,{"$f":"AB251","v":{"$error":"#N/A"}},{"$error":"#N/A"},{"$error":"#N/A"},{"$error":"#N/A"},null,{"$f":"IF(A252=\"\",#N/A,A252)","v":{"$error":"#N/A"}},{"$f":"IF(AM252=\"\",\"\",G252)","v":{"$error":"#N/A"}},{"$f":"IF(AM252=$AM$5,AQ252+1.5,IF(AM251=\"\",\"\",AQ252+1.5))","v":{"$error":"#N/A"}},{"$f":"IF(AM252=$AM$5,AQ252-1,IF(AN251=\"\",\"\",AQ252-1))","v":{"$error":"#N/A"}},{"$f":"IF(AM252=AM251,AQ251,VLOOKUP(AM252,graph,2,FALSE))","v":{"$error":"#N/A"}}]
[null,{"$f":"IF(A253=\"\",\"\",B252+1)","v":""},null,null,{"$error":"#N/A"},null,null,null,{"$f":"IF(H253=\"\",\"\",(G253-H253))","v":""},"",null,8,10,6,"",{"$f":"IF(AND(H253=\"\",A252=A253),P252,IF(AND(A252=A253,H253>1),O253+P252,IF(H253=\"\",0,IF(H253>0,O253))))","v":0},{"$f":"IF(AND(A253=A252,H253>1),Q252+1,IF(AND(H253=\"\",A253=A252),Q252,IF(AND(H253=\"\",P253=0),0,1)))","v":0},{"$f":"IF(A253=A252,R252+1,1)","v":249},{"$f":"IF(AND(R253>=R254,Q253>0),P253/Q253,\"\")","v":""},{"$f":"IF(AND(Y253=\"\",Z253=\"\"),0,COUNT(V$6:$V253))","v":0},{"$f":"IF(AND(Y253=\"\",Z253=\"\"),\"\",A253)","v":""},{"$f":"IF(AND(R253>=R254,Q253>0),1,\"\")","v":""},{"$f":"COUNT(V$5:V253)","v":0},{"$f":"IF(W252>=2,\"\",W252)","v":0},{"$f":"IF(X253<X254,S253+6,\"\")","v":""},{"$f":"IF(S253=\"\",\"\",IF(AND(X253=\"\",S253>0),S253+6,\"\"))","v":""},"",{"$error":"#N/A"},{"$error":"#N/A"},{"$error":"#N/A"},{"$f":"AVERAGE(AC252:AC253)","v":{"$error":"#N/A"}},{"$error":"#N/A"},null,{"$f":"AB252","v":{"$error":"#N/A"}},{"$error":"#N/A"},{"$error":"#N/A"},{"$error":"#N/A"},null,{"$f":"IF(A253=\"\",#N/A,A253)","v":{"$error":"#N/A"}},{"$f":"IF(AM253=\"\",\"\",G253)","v":{"$error":"#N/A"}},{"$f":"IF(AM253=$AM$5,AQ253+1.5,IF(AM252=\"\",\"\",AQ253+1.5))","v":{"$error":"#N/A"}},{"$f":"IF(AM253=$AM$5,AQ253-1,IF(AN252=\"\",\"\",AQ253-1))","v":{"$error":"#N/A"}},{"$f":"IF(AM253=AM252,AQ252,VLOOKUP(AM253,graph,2,FALSE))","v":{"$error":"#N/A"}}]
[null,{"$f":"IF(A254=\"\",\"\",B253+1)","v":""},null,null,{"$error":"#N/A"},null,null,null,{"$f":"IF(H254=\"\",\"\",(G254-H254))","v":""},"",null,8,10,6,"",{"$f":"IF(AND(H254=\"\",A253=A254),P253,IF(AND(A253=A254,H254>1),O254+P253,IF(H254=\"\",0,IF(H254>0,O254))))","v":0},{"$f":"IF(AND(A254=A253,H254>1),Q253+1,IF(AND(H254=\"\",A254=A253),Q253,IF(AND(H254=\"\",P254=0),0,1)))","v":0},{"$f":"IF(A254=A253,R253+1,1)","v":250},{"$f":"IF(AND(R254>=R255,Q254>0),P254/Q254,\"\")","v":""},{"$f":"IF(AND(Y254=\"\",Z254=\"\"),0,COUNT(V$6:$V254))","v":0},{"$f":"IF(AND(Y254=\"\",Z254=\"\"),\"\",A254)","v":""},{"$f":"IF(AND(R254>=R255,Q254>0),1,\"\")","v":""},{"$f":"COUNT(V$5:V254)","v":0},{"$f":"IF(W253>=2,\"\",W253)","v":0},{"$f":"IF(X254<X255,S254+6,\"\")","v":""},{"$f":"IF(S254=\"\",\"\",IF(AND(X254=\"\",S254>0),S254+6,\"\"))","v":""},"",{"$error":"#N/A"},{"$error":"#N/A"},{"$error":"#N/A"},{"$f":"AVERAGE(AC253:AC254)","v":{"$error":"#N/A"}},{"$error":"#N/A"},null,{"$f":"AB253","v":{"$error":"#N/A"}},{"$error":"#N/A"},{"$error":"#N/A"},{"$error":"#N/A"},null,{"$f":"IF(A254=\"\",#N/A,A254)","v":{"$error":"#N/A"}},{"$f":"IF(AM254=\"\",\"\",G254)","v":{"$error":"#N/A"}},{"$f":"IF(AM254=$AM$5,AQ254+1.5,IF(AM253=\"\",\"\",AQ254+1.5))","v":{"$error":"#N/A"}},{"$f":"IF(AM254=$AM$5,AQ254-1,IF(AN253=\"\",\"\",AQ254-1))","v":{"$error":"#N/A"}},{"$f":"IF(AM254=AM253,AQ253,VLOOKUP(AM254,graph,2,FALSE))","v":{"$error":"#N/A"}}]
[null,{"$f":"IF(A255=\"\",\"\",B254+1)","v":""},null,null,{"$error":"#N/A"},null,null,null,{"$f":"IF(H255=\"\",\"\",(G255-H255))","v":""},"",null,8,10,6,"",{"$f":"IF(AND(H255=\"\",A254=A255),P254,IF(AND(A254=A255,H255>1),O255+P254,IF(H255=\"\",0,IF(H255>0,O255))))","v":0},{"$f":"IF(AND(A255=A254,H255>1),Q254+1,IF(AND(H255=\"\",A255=A254),Q254,IF(AND(H255=\"\",P255=0),0,1)))","v":0},{"$f":"IF(A255=A254,R254+1,1)","v":251},{"$f":"IF(AND(R255>=R256,Q255>0),P255/Q255,\"\")","v":""},{"$f":"IF(AND(Y255=\"\",Z255=\"\"),0,COUNT(V$6:$V255))","v":0},{"$f":"IF(AND(Y255=\"\",Z255=\"\"),\"\",A255)","v":""},{"$f":"IF(AND(R255>=R256,Q255>0),1,\"\")","v":""},{"$f":"COUNT(V$5:V255)","v":0},{"$f":"IF(W254>=2,\"\",W254)","v":0},{"$f":"IF(X255<X256,S255+6,\"\")","v":""},{"$f":"IF(S255=\"\",\"\",IF(AND(X255=\"\",S255>0),S255+6,\"\"))","v":""},"",{"$error":"#N/A"},{"$error":"#N/A"},{"$error":"#N/A"},{"$f":"AVERAGE(AC254:AC255)","v":{"$error":"#N/A"}},{"$error":"#N/A"},null,{"$f":"AB254","v":{"$error":"#N/A"}},{"$error":"#N/A"},{"$error":"#N/A"},{"$error":"#N/A"},null,{"$f":"IF(A255=\"\",#N/A,A255)","v":{"$error":"#N/A"}},{"$f":"IF(AM255=\"\",\"\",G255)","v":{"$error":"#N/A"}},{"$f":"IF(AM255=$AM$5,AQ255+1.5,IF(AM254=\"\",\"\",AQ255+1.5))","v":{"$error":"#N/A"}},{"$f":"IF(AM255=$AM$5,AQ255-1,IF(AN254=\"\",\"\",AQ255-1))","v":{"$error":"#N/A"}},{"$f":"IF(AM255=AM254,AQ254,VLOOKUP(AM255,graph,2,FALSE))","v":{"$error":"#N/A"}}]
[null,"",null,null,{"$error":"#N/A"},null,null,null,"","",null,8,10,6,"",0,0,252,"",{"$f":"IF(AND(Y256=\"\",Z256=\"\"),0,COUNT(V$6:$V256))","v":0},"","",{"$f":"COUNT(V$5:V256)","v":0},0,"","","",{"$error":"#N/A"},{"$error":"#N/A"},{"$error":"#N/A"},{"$error":"#N/A"},{"$error":"#N/A"},null,{"$error":"#N/A"},{"$error":"#N/A"},{"$error":"#N/A"},{"$error":"#N/A"},null,{"$error":"#N/A"},{"$error":"#N/A"},{"$error":"#N/A"},{"$error":"#N/A"},{"$error":"#N/A"}]
[null,"",null,null,{"$error":"#N/A"},null,null,null,"","",null,8,10,6,"",0,0,253,"",{"$f":"IF(AND(Y257=\"\",Z257=\"\"),0,COUNT(V$6:$V257))","v":0},"","",{"$f":"COUNT(V$5:V257)","v":0},0,"","","",{"$error":"#N/A"},{"$error":"#N/A"},{"$error":"#N/A"},{"$error":"#N/A"},{"$error":"#N/A"},null,{"$error":"#N/A"},{"$error":"#N/A"},{"$error":"#N/A"},{"$error":"#N/A"},null,{"$error":"#N/A"},{"$error":"#N/A"},{"$error":"#N/A"},{"$error":"#N/A"},{"$error":"#N/A"}]
[null,"",null,null,{"$error":"#N/A"},null,null,null,"","",null,8,10,6,"",0,0,254,"",{"$f":"IF(AND(Y258=\"\",Z258=\"\"),0,COUNT(V$6:$V258))","v":0},"","",{"$f":"COUNT(V$5:V258)","v":0},0,"","","",{"$error":"#N/A"},{"$error":"#N/A"},{"$error":"#N/A"},{"$error":"#N/A"},{"$error":"#N/A"},null,{"$error":"#N/A"},{"$error":"#N/A"},{"$error":"#N/A"},{"$error":"#N/A"},null,{"$error":"#N/A"},{"$error":"#N/A"},{"$error":"#N/A"},{"$error":"#N/A"},{"$error":"#N/A"}]
[null,"",null,null,{"$error":"#N/A"},null,null,null,"","",null,8,10,6,"",0,0,255,"",{"$f":"IF(AND(Y259=\"\",Z259=\"\"),0,COUNT(V$6:$V259))","v":0},"","",{"$f":"COUNT(V$5:V259)","v":0},0,"","","",{"$error":"#N/A"},{"$error":"#N/A"},{"$error":"#N/A"},{"$error":"#N/A"},{"$error":"#N/A"},null,{"$error":"#N/A"},{"$error":"#N/A"},{"$error":"#N/A"},{"$error":"#N/A"},null,{"$error":"#N/A"},{"$error":"#N/A"},{"$error":"#N/A"},{"$error":"#N/A"},{"$error":"#N/A"}]
[null,"",null,null,{"$error":"#N/A"},null,null,null,"","",null,8,10,6,"",0,0,256,"",{"$f":"IF(AND(Y260=\"\",Z260=\"\"),0,COUNT(V$6:$V260))","v":0},"","",{"$f":"COUNT(V$5:V260)","v":0},0,"","","",{"$error":"#N/A"},{"$error":"#N/A"},{"$error":"#N/A"},{"$error":"#N/A"},{"$error":"#N/A"},null,{"$error":"#N/A"},{"$error":"#N/A"},{"$error":"#N/A"},{"$error":"#N/A"},null,{"$error":"#N/A"},{"$error":"#N/A"},{"$error":"#N/A"},{"$error":"#N/A"},{"$error":"#N/A"}]
[null,"",null,null,{"$error":"#N/A"},null,null,null,"",{"$f":"IF(A261=\"\",\"\",IF(AND(G261>1,I261>0),MROUND((6.5+I261),0.5),IF(AND(A261<>\"\",I261>0.01),J260)))","v":""},null,8,10,6,"",0,0,257,"",{"$f":"IF(AND(Y261=\"\",Z261=\"\"),0,COUNT(V$6:$V261))","v":0},"","",{"$f":"COUNT(V$5:V261)","v":0},0,"","","",{"$error":"#N/A"},{"$error":"#N/A"},{"$error":"#N/A"},{"$error":"#N/A"},{"$error":"#N/A"},null,{"$error":"#N/A"},{"$error":"#N/A"},{"$error":"#N/A"},{"$error":"#N/A"},null,{"$error":"#N/A"},{"$error":"#N/A"},{"$error":"#N/A"},{"$error":"#N/A"},{"$error":"#N/A"}]
[null,"",null,null,{"$f":"IF((D262>0),(D262/$E$4),#N/A)","v":{"$error":"#N/A"}},null,null,null,"","",null,8,{"$f":"IF(L262=\"\",\"\",L262+2)","v":10},{"$f":"IF(L262=\"\",\"\",L262-2)","v":6},"",0,0,258,"",{"$f":"IF(AND(Y262=\"\",Z262=\"\"),0,COUNT(V$6:$V262))","v":0},"","",{"$f":"COUNT(V$5:V262)","v":0},0,"","","",{"$error":"#N/A"},{"$error":"#N/A"},{"$error":"#N/A"},{"$error":"#N/A"},{"$error":"#N/A"},null,{"$error":"#N/A"},{"$error":"#N/A"},{"$error":"#N/A"},{"$error":"#N/A"},null,{"$error":"#N/A"},{"$error":"#N/A"},{"$error":"#N/A"},{"$error":"#N/A"},{"$error":"#N/A"}]
[null,"",null,null,{"$error":"#N/A"},null,null,null,"","",null,8,10,6,"",0,0,259,"",{"$f":"IF(AND(Y263=\"\",Z263=\"\"),0,COUNT(V$6:$V263))","v":0},"","",{"$f":"COUNT(V$5:V263)","v":0},0,"","","",{"$error":"#N/A"},{"$error":"#N/A"},{"$f":"AC263-6","v":{"$error":"#N/A"}},{"$error":"#N/A"},{"$error":"#N/A"},null,{"$error":"#N/A"},{"$error":"#N/A"},{"$f":"IF($AI263=\"\",#N/A,($AI263+1.5))","v":{"$error":"#N/A"}},{"$f":"IF($AI263=\"\",#N/A,($AI263-1))","v":{"$error":"#N/A"}},null,{"$error":"#N/A"},{"$error":"#N/A"},{"$error":"#N/A"},{"$error":"#N/A"},{"$error":"#N/A"}]
[null,"",null,null,{"$error":"#N/A"},null,null,null,"","",null,8,10,6,"",0,0,260,"",{"$f":"IF(AND(Y264=\"\",Z264=\"\"),0,COUNT(V$6:$V264))","v":0},"","",{"$f":"COUNT(V$5:V264)","v":0},0,"","","",{"$error":"#N/A"},{"$error":"#N/A"},{"$error":"#N/A"},{"$error":"#N/A"},{"$error":"#N/A"},null,{"$error":"#N/A"},{"$error":"#N/A"},{"$error":"#N/A"},{"$error":"#N/A"},null,{"$error":"#N/A"},{"$error":"#N/A"},{"$error":"#N/A"},{"$error":"#N/A"},{"$error":"#N/A"}]
[null,"",null,null,{"$error":"#N/A"},null,null,null,"","",null,8,10,6,"",0,0,261,"",{"$f":"IF(AND(Y265=\"\",Z265=\"\"),0,COUNT(V$6:$V265))","v":0},"","",{"$f":"COUNT(V$5:V265)","v":0},0,"","","",{"$error":"#N/A"},{"$f":"VLOOKUP(AB265,time,6,FALSE)","v":{"$error":"#N/A"}},{"$error":"#N/A"},{"$error":"#N/A"},{"$f":"AE265-6","v":{"$error":"#N/A"}},null,{"$error":"#N/A"},{"$error":"#N/A"},{"$error":"#N/A"},{"$error":"#N/A"},null,{"$error":"#N/A"},{"$error":"#N/A"},{"$error":"#N/A"},{"$error":"#N/A"},{"$error":"#N/A"}]
[null,"",null,null,{"$error":"#N/A"},null,null,null,"","",null,8,10,6,"",0,0,262,"",{"$f":"IF(AND(Y266=\"\",Z266=\"\"),0,COUNT(V$6:$V266))","v":0},"","",{"$f":"COUNT(V$5:V266)","v":0},0,"","","",{"$error":"#N/A"},{"$error":"#N/A"},{"$error":"#N/A"},{"$error":"#N/A"},{"$error":"#N/A"},null,{"$error":"#N/A"},{"$error":"#N/A"},{"$error":"#N/A"},{"$error":"#N/A"},null,{"$error":"#N/A"},{"$error":"#N/A"},{"$error":"#N/A"},{"$error":"#N/A"},{"$error":"#N/A"}]
[null,"",null,null,{"$error":"#N/A"},null,null,null,"","",null,8,10,6,"",0,0,263,"",{"$f":"IF(AND(Y267=\"\",Z267=\"\"),0,COUNT(V$6:$V267))","v":0},"","",{"$f":"COUNT(V$5:V267)","v":0},0,"","","",{"$error":"#N/A"},{"$error":"#N/A"},{"$error":"#N/A"},{"$error":"#N/A"},{"$error":"#N/A"},null,{"$error":"#N/A"},{"$f":"IF(ABS(AE265-AE264)>0.5,MROUND(AE265,0.5),AI266)","v":{"$error":"#N/A"}},{"$error":"#N/A"},{"$error":"#N/A"},null,{"$error":"#N/A"},{"$error":"#N/A"},{"$error":"#N/A"},{"$error":"#N/A"},{"$error":"#N/A"}]
[null,"",null,null,{"$error":"#N/A"},null,null,null,"","",null,8,10,6,"",0,0,264,"",{"$f":"IF(AND(Y268=\"\",Z268=\"\"),0,COUNT(V$6:$V268))","v":0},"","",{"$f":"COUNT(V$5:V268)","v":0},0,"","","",{"$error":"#N/A"},{"$error":"#N/A"},{"$error":"#N/A"},{"$error":"#N/A"},{"$error":"#N/A"},null,{"$error":"#N/A"},{"$error":"#N/A"},{"$error":"#N/A"},{"$error":"#N/A"},null,{"$error":"#N/A"},{"$error":"#N/A"},{"$error":"#N/A"},{"$error":"#N/A"},{"$error":"#N/A"}]
[null,"",null,null,{"$error":"#N/A"},null,null,null,"","",null,8,10,6,"",0,0,265,"",{"$f":"IF(AND(Y269=\"\",Z269=\"\"),0,COUNT(V$6:$V269))","v":0},"","",{"$f":"COUNT(V$5:V269)","v":0},0,"","","",{"$error":"#N/A"},{"$error":"#N/A"},{"$error":"#N/A"},{"$error":"#N/A"},{"$error":"#N/A"},null,{"$error":"#N/A"},{"$error":"#N/A"},{"$error":"#N/A"},{"$error":"#N/A"},null,{"$error":"#N/A"},{"$error":"#N/A"},{"$error":"#N/A"},{"$error":"#N/A"},{"$error":"#N/A"}]
[null,"",null,null,{"$error":"#N/A"},null,null,null,"","",null,8,10,6,"",0,0,266,"",{"$f":"IF(AND(Y270=\"\",Z270=\"\"),0,COUNT(V$6:$V270))","v":0},"","",{"$f":"COUNT(V$5:V270)","v":0},0,"","","",{"$error":"#N/A"},{"$error":"#N/A"},{"$error":"#N/A"},{"$error":"#N/A"},{"$error":"#N/A"},null,{"$error":"#N/A"},{"$error":"#N/A"},{"$error":"#N/A"},{"$error":"#N/A"},null,{"$error":"#N/A"},{"$error":"#N/A"},{"$error":"#N/A"},{"$error":"#N/A"},{"$error":"#N/A"}]
[null,"",null,null,{"$error":"#N/A"},null,null,null,"","",null,8,10,6,"",0,0,267,"",{"$f":"IF(AND(Y271=\"\",Z271=\"\"),0,COUNT(V$6:$V271))","v":0},"","",{"$f":"COUNT(V$5:V271)","v":0},0,"","","",{"$error":"#N/A"},{"$error":"#N/A"},{"$error":"#N/A"},{"$error":"#N/A"},{"$error":"#N/A"},null,{"$error":"#N/A"},{"$error":"#N/A"},{"$error":"#N/A"},{"$error":"#N/A"},null,{"$error":"#N/A"},{"$error":"#N/A"},{"$error":"#N/A"},{"$error":"#N/A"},{"$error":"#N/A"}]
[null,"",null,null,{"$error":"#N/A"},null,null,null,"","",null,8,10,6,"",0,0,268,"",{"$f":"IF(AND(Y272=\"\",Z272=\"\"),0,COUNT(V$6:$V272))","v":0},"","",{"$f":"COUNT(V$5:V272)","v":0},0,"","","",{"$error":"#N/A"},{"$error":"#N/A"},{"$error":"#N/A"},{"$error":"#N/A"},{"$error":"#N/A"},null,{"$error":"#N/A"},{"$error":"#N/A"},{"$error":"#N/A"},{"$error":"#N/A"},null,{"$error":"#N/A"},{"$error":"#N/A"},{"$error":"#N/A"},{"$error":"#N/A"},{"$error":"#N/A"}]
[null,"",null,null,{"$error":"#N/A"},null,null,null,"","",null,8,10,6,"",0,0,269,"",{"$f":"IF(AND(Y273=\"\",Z273=\"\"),0,COUNT(V$6:$V273))","v":0},"","",{"$f":"COUNT(V$5:V273)","v":0},0,"","","",{"$error":"#N/A"},{"$error":"#N/A"},{"$error":"#N/A"},{"$error":"#N/A"},{"$error":"#N/A"},null,{"$error":"#N/A"},{"$error":"#N/A"},{"$error":"#N/A"},{"$error":"#N/A"},null,{"$error":"#N/A"},{"$error":"#N/A"},{"$error":"#N/A"},{"$error":"#N/A"},{"$error":"#N/A"}]
[null,"",null,null,{"$error":"#N/A"},null,null,null,"","",null,8,10,6,"",0,0,270,"",{"$f":"IF(AND(Y274=\"\",Z274=\"\"),0,COUNT(V$6:$V274))","v":0},"","",{"$f":"COUNT(V$5:V274)","v":0},0,"","","",{"$error":"#N/A"},{"$error":"#N/A"},{"$error":"#N/A"},{"$error":"#N/A"},{"$error":"#N/A"},null,{"$error":"#N/A"},{"$error":"#N/A"},{"$error":"#N/A"},{"$error":"#N/A"},null,{"$error":"#N/A"},{"$error":"#N/A"},{"$error":"#N/A"},{"$error":"#N/A"},{"$error":"#N/A"}]
[null,"",null,null,{"$error":"#N/A"},null,null,null,"","",null,8,10,6,"",0,0,271,"",{"$f":"IF(AND(Y275=\"\",Z275=\"\"),0,COUNT(V$6:$V275))","v":0},"","",{"$f":"COUNT(V$5:V275)","v":0},0,"","","",{"$error":"#N/A"},{"$error":"#N/A"},{"$error":"#N/A"},{"$error":"#N/A"},{"$error":"#N/A"},null,{"$error":"#N/A"},{"$error":"#N/A"},{"$error":"#N/A"},{"$error":"#N/A"},null,{"$error":"#N/A"},{"$error":"#N/A"},{"$error":"#N/A"},{"$error":"#N/A"},{"$error":"#N/A"}]
[null,"",null,null,{"$error":"#N/A"},null,null,null,"","",null,8,10,6,"",0,0,272,"",{"$f":"IF(AND(Y276=\"\",Z276=\"\"),0,COUNT(V$6:$V276))","v":0},"","",{"$f":"COUNT(V$5:V276)","v":0},0,"","","",{"$error":"#N/A"},{"$error":"#N/A"},{"$error":"#N/A"},{"$error":"#N/A"},{"$error":"#N/A"},null,{"$error":"#N/A"},{"$error":"#N/A"},{"$error":"#N/A"},{"$error":"#N/A"},null,{"$error":"#N/A"},{"$error":"#N/A"},{"$error":"#N/A"},{"$error":"#N/A"},{"$error":"#N/A"}]
[null,"",null,null,{"$error":"#N/A"},null,null,null,"","",null,8,10,6,"",0,0,273,"",{"$f":"IF(AND(Y277=\"\",Z277=\"\"),0,COUNT(V$6:$V277))","v":0},"","",{"$f":"COUNT(V$5:V277)","v":0},0,"","","",{"$error":"#N/A"},{"$error":"#N/A"},{"$error":"#N/A"},{"$error":"#N/A"},{"$error":"#N/A"},null,{"$error":"#N/A"},{"$error":"#N/A"},{"$error":"#N/A"},{"$error":"#N/A"},null,{"$error":"#N/A"},{"$error":"#N/A"},{"$error":"#N/A"},{"$error":"#N/A"},{"$error":"#N/A"}]
[null,"",null,null,{"$error":"#N/A"},null,null,null,"","",null,8,10,6,"",0,0,274,"",{"$f":"IF(AND(Y278=\"\",Z278=\"\"),0,COUNT(V$6:$V278))","v":0},"","",{"$f":"COUNT(V$5:V278)","v":0},0,"","","",{"$error":"#N/A"},{"$error":"#N/A"},{"$error":"#N/A"},{"$error":"#N/A"},{"$error":"#N/A"},null,{"$error":"#N/A"},{"$error":"#N/A"},{"$error":"#N/A"},{"$error":"#N/A"},null,{"$error":"#N/A"},{"$error":"#N/A"},{"$error":"#N/A"},{"$error":"#N/A"},{"$error":"#N/A"}]
[null,"",null,null,{"$error":"#N/A"},null,null,null,"","",null,8,10,6,"",0,0,275,"",{"$f":"IF(AND(Y279=\"\",Z279=\"\"),0,COUNT(V$6:$V279))","v":0},"","",{"$f":"COUNT(V$5:V279)","v":0},0,"","","",{"$error":"#N/A"},{"$error":"#N/A"},{"$error":"#N/A"},{"$error":"#N/A"},{"$error":"#N/A"},null,{"$error":"#N/A"},{"$error":"#N/A"},{"$error":"#N/A"},{"$error":"#N/A"},null,{"$error":"#N/A"},{"$error":"#N/A"},{"$error":"#N/A"},{"$error":"#N/A"},{"$error":"#N/A"}]
[null,"",null,null,{"$error":"#N/A"},null,null,null,"","",null,8,10,6,"",0,0,276,"",{"$f":"IF(AND(Y280=\"\",Z280=\"\"),0,COUNT(V$6:$V280))","v":0},"","",{"$f":"COUNT(V$5:V280)","v":0},0,"","","",{"$error":"#N/A"},{"$error":"#N/A"},{"$error":"#N/A"},{"$error":"#N/A"},{"$error":"#N/A"},null,{"$error":"#N/A"},{"$error":"#N/A"},{"$error":"#N/A"},{"$error":"#N/A"},null,{"$error":"#N/A"},{"$error":"#N/A"},{"$error":"#N/A"},{"$error":"#N/A"},{"$error":"#N/A"}]
[null,"",null,null,{"$error":"#N/A"},null,null,null,"","",null,8,10,6,"",0,0,277,"",{"$f":"IF(AND(Y281=\"\",Z281=\"\"),0,COUNT(V$6:$V281))","v":0},"","",{"$f":"COUNT(V$5:V281)","v":0},0,"","","",{"$error":"#N/A"},{"$error":"#N/A"},{"$error":"#N/A"},{"$error":"#N/A"},{"$error":"#N/A"},null,{"$error":"#N/A"},{"$error":"#N/A"},{"$error":"#N/A"},{"$error":"#N/A"},null,{"$error":"#N/A"},{"$error":"#N/A"},{"$error":"#N/A"},{"$error":"#N/A"},{"$error":"#N/A"}]
[null,"",null,null,{"$error":"#N/A"},null,null,null,"","",null,8,10,6,"",0,0,278,"",{"$f":"IF(AND(Y282=\"\",Z282=\"\"),0,COUNT(V$6:$V282))","v":0},"","",{"$f":"COUNT(V$5:V282)","v":0},0,"","","",{"$error":"#N/A"},{"$error":"#N/A"},{"$error":"#N/A"},{"$error":"#N/A"},{"$error":"#N/A"},null,{"$error":"#N/A"},{"$error":"#N/A"},{"$error":"#N/A"},{"$error":"#N/A"},null,{"$error":"#N/A"},{"$error":"#N/A"},{"$error":"#N/A"},{"$error":"#N/A"},{"$error":"#N/A"}]
[null,"",null,null,{"$error":"#N/A"},null,null,null,"","",null,8,10,6,"",0,0,279,"",{"$f":"IF(AND(Y283=\"\",Z283=\"\"),0,COUNT(V$6:$V283))","v":0},"","",{"$f":"COUNT(V$5:V283)","v":0},0,"","","",{"$f":"VLOOKUP(149,count,2,FALSE)","v":{"$error":"#N/A"}},{"$error":"#N/A"},{"$error":"#N/A"},{"$error":"#N/A"},{"$error":"#N/A"},null,{"$error":"#N/A"},{"$error":"#N/A"},{"$error":"#N/A"},{"$error":"#N/A"},null,{"$error":"#N/A"},{"$error":"#N/A"},{"$error":"#N/A"},{"$error":"#N/A"},{"$error":"#N/A"}]
[null,"",null,null,{"$error":"#N/A"},null,null,null,"","",null,8,10,6,"",0,0,280,"",{"$f":"IF(AND(Y284=\"\",Z284=\"\"),0,COUNT(V$6:$V284))","v":0},"","",{"$f":"COUNT(V$5:V284)","v":0},0,"","","",{"$error":"#N/A"},{"$error":"#N/A"},{"$error":"#N/A"},{"$error":"#N/A"},{"$error":"#N/A"},null,{"$error":"#N/A"},{"$error":"#N/A"},{"$error":"#N/A"},{"$error":"#N/A"},null,{"$error":"#N/A"},{"$error":"#N/A"},{"$error":"#N/A"},{"$error":"#N/A"},{"$error":"#N/A"}]
[null,"",null,null,{"$error":"#N/A"},null,null,null,"","",null,8,10,6,"",0,0,281,"",{"$f":"IF(AND(Y285=\"\",Z285=\"\"),0,COUNT(V$6:$V285))","v":0},"","",{"$f":"COUNT(V$5:V285)","v":0},0,"","","",{"$error":"#N/A"},{"$error":"#N/A"},{"$error":"#N/A"},{"$error":"#N/A"},{"$error":"#N/A"},null,{"$error":"#N/A"},{"$error":"#N/A"},{"$error":"#N/A"},{"$error":"#N/A"},null,{"$error":"#N/A"},{"$error":"#N/A"},{"$error":"#N/A"},{"$error":"#N/A"},{"$error":"#N/A"}]
[null,"",null,null,{"$error":"#N/A"},null,null,null,"","",null,8,10,6,"",0,0,282,"",{"$f":"IF(AND(Y286=\"\",Z286=\"\"),0,COUNT(V$6:$V286))","v":0},"","",{"$f":"COUNT(V$5:V286)","v":0},0,"","","",{"$error":"#N/A"},{"$error":"#N/A"},{"$error":"#N/A"},{"$error":"#N/A"},{"$error":"#N/A"},null,{"$error":"#N/A"},{"$error":"#N/A"},{"$error":"#N/A"},{"$error":"#N/A"},null,{"$error":"#N/A"},{"$error":"#N/A"},{"$error":"#N/A"},{"$error":"#N/A"},{"$error":"#N/A"}]
[null,"",null,null,{"$error":"#N/A"},null,null,null,"","",null,8,10,6,"",0,0,283,"",{"$f":"IF(AND(Y287=\"\",Z287=\"\"),0,COUNT(V$6:$V287))","v":0},"","",{"$f":"COUNT(V$5:V287)","v":0},0,"","","",{"$error":"#N/A"},{"$error":"#N/A"},{"$error":"#N/A"},{"$error":"#N/A"},{"$error":"#N/A"},null,{"$error":"#N/A"},{"$error":"#N/A"},{"$error":"#N/A"},{"$error":"#N/A"},null,{"$error":"#N/A"},{"$error":"#N/A"},{"$error":"#N/A"},{"$error":"#N/A"},{"$error":"#N/A"}]
[null,"",null,null,{"$error":"#N/A"},null,null,null,"","",null,8,10,6,"",0,0,284,"",{"$f":"IF(AND(Y288=\"\",Z288=\"\"),0,COUNT(V$6:$V288))","v":0},"","",{"$f":"COUNT(V$5:V288)","v":0},0,"","","",{"$error":"#N/A"},{"$error":"#N/A"},{"$error":"#N/A"},{"$error":"#N/A"},{"$error":"#N/A"},null,{"$error":"#N/A"},{"$error":"#N/A"},{"$error":"#N/A"},{"$error":"#N/A"},null,{"$error":"#N/A"},{"$error":"#N/A"},{"$error":"#N/A"},{"$error":"#N/A"},{"$error":"#N/A"}]
[null,"",null,null,{"$error":"#N/A"},null,null,null,"","",null,8,10,6,"",0,0,285,"",{"$f":"IF(AND(Y289=\"\",Z289=\"\"),0,COUNT(V$6:$V289))","v":0},"","",{"$f":"COUNT(V$5:V289)","v":0},0,"","","",{"$error":"#N/A"},{"$error":"#N/A"},{"$error":"#N/A"},{"$error":"#N/A"},{"$error":"#N/A"},null,{"$error":"#N/A"},{"$error":"#N/A"},{"$error":"#N/A"},{"$error":"#N/A"},null,{"$error":"#N/A"},{"$error":"#N/A"},{"$error":"#N/A"},{"$error":"#N/A"},{"$error":"#N/A"}]
[null,"",null,null,{"$error":"#N/A"},null,null,null,"","",null,8,10,6,"",0,0,286,"",{"$f":"IF(AND(Y290=\"\",Z290=\"\"),0,COUNT(V$6:$V290))","v":0},"","",{"$f":"COUNT(V$5:V290)","v":0},0,"","","",{"$error":"#N/A"},{"$error":"#N/A"},{"$error":"#N/A"},{"$error":"#N/A"},{"$error":"#N/A"},null,{"$error":"#N/A"},{"$error":"#N/A"},{"$error":"#N/A"},{"$error":"#N/A"},null,{"$error":"#N/A"},{"$error":"#N/A"},{"$error":"#N/A"},{"$error":"#N/A"},{"$error":"#N/A"}]
[null,"",null,null,{"$error":"#N/A"},null,null,null,"","",null,8,10,6,"",0,0,287,"",{"$f":"IF(AND(Y291=\"\",Z291=\"\"),0,COUNT(V$6:$V291))","v":0},"","",{"$f":"COUNT(V$5:V291)","v":0},0,"","","",{"$error":"#N/A"},{"$error":"#N/A"},{"$error":"#N/A"},{"$error":"#N/A"},{"$error":"#N/A"},null,{"$error":"#N/A"},{"$error":"#N/A"},{"$error":"#N/A"},{"$error":"#N/A"},null,{"$error":"#N/A"},{"$error":"#N/A"},{"$error":"#N/A"},{"$error":"#N/A"},{"$error":"#N/A"}]
[null,"",null,null,{"$error":"#N/A"},null,null,null,"","",null,8,10,6,"",0,0,288,"",{"$f":"IF(AND(Y292=\"\",Z292=\"\"),0,COUNT(V$6:$V292))","v":0},"","",{"$f":"COUNT(V$5:V292)","v":0},0,"","","",{"$error":"#N/A"},{"$error":"#N/A"},{"$error":"#N/A"},{"$error":"#N/A"},{"$error":"#N/A"},null,{"$error":"#N/A"},{"$error":"#N/A"},{"$error":"#N/A"},{"$error":"#N/A"},null,{"$error":"#N/A"},{"$error":"#N/A"},{"$error":"#N/A"},{"$error":"#N/A"},{"$error":"#N/A"}]
[null,"",null,null,{"$error":"#N/A"},null,null,null,"","",null,8,10,6,"",0,0,289,"",{"$f":"IF(AND(Y293=\"\",Z293=\"\"),0,COUNT(V$6:$V293))","v":0},"","",{"$f":"COUNT(V$5:V293)","v":0},0,"","","",{"$error":"#N/A"},{"$error":"#N/A"},{"$error":"#N/A"},{"$error":"#N/A"},{"$error":"#N/A"},null,{"$error":"#N/A"},{"$error":"#N/A"},{"$error":"#N/A"},{"$error":"#N/A"},null,{"$error":"#N/A"},{"$error":"#N/A"},{"$error":"#N/A"},{"$error":"#N/A"},{"$error":"#N/A"}]
[null,"",null,null,{"$error":"#N/A"},null,null,null,"","",null,8,10,6,"",0,0,290,"",{"$f":"IF(AND(Y294=\"\",Z294=\"\"),0,COUNT(V$6:$V294))","v":0},"","",{"$f":"COUNT(V$5:V294)","v":0},0,"","","",{"$error":"#N/A"},{"$error":"#N/A"},{"$error":"#N/A"},{"$error":"#N/A"},{"$error":"#N/A"},null,{"$error":"#N/A"},{"$error":"#N/A"},{"$error":"#N/A"},{"$error":"#N/A"},null,{"$error":"#N/A"},{"$error":"#N/A"},{"$error":"#N/A"},{"$error":"#N/A"},{"$error":"#N/A"}]
[null,"",null,null,{"$error":"#N/A"},null,null,null,"","",null,8,10,6,"",0,0,291,"",{"$f":"IF(AND(Y295=\"\",Z295=\"\"),0,COUNT(V$6:$V295))","v":0},"","",{"$f":"COUNT(V$5:V295)","v":0},0,"","","",{"$error":"#N/A"},{"$error":"#N/A"},{"$error":"#N/A"},{"$error":"#N/A"},{"$error":"#N/A"},null,{"$error":"#N/A"},{"$error":"#N/A"},{"$error":"#N/A"},{"$error":"#N/A"},null,{"$error":"#N/A"},{"$error":"#N/A"},{"$error":"#N/A"},{"$error":"#N/A"},{"$error":"#N/A"}]
[null,"",null,null,{"$error":"#N/A"},null,null,null,"","",null,8,10,6,"",0,0,292,"",{"$f":"IF(AND(Y296=\"\",Z296=\"\"),0,COUNT(V$6:$V296))","v":0},"","",{"$f":"COUNT(V$5:V296)","v":0},0,"","","",{"$error":"#N/A"},{"$error":"#N/A"},{"$error":"#N/A"},{"$error":"#N/A"},{"$error":"#N/A"},null,{"$error":"#N/A"},{"$error":"#N/A"},{"$error":"#N/A"},{"$error":"#N/A"},null,{"$error":"#N/A"},{"$error":"#N/A"},{"$error":"#N/A"},{"$error":"#N/A"},{"$error":"#N/A"}]
[null,"",null,null,{"$error":"#N/A"},null,null,null,"","",null,8,10,6,{"$f":"I297","v":""},0,0,293,"",{"$f":"IF(AND(Y297=\"\",Z297=\"\"),0,COUNT(V$6:$V297))","v":0},"","",{"$f":"COUNT(V$5:V297)","v":0},0,"","",{"$f":"IF(Z297=\"\",\"\",ABS($AI$6-Z297))","v":""},{"$error":"#N/A"},{"$error":"#N/A"},{"$error":"#N/A"},{"$error":"#N/A"},{"$error":"#N/A"},null,{"$error":"#N/A"},{"$error":"#N/A"},{"$error":"#N/A"},{"$error":"#N/A"},null,{"$error":"#N/A"},{"$error":"#N/A"},{"$error":"#N/A"},{"$error":"#N/A"},{"$error":"#N/A"}]
[null,"",null,null,{"$error":"#N/A"},null,null,null,"","",null,8,10,6,{"$f":"I298","v":""},0,0,294,"",{"$f":"IF(AND(Y298=\"\",Z298=\"\"),0,COUNT(V$6:$V298))","v":0},"","",{"$f":"COUNT(V$5:V298)","v":0},0,"","",{"$f":"IF(Z298=\"\",\"\",ABS($AI$6-Z298))","v":""},{"$error":"#N/A"},{"$error":"#N/A"},{"$error":"#N/A"},{"$error":"#N/A"},{"$error":"#N/A"},null,{"$error":"#N/A"},{"$error":"#N/A"},{"$error":"#N/A"},{"$error":"#N/A"},null,{"$error":"#N/A"},{"$error":"#N/A"},{"$error":"#N/A"},{"$error":"#N/A"},{"$error":"#N/A"}]
[null,"",null,null,{"$error":"#N/A"},null,null,null,"","",null,8,10,6,{"$f":"I299","v":""},0,0,295,"",{"$f":"IF(AND(Y299=\"\",Z299=\"\"),0,COUNT(V$6:$V299))","v":0},"","",{"$f":"COUNT(V$5:V299)","v":0},0,"","",{"$f":"IF(Z299=\"\",\"\",ABS($AI$6-Z299))","v":""},{"$error":"#N/A"},{"$error":"#N/A"},{"$error":"#N/A"},{"$error":"#N/A"},{"$error":"#N/A"},null,{"$error":"#N/A"},{"$error":"#N/A"},{"$error":"#N/A"},{"$error":"#N/A"},null,{"$error":"#N/A"},{"$error":"#N/A"},{"$error":"#N/A"},{"$error":"#N/A"},{"$error":"#N/A"}]
[null,"",null,null,{"$error":"#N/A"},null,null,null,"","",null,8,10,6,{"$f":"I300","v":""},0,0,296,"",{"$f":"IF(AND(Y300=\"\",Z300=\"\"),0,COUNT(V$6:$V300))","v":0},"","",{"$f":"COUNT(V$5:V300)","v":0},0,"","",{"$f":"IF(Z300=\"\",\"\",ABS($AI$6-Z300))","v":""},{"$error":"#N/A"},{"$error":"#N/A"},{"$error":"#N/A"},{"$error":"#N/A"},{"$error":"#N/A"},null,{"$error":"#N/A"},{"$error":"#N/A"},{"$error":"#N/A"},{"$error":"#N/A"},null,{"$error":"#N/A"},{"$error":"#N/A"},{"$error":"#N/A"},{"$error":"#N/A"},{"$error":"#N/A"}]
[null,"",null,null,{"$error":"#N/A"},null,null,null,"","",null,8,10,6,{"$f":"I301","v":""},0,0,297,{"$f":"IF(AND(R301>=#REF!,Q301>0),P301/Q301,\"\")","v":{"$error":"#REF!"}},{"$f":"IF(AND(Y301=\"\",Z301=\"\"),0,COUNT(V$6:$V301))","v":{"$error":"#REF!"}},{"$error":"#REF!"},{"$f":"IF(AND(R301>=#REF!,Q301>0),1,\"\")","v":{"$error":"#REF!"}},{"$f":"COUNT(V$5:V301)","v":0},0,{"$f":"IF(X301<#REF!,S301+6,\"\")","v":{"$error":"#REF!"}},{"$error":"#REF!"},{"$f":"IF(Z301=\"\",\"\",ABS($AI$6-Z301))","v":{"$error":"#REF!"}},{"$error":"#N/A"},{"$error":"#N/A"},{"$error":"#N/A"},{"$error":"#N/A"},{"$error":"#N/A"},null,{"$error":"#N/A"},{"$error":"#N/A"},{"$error":"#N/A"},{"$error":"#N/A"},null,{"$error":"#N/A"},{"$error":"#N/A"},{"$error":"#N/A"},{"$error":"#N/A"},{"$error":"#N/A"}]
[null,{"$f":"IF(A302=\"\",\"\",B301+1)","v":""},null,null,{"$error":"#N/A"},null,null,null,{"$f":"IF(H302=\"\",\"\",(G302-H302))","v":""},"",null,8,10,6,{"$f":"I302","v":""},{"$f":"IF(AND(H302=\"\",A301=A302),P301,IF(AND(A301=A302,H302>1),O302+P301,IF(H302=\"\",0,IF(H302>0,O302))))","v":0},{"$f":"IF(AND(A302=A301,H302>1),Q301+1,IF(AND(H302=\"\",A302=A301),Q301,IF(AND(H302=\"\",P302=0),0,1)))","v":0},{"$f":"IF(A302=A301,R301+1,1)","v":298},{"$f":"IF(AND(R302>=#REF!,Q302>0),P302/Q302,\"\")","v":{"$error":"#REF!"}},{"$f":"IF(AND(Y302=\"\",Z302=\"\"),0,COUNT(V$6:$V302))","v":{"$error":"#REF!"}},{"$f":"IF(AND(Y302=\"\",Z302=\"\"),\"\",A302)","v":{"$error":"#REF!"}},{"$f":"IF(AND(R302>=#REF!,Q302>0),1,\"\")","v":{"$error":"#REF!"}},{"$f":"COUNT(V$5:V302)","v":0},{"$f":"IF(W301>=2,\"\",W301)","v":0},{"$f":"IF(X302<#REF!,S302+6,\"\")","v":{"$error":"#REF!"}},{"$f":"IF(S302=\"\",\"\",IF(AND(X302=\"\",S302>0),S302+6,\"\"))","v":{"$error":"#REF!"}},{"$f":"IF(Z302=\"\",\"\",ABS($AI$6-Z302))","v":{"$error":"#REF!"}},{"$error":"#N/A"},{"$error":"#N/A"},{"$error":"#N/A"},{"$f":"AVERAGE(AC301:AC302)","v":{"$error":"#N/A"}},{"$error":"#N/A"},null,{"$f":"AB301","v":{"$error":"#N/A"}},{"$error":"#N/A"},{"$error":"#N/A"},{"$error":"#N/A"}]
[null,"",null,null,{"$error":"#N/A"},null,null,null,"","",null,8,10,6,"",0,0,299,{"$f":"IF(AND(R303>=#REF!,Q303>0),P303/Q303,\"\")","v":{"$error":"#REF!"}},{"$f":"IF(AND(Y303=\"\",Z303=\"\"),0,COUNT(V$6:$V303))","v":{"$error":"#REF!"}},{"$error":"#REF!"},{"$f":"IF(AND(R303>=#REF!,Q303>0),1,\"\")","v":{"$error":"#REF!"}},{"$f":"COUNT(V$5:V303)","v":0},0,{"$f":"IF(X303<#REF!,S303+6,\"\")","v":{"$error":"#REF!"}},{"$error":"#REF!"},{"$error":"#REF!"},{"$error":"#N/A"},{"$error":"#N/A"},{"$error":"#N/A"},{"$error":"#N/A"},{"$error":"#N/A"},null,{"$error":"#N/A"},{"$error":"#N/A"},{"$error":"#N/A"},{"$error":"#N/A"}]
[null,"",null,null,{"$error":"#N/A"},null,null,null,"","",null,8,10,6,"",0,0,300,{"$f":"IF(AND(R304>=#REF!,Q304>0),P304/Q304,\"\")","v":{"$error":"#REF!"}},{"$f":"IF(AND(Y304=\"\",Z304=\"\"),0,COUNT(V$6:$V304))","v":{"$error":"#REF!"}},{"$error":"#REF!"},{"$f":"IF(AND(R304>=#REF!,Q304>0),1,\"\")","v":{"$error":"#REF!"}},{"$f":"COUNT(V$5:V304)","v":0},0,{"$f":"IF(X304<#REF!,S304+6,\"\")","v":{"$error":"#REF!"}},{"$error":"#REF!"},{"$error":"#REF!"},{"$error":"#N/A"},{"$error":"#N/A"},{"$error":"#N/A"},{"$error":"#N/A"},{"$error":"#N/A"},null,{"$error":"#N/A"},{"$error":"#N/A"},{"$error":"#N/A"},{"$error":"#N/A"}]
[null,"",null,null,{"$error":"#N/A"},null,null,null,"","",null,8,10,6,"",0,0,301,{"$f":"IF(AND(R305>=#REF!,Q305>0),P305/Q305,\"\")","v":{"$error":"#REF!"}},{"$f":"IF(AND(Y305=\"\",Z305=\"\"),0,COUNT(V$6:$V305))","v":{"$error":"#REF!"}},{"$error":"#REF!"},{"$f":"IF(AND(R305>=#REF!,Q305>0),1,\"\")","v":{"$error":"#REF!"}},{"$f":"COUNT(V$5:V305)","v":0},0,{"$f":"IF(X305<#REF!,S305+6,\"\")","v":{"$error":"#REF!"}},{"$error":"#REF!"},{"$error":"#REF!"},{"$error":"#N/A"},{"$error":"#N/A"},{"$error":"#N/A"},{"$error":"#N/A"},{"$error":"#N/A"},null,{"$error":"#N/A"},{"$error":"#N/A"},{"$error":"#N/A"},{"$error":"#N/A"}]
[null,"",null,null,{"$error":"#N/A"},null,null,null,"","",null,8,10,6,"",0,0,302,{"$f":"IF(AND(R306>=#REF!,Q306>0),P306/Q306,\"\")","v":{"$error":"#REF!"}},{"$f":"IF(AND(Y306=\"\",Z306=\"\"),0,COUNT(V$6:$V306))","v":{"$error":"#REF!"}},{"$error":"#REF!"},{"$f":"IF(AND(R306>=#REF!,Q306>0),1,\"\")","v":{"$error":"#REF!"}},{"$f":"COUNT(V$5:V306)","v":0},0,{"$f":"IF(X306<#REF!,S306+6,\"\")","v":{"$error":"#REF!"}},{"$error":"#REF!"},{"$error":"#REF!"},{"$error":"#N/A"},{"$error":"#N/A"},{"$error":"#N/A"},{"$error":"#N/A"},{"$error":"#N/A"},null,{"$error":"#N/A"},{"$error":"#N/A"},{"$error":"#N/A"},{"$error":"#N/A"}]
[null,"",null,null,{"$error":"#N/A"},null,null,null,"","",null,8,10,6,"",0,0,303,{"$f":"IF(AND(R307>=#REF!,Q307>0),P307/Q307,\"\")","v":{"$error":"#REF!"}},{"$f":"IF(AND(Y307=\"\",Z307=\"\"),0,COUNT(V$6:$V307))","v":{"$error":"#REF!"}},{"$error":"#REF!"},{"$f":"IF(AND(R307>=#REF!,Q307>0),1,\"\")","v":{"$error":"#REF!"}},{"$f":"COUNT(V$5:V307)","v":0},0,{"$f":"IF(X307<#REF!,S307+6,\"\")","v":{"$error":"#REF!"}},{"$error":"#REF!"},{"$error":"#REF!"},{"$error":"#N/A"},{"$error":"#N/A"},{"$error":"#N/A"},{"$error":"#N/A"},{"$error":"#N/A"},null,{"$error":"#N/A"},{"$error":"#N/A"},{"$error":"#N/A"},{"$error":"#N/A"}]
[null,"",null,null,{"$error":"#N/A"},null,null,null,"","",null,8,10,6,"",0,0,304,{"$f":"IF(AND(R308>=#REF!,Q308>0),P308/Q308,\"\")","v":{"$error":"#REF!"}},{"$f":"IF(AND(Y308=\"\",Z308=\"\"),0,COUNT(V$6:$V308))","v":{"$error":"#REF!"}},{"$error":"#REF!"},{"$f":"IF(AND(R308>=#REF!,Q308>0),1,\"\")","v":{"$error":"#REF!"}},{"$f":"COUNT(V$5:V308)","v":0},0,{"$f":"IF(X308<#REF!,S308+6,\"\")","v":{"$error":"#REF!"}},{"$error":"#REF!"},{"$error":"#REF!"},{"$error":"#N/A"},{"$error":"#N/A"},{"$error":"#N/A"},{"$error":"#N/A"},{"$error":"#N/A"},null,{"$error":"#N/A"},{"$error":"#N/A"},{"$error":"#N/A"},{"$error":"#N/A"}]
[null,"",null,null,{"$error":"#N/A"},null,null,null,"","",null,8,10,6,"",0,0,305,{"$f":"IF(AND(R309>=#REF!,Q309>0),P309/Q309,\"\")","v":{"$error":"#REF!"}},{"$f":"IF(AND(Y309=\"\",Z309=\"\"),0,COUNT(V$6:$V309))","v":{"$error":"#REF!"}},{"$error":"#REF!"},{"$f":"IF(AND(R309>=#REF!,Q309>0),1,\"\")","v":{"$error":"#REF!"}},{"$f":"COUNT(V$5:V309)","v":0},0,{"$f":"IF(X309<#REF!,S309+6,\"\")","v":{"$error":"#REF!"}},{"$error":"#REF!"},{"$error":"#REF!"},{"$error":"#N/A"},{"$error":"#N/A"},{"$error":"#N/A"},{"$error":"#N/A"},{"$error":"#N/A"},null,{"$error":"#N/A"},{"$error":"#N/A"},{"$error":"#N/A"},{"$error":"#N/A"}]
[null,"",null,null,{"$error":"#N/A"},null,null,null,"","",null,8,10,6,"",0,0,306,{"$f":"IF(AND(R310>=#REF!,Q310>0),P310/Q310,\"\")","v":{"$error":"#REF!"}},{"$f":"IF(AND(Y310=\"\",Z310=\"\"),0,COUNT(V$6:$V310))","v":{"$error":"#REF!"}},{"$error":"#REF!"},{"$f":"IF(AND(R310>=#REF!,Q310>0),1,\"\")","v":{"$error":"#REF!"}},{"$f":"COUNT(V$5:V310)","v":0},0,{"$f":"IF(X310<#REF!,S310+6,\"\")","v":{"$error":"#REF!"}},{"$error":"#REF!"},{"$error":"#REF!"},{"$error":"#N/A"},{"$error":"#N/A"},{"$error":"#N/A"},{"$error":"#N/A"},{"$error":"#N/A"},null,{"$error":"#N/A"},{"$error":"#N/A"},{"$error":"#N/A"},{"$error":"#N/A"}]
[null,"",null,null,{"$error":"#N/A"},null,null,null,"","",null,8,10,6,"",0,0,307,{"$f":"IF(AND(R311>=#REF!,Q311>0),P311/Q311,\"\")","v":{"$error":"#REF!"}},{"$f":"IF(AND(Y311=\"\",Z311=\"\"),0,COUNT(V$6:$V311))","v":{"$error":"#REF!"}},{"$error":"#REF!"},{"$f":"IF(AND(R311>=#REF!,Q311>0),1,\"\")","v":{"$error":"#REF!"}},{"$f":"COUNT(V$5:V311)","v":0},0,{"$f":"IF(X311<#REF!,S311+6,\"\")","v":{"$error":"#REF!"}},{"$error":"#REF!"},{"$error":"#REF!"},{"$error":"#N/A"},{"$error":"#N/A"},{"$error":"#N/A"},{"$error":"#N/A"},{"$error":"#N/A"},null,{"$error":"#N/A"},{"$error":"#N/A"},{"$error":"#N/A"},{"$error":"#N/A"}]
[null,"",null,null,{"$error":"#N/A"},null,null,null,"","",null,8,10,6,"",0,0,308,{"$f":"IF(AND(R312>=#REF!,Q312>0),P312/Q312,\"\")","v":{"$error":"#REF!"}},{"$f":"IF(AND(Y312=\"\",Z312=\"\"),0,COUNT(V$6:$V312))","v":{"$error":"#REF!"}},{"$error":"#REF!"},{"$f":"IF(AND(R312>=#REF!,Q312>0),1,\"\")","v":{"$error":"#REF!"}},{"$f":"COUNT(V$5:V312)","v":0},0,{"$f":"IF(X312<#REF!,S312+6,\"\")","v":{"$error":"#REF!"}},{"$error":"#REF!"},{"$error":"#REF!"},{"$error":"#N/A"},{"$error":"#N/A"},{"$error":"#N/A"},{"$error":"#N/A"},{"$error":"#N/A"},null,{"$error":"#N/A"},{"$error":"#N/A"},{"$error":"#N/A"},{"$error":"#N/A"}]
[null,"",null,null,{"$error":"#N/A"},null,null,null,"","",null,8,10,6,"",0,0,309,{"$f":"IF(AND(R313>=#REF!,Q313>0),P313/Q313,\"\")","v":{"$error":"#REF!"}},{"$f":"IF(AND(Y313=\"\",Z313=\"\"),0,COUNT(V$6:$V313))","v":{"$error":"#REF!"}},{"$error":"#REF!"},{"$f":"IF(AND(R313>=#REF!,Q313>0),1,\"\")","v":{"$error":"#REF!"}},{"$f":"COUNT(V$5:V313)","v":0},0,{"$f":"IF(X313<#REF!,S313+6,\"\")","v":{"$error":"#REF!"}},{"$error":"#REF!"},{"$error":"#REF!"},{"$error":"#N/A"},{"$error":"#N/A"},{"$error":"#N/A"},{"$error":"#N/A"},{"$error":"#N/A"},null,{"$error":"#N/A"},{"$error":"#N/A"},{"$error":"#N/A"},{"$error":"#N/A"}]
[null,"",null,null,{"$error":"#N/A"},null,null,null,"","",null,8,10,6,"",0,0,310,{"$f":"IF(AND(R314>=#REF!,Q314>0),P314/Q314,\"\")","v":{"$error":"#REF!"}},{"$f":"IF(AND(Y314=\"\",Z314=\"\"),0,COUNT(V$6:$V314))","v":{"$error":"#REF!"}},{"$error":"#REF!"},{"$f":"IF(AND(R314>=#REF!,Q314>0),1,\"\")","v":{"$error":"#REF!"}},{"$f":"COUNT(V$5:V314)","v":0},0,{"$f":"IF(X314<#REF!,S314+6,\"\")","v":{"$error":"#REF!"}},{"$error":"#REF!"},{"$error":"#REF!"},{"$error":"#N/A"},{"$error":"#N/A"},{"$error":"#N/A"},{"$error":"#N/A"},{"$error":"#N/A"},null,{"$error":"#N/A"},{"$error":"#N/A"},{"$error":"#N/A"},{"$error":"#N/A"}]
[null,"",null,null,{"$error":"#N/A"},null,null,null,"","",null,8,10,6,"",0,0,311,{"$f":"IF(AND(R315>=#REF!,Q315>0),P315/Q315,\"\")","v":{"$error":"#REF!"}},{"$f":"IF(AND(Y315=\"\",Z315=\"\"),0,COUNT(V$6:$V315))","v":{"$error":"#REF!"}},{"$error":"#REF!"},{"$f":"IF(AND(R315>=#REF!,Q315>0),1,\"\")","v":{"$error":"#REF!"}},{"$f":"COUNT(V$5:V315)","v":0},0,{"$f":"IF(X315<#REF!,S315+6,\"\")","v":{"$error":"#REF!"}},{"$error":"#REF!"},{"$error":"#REF!"},{"$error":"#N/A"},{"$error":"#N/A"},{"$error":"#N/A"},{"$error":"#N/A"},{"$error":"#N/A"},null,{"$error":"#N/A"},{"$error":"#N/A"},{"$error":"#N/A"},{"$error":"#N/A"}]
[null,"",null,null,{"$error":"#N/A"},null,null,null,"","",null,8,10,6,"",0,0,312,{"$f":"IF(AND(R316>=#REF!,Q316>0),P316/Q316,\"\")","v":{"$error":"#REF!"}},{"$f":"IF(AND(Y316=\"\",Z316=\"\"),0,COUNT(V$6:$V316))","v":{"$error":"#REF!"}},{"$error":"#REF!"},{"$f":"IF(AND(R316>=#REF!,Q316>0),1,\"\")","v":{"$error":"#REF!"}},{"$f":"COUNT(V$5:V316)","v":0},0,{"$f":"IF(X316<#REF!,S316+6,\"\")","v":{"$error":"#REF!"}},{"$error":"#REF!"},{"$error":"#REF!"},{"$error":"#N/A"},{"$error":"#N/A"},{"$error":"#N/A"},{"$error":"#N/A"},{"$error":"#N/A"},null,{"$error":"#N/A"},{"$error":"#N/A"},{"$error":"#N/A"},{"$error":"#N/A"}]
[null,"",null,null,{"$error":"#N/A"},null,null,null,"","",null,8,10,6,"",0,0,313,{"$f":"IF(AND(R317>=#REF!,Q317>0),P317/Q317,\"\")","v":{"$error":"#REF!"}},{"$f":"IF(AND(Y317=\"\",Z317=\"\"),0,COUNT(V$6:$V317))","v":{"$error":"#REF!"}},{"$error":"#REF!"},{"$f":"IF(AND(R317>=#REF!,Q317>0),1,\"\")","v":{"$error":"#REF!"}},{"$f":"COUNT(V$5:V317)","v":0},0,{"$f":"IF(X317<#REF!,S317+6,\"\")","v":{"$error":"#REF!"}},{"$error":"#REF!"},{"$error":"#REF!"},{"$error":"#N/A"},{"$error":"#N/A"},{"$error":"#N/A"},{"$error":"#N/A"},{"$error":"#N/A"},null,{"$error":"#N/A"},{"$error":"#N/A"},{"$error":"#N/A"},{"$error":"#N/A"}]
[null,"",null,null,{"$error":"#N/A"},null,null,null,"","",null,8,10,6,"",0,0,314,{"$f":"IF(AND(R318>=#REF!,Q318>0),P318/Q318,\"\")","v":{"$error":"#REF!"}},{"$f":"IF(AND(Y318=\"\",Z318=\"\"),0,COUNT(V$6:$V318))","v":{"$error":"#REF!"}},{"$error":"#REF!"},{"$f":"IF(AND(R318>=#REF!,Q318>0),1,\"\")","v":{"$error":"#REF!"}},{"$f":"COUNT(V$5:V318)","v":0},0,{"$f":"IF(X318<#REF!,S318+6,\"\")","v":{"$error":"#REF!"}},{"$error":"#REF!"},{"$error":"#REF!"},{"$error":"#N/A"},{"$error":"#N/A"},{"$error":"#N/A"},{"$error":"#N/A"},{"$error":"#N/A"},null,{"$error":"#N/A"},{"$error":"#N/A"},{"$error":"#N/A"},{"$error":"#N/A"}]
[null,"",null,null,{"$error":"#N/A"},null,null,null,"","",null,8,10,6,"",0,0,315,{"$f":"IF(AND(R319>=#REF!,Q319>0),P319/Q319,\"\")","v":{"$error":"#REF!"}},{"$f":"IF(AND(Y319=\"\",Z319=\"\"),0,COUNT(V$6:$V319))","v":{"$error":"#REF!"}},{"$error":"#REF!"},{"$f":"IF(AND(R319>=#REF!,Q319>0),1,\"\")","v":{"$error":"#REF!"}},{"$f":"COUNT(V$5:V319)","v":0},0,{"$f":"IF(X319<#REF!,S319+6,\"\")","v":{"$error":"#REF!"}},{"$error":"#REF!"},{"$error":"#REF!"},{"$error":"#N/A"},{"$error":"#N/A"},{"$error":"#N/A"},{"$error":"#N/A"},{"$error":"#N/A"},null,{"$error":"#N/A"},{"$error":"#N/A"},{"$error":"#N/A"},{"$error":"#N/A"}]
[null,"",null,null,{"$error":"#N/A"},null,null,null,"","",null,8,10,6,"",0,0,316,{"$f":"IF(AND(R320>=#REF!,Q320>0),P320/Q320,\"\")","v":{"$error":"#REF!"}},{"$f":"IF(AND(Y320=\"\",Z320=\"\"),0,COUNT(V$6:$V320))","v":{"$error":"#REF!"}},{"$error":"#REF!"},{"$f":"IF(AND(R320>=#REF!,Q320>0),1,\"\")","v":{"$error":"#REF!"}},{"$f":"COUNT(V$5:V320)","v":0},0,{"$f":"IF(X320<#REF!,S320+6,\"\")","v":{"$error":"#REF!"}},{"$error":"#REF!"},{"$error":"#REF!"},{"$error":"#N/A"},{"$error":"#N/A"},{"$error":"#N/A"},{"$error":"#N/A"},{"$error":"#N/A"},null,{"$error":"#N/A"},{"$error":"#N/A"},{"$error":"#N/A"},{"$error":"#N/A"}]
[null,"",null,null,{"$error":"#N/A"},null,null,null,"","",null,8,10,6,"",0,0,317,{"$f":"IF(AND(R321>=#REF!,Q321>0),P321/Q321,\"\")","v":{"$error":"#REF!"}},{"$f":"IF(AND(Y321=\"\",Z321=\"\"),0,COUNT(V$6:$V321))","v":{"$error":"#REF!"}},{"$error":"#REF!"},{"$f":"IF(AND(R321>=#REF!,Q321>0),1,\"\")","v":{"$error":"#REF!"}},{"$f":"COUNT(V$5:V321)","v":0},0,{"$f":"IF(X321<#REF!,S321+6,\"\")","v":{"$error":"#REF!"}},{"$error":"#REF!"},{"$error":"#REF!"},{"$error":"#N/A"},{"$error":"#N/A"},{"$error":"#N/A"},{"$error":"#N/A"},{"$error":"#N/A"},null,{"$error":"#N/A"},{"$error":"#N/A"},{"$error":"#N/A"},{"$error":"#N/A"}]
[null,"",null,null,{"$error":"#N/A"},null,null,null,"","",null,8,10,6,"",0,0,318,{"$f":"IF(AND(R322>=#REF!,Q322>0),P322/Q322,\"\")","v":{"$error":"#REF!"}},{"$f":"IF(AND(Y322=\"\",Z322=\"\"),0,COUNT(V$6:$V322))","v":{"$error":"#REF!"}},{"$error":"#REF!"},{"$f":"IF(AND(R322>=#REF!,Q322>0),1,\"\")","v":{"$error":"#REF!"}},{"$f":"COUNT(V$5:V322)","v":0},0,{"$f":"IF(X322<#REF!,S322+6,\"\")","v":{"$error":"#REF!"}},{"$error":"#REF!"},{"$error":"#REF!"},{"$error":"#N/A"},{"$error":"#N/A"},{"$error":"#N/A"},{"$error":"#N/A"},{"$error":"#N/A"},null,{"$error":"#N/A"},{"$error":"#N/A"},{"$error":"#N/A"},{"$error":"#N/A"}]
[null,"",null,null,{"$error":"#N/A"},null,null,null,"","",null,8,10,6,"",0,0,319,{"$f":"IF(AND(R323>=#REF!,Q323>0),P323/Q323,\"\")","v":{"$error":"#REF!"}},{"$f":"IF(AND(Y323=\"\",Z323=\"\"),0,COUNT(V$6:$V323))","v":{"$error":"#REF!"}},{"$error":"#REF!"},{"$f":"IF(AND(R323>=#REF!,Q323>0),1,\"\")","v":{"$error":"#REF!"}},{"$f":"COUNT(V$5:V323)","v":0},0,{"$f":"IF(X323<#REF!,S323+6,\"\")","v":{"$error":"#REF!"}},{"$error":"#REF!"},{"$error":"#REF!"},{"$error":"#N/A"},{"$error":"#N/A"},{"$error":"#N/A"},{"$error":"#N/A"},{"$error":"#N/A"},null,{"$error":"#N/A"},{"$error":"#N/A"},{"$error":"#N/A"},{"$error":"#N/A"}]
[null,"",null,null,{"$error":"#N/A"},null,null,null,"","",null,8,10,6,"",0,0,320,{"$f":"IF(AND(R324>=#REF!,Q324>0),P324/Q324,\"\")","v":{"$error":"#REF!"}},{"$f":"IF(AND(Y324=\"\",Z324=\"\"),0,COUNT(V$6:$V324))","v":{"$error":"#REF!"}},{"$error":"#REF!"},{"$f":"IF(AND(R324>=#REF!,Q324>0),1,\"\")","v":{"$error":"#REF!"}},{"$f":"COUNT(V$5:V324)","v":0},0,{"$f":"IF(X324<#REF!,S324+6,\"\")","v":{"$error":"#REF!"}},{"$error":"#REF!"},{"$error":"#REF!"},{"$error":"#N/A"},{"$error":"#N/A"},{"$error":"#N/A"},{"$error":"#N/A"},{"$error":"#N/A"},null,{"$error":"#N/A"},{"$error":"#N/A"},{"$error":"#N/A"},{"$error":"#N/A"}]
[null,"",null,null,{"$error":"#N/A"},null,null,null,"",{"$f":"IF(A325=\"\",\"\",IF(AND(G325>1,I325>0),MROUND((6.5+I325),0.5),IF(AND(A325<>\"\",I325>0.01),J324)))","v":""},null,8,10,6,"",0,0,321,{"$f":"IF(AND(R325>=#REF!,Q325>0),P325/Q325,\"\")","v":{"$error":"#REF!"}},{"$f":"IF(AND(Y325=\"\",Z325=\"\"),0,COUNT(V$6:$V325))","v":{"$error":"#REF!"}},{"$error":"#REF!"},{"$f":"IF(AND(R325>=#REF!,Q325>0),1,\"\")","v":{"$error":"#REF!"}},{"$f":"COUNT(V$5:V325)","v":0},0,{"$f":"IF(X325<#REF!,S325+6,\"\")","v":{"$error":"#REF!"}},{"$error":"#REF!"},{"$error":"#REF!"},{"$error":"#N/A"},{"$error":"#N/A"},{"$error":"#N/A"},{"$error":"#N/A"},{"$error":"#N/A"},null,{"$error":"#N/A"},{"$error":"#N/A"},{"$error":"#N/A"},{"$error":"#N/A"}]
[null,"",null,null,{"$f":"IF((D326>0),(D326/$E$4),#N/A)","v":{"$error":"#N/A"}},null,null,null,"","",null,8,{"$f":"IF(L326=\"\",\"\",L326+2)","v":10},{"$f":"IF(L326=\"\",\"\",L326-2)","v":6},"",0,0,322,{"$f":"IF(AND(R326>=#REF!,Q326>0),P326/Q326,\"\")","v":{"$error":"#REF!"}},{"$f":"IF(AND(Y326=\"\",Z326=\"\"),0,COUNT(V$6:$V326))","v":{"$error":"#REF!"}},{"$error":"#REF!"},{"$f":"IF(AND(R326>=#REF!,Q326>0),1,\"\")","v":{"$error":"#REF!"}},{"$f":"COUNT(V$5:V326)","v":0},0,{"$f":"IF(X326<#REF!,S326+6,\"\")","v":{"$error":"#REF!"}},{"$error":"#REF!"},{"$error":"#REF!"},{"$error":"#N/A"},{"$error":"#N/A"},{"$error":"#N/A"},{"$error":"#N/A"},{"$error":"#N/A"},null,{"$error":"#N/A"},{"$error":"#N/A"},{"$error":"#N/A"},{"$error":"#N/A"}]
[null,"",null,null,{"$error":"#N/A"},null,null,null,"","",null,8,10,6,"",0,0,323,{"$f":"IF(AND(R327>=#REF!,Q327>0),P327/Q327,\"\")","v":{"$error":"#REF!"}},{"$f":"IF(AND(Y327=\"\",Z327=\"\"),0,COUNT(V$6:$V327))","v":{"$error":"#REF!"}},{"$error":"#REF!"},{"$f":"IF(AND(R327>=#REF!,Q327>0),1,\"\")","v":{"$error":"#REF!"}},{"$f":"COUNT(V$5:V327)","v":0},0,{"$f":"IF(X327<#REF!,S327+6,\"\")","v":{"$error":"#REF!"}},{"$error":"#REF!"},{"$error":"#REF!"},{"$error":"#N/A"},{"$error":"#N/A"},{"$f":"AC327-6","v":{"$error":"#N/A"}},{"$error":"#N/A"},{"$error":"#N/A"},null,{"$error":"#N/A"},{"$error":"#N/A"},{"$f":"IF($AI327=\"\",#N/A,($AI327+1.5))","v":{"$error":"#N/A"}},{"$f":"IF($AI327=\"\",#N/A,($AI327-1))","v":{"$error":"#N/A"}}]
[null,"",null,null,{"$error":"#N/A"},null,null,null,"","",null,8,10,6,"",0,0,324,{"$f":"IF(AND(R328>=#REF!,Q328>0),P328/Q328,\"\")","v":{"$error":"#REF!"}},{"$f":"IF(AND(Y328=\"\",Z328=\"\"),0,COUNT(V$6:$V328))","v":{"$error":"#REF!"}},{"$error":"#REF!"},{"$f":"IF(AND(R328>=#REF!,Q328>0),1,\"\")","v":{"$error":"#REF!"}},{"$f":"COUNT(V$5:V328)","v":0},0,{"$f":"IF(X328<#REF!,S328+6,\"\")","v":{"$error":"#REF!"}},{"$error":"#REF!"},{"$error":"#REF!"},{"$error":"#N/A"},{"$error":"#N/A"},{"$error":"#N/A"},{"$error":"#N/A"},{"$error":"#N/A"},null,{"$error":"#N/A"},{"$error":"#N/A"},{"$error":"#N/A"},{"$error":"#N/A"}]
[null,"",null,null,{"$error":"#N/A"},null,null,null,"","",null,8,10,6,"",0,0,325,{"$f":"IF(AND(R329>=#REF!,Q329>0),P329/Q329,\"\")","v":{"$error":"#REF!"}},{"$f":"IF(AND(Y329=\"\",Z329=\"\"),0,COUNT(V$6:$V329))","v":{"$error":"#REF!"}},{"$error":"#REF!"},{"$f":"IF(AND(R329>=#REF!,Q329>0),1,\"\")","v":{"$error":"#REF!"}},{"$f":"COUNT(V$5:V329)","v":0},0,{"$f":"IF(X329<#REF!,S329+6,\"\")","v":{"$error":"#REF!"}},{"$error":"#REF!"},{"$error":"#REF!"},{"$error":"#N/A"},{"$f":"VLOOKUP(AB329,time,6,FALSE)","v":{"$error":"#N/A"}},{"$error":"#N/A"},{"$error":"#N/A"},{"$f":"AE329-6","v":{"$error":"#N/A"}},null,{"$error":"#N/A"},{"$error":"#N/A"},{"$error":"#N/A"},{"$error":"#N/A"}]
[null,"",null,null,{"$error":"#N/A"},null,null,null,"","",null,8,10,6,"",0,0,326,{"$f":"IF(AND(R330>=#REF!,Q330>0),P330/Q330,\"\")","v":{"$error":"#REF!"}},{"$f":"IF(AND(Y330=\"\",Z330=\"\"),0,COUNT(V$6:$V330))","v":{"$error":"#REF!"}},{"$error":"#REF!"},{"$f":"IF(AND(R330>=#REF!,Q330>0),1,\"\")","v":{"$error":"#REF!"}},{"$f":"COUNT(V$5:V330)","v":0},0,{"$f":"IF(X330<#REF!,S330+6,\"\")","v":{"$error":"#REF!"}},{"$error":"#REF!"},{"$error":"#REF!"},{"$error":"#N/A"},{"$error":"#N/A"},{"$error":"#N/A"},{"$error":"#N/A"},{"$error":"#N/A"},null,{"$error":"#N/A"},{"$error":"#N/A"},{"$error":"#N/A"},{"$error":"#N/A"}]
[null,"",null,null,{"$error":"#N/A"},null,null,null,"","",null,8,10,6,"",0,0,327,{"$f":"IF(AND(R331>=#REF!,Q331>0),P331/Q331,\"\")","v":{"$error":"#REF!"}},{"$f":"IF(AND(Y331=\"\",Z331=\"\"),0,COUNT(V$6:$V331))","v":{"$error":"#REF!"}},{"$error":"#REF!"},{"$f":"IF(AND(R331>=#REF!,Q331>0),1,\"\")","v":{"$error":"#REF!"}},{"$f":"COUNT(V$5:V331)","v":0},0,{"$f":"IF(X331<#REF!,S331+6,\"\")","v":{"$error":"#REF!"}},{"$error":"#REF!"},{"$error":"#REF!"},{"$error":"#N/A"},{"$error":"#N/A"},{"$error":"#N/A"},{"$error":"#N/A"},{"$error":"#N/A"},null,{"$error":"#N/A"},{"$f":"IF(ABS(AE329-AE328)>0.5,MROUND(AE329,0.5),AI330)","v":{"$error":"#N/A"}},{"$error":"#N/A"},{"$error":"#N/A"}]
[null,"",null,null,{"$error":"#N/A"},null,null,null,"","",null,8,10,6,"",0,0,328,{"$f":"IF(AND(R332>=#REF!,Q332>0),P332/Q332,\"\")","v":{"$error":"#REF!"}},{"$f":"IF(AND(Y332=\"\",Z332=\"\"),0,COUNT(V$6:$V332))","v":{"$error":"#REF!"}},{"$error":"#REF!"},{"$f":"IF(AND(R332>=#REF!,Q332>0),1,\"\")","v":{"$error":"#REF!"}},{"$f":"COUNT(V$5:V332)","v":0},0,{"$f":"IF(X332<#REF!,S332+6,\"\")","v":{"$error":"#REF!"}},{"$error":"#REF!"},{"$error":"#REF!"},{"$error":"#N/A"},{"$error":"#N/A"},{"$error":"#N/A"},{"$error":"#N/A"},{"$error":"#N/A"},null,{"$error":"#N/A"},{"$error":"#N/A"},{"$error":"#N/A"},{"$error":"#N/A"}]
[null,"",null,null,{"$error":"#N/A"},null,null,null,"","",null,8,10,6,"",0,0,329,{"$f":"IF(AND(R333>=#REF!,Q333>0),P333/Q333,\"\")","v":{"$error":"#REF!"}},{"$f":"IF(AND(Y333=\"\",Z333=\"\"),0,COUNT(V$6:$V333))","v":{"$error":"#REF!"}},{"$error":"#REF!"},{"$f":"IF(AND(R333>=#REF!,Q333>0),1,\"\")","v":{"$error":"#REF!"}},{"$f":"COUNT(V$5:V333)","v":0},0,{"$f":"IF(X333<#REF!,S333+6,\"\")","v":{"$error":"#REF!"}},{"$error":"#REF!"},{"$error":"#REF!"},{"$error":"#N/A"},{"$error":"#N/A"},{"$error":"#N/A"},{"$error":"#N/A"},{"$error":"#N/A"},null,{"$error":"#N/A"},{"$error":"#N/A"},{"$error":"#N/A"},{"$error":"#N/A"}]
[null,"",null,null,{"$error":"#N/A"},null,null,null,"","",null,8,10,6,"",0,0,330,{"$f":"IF(AND(R334>=#REF!,Q334>0),P334/Q334,\"\")","v":{"$error":"#REF!"}},{"$f":"IF(AND(Y334=\"\",Z334=\"\"),0,COUNT(V$6:$V334))","v":{"$error":"#REF!"}},{"$error":"#REF!"},{"$f":"IF(AND(R334>=#REF!,Q334>0),1,\"\")","v":{"$error":"#REF!"}},{"$f":"COUNT(V$5:V334)","v":0},0,{"$f":"IF(X334<#REF!,S334+6,\"\")","v":{"$error":"#REF!"}},{"$error":"#REF!"},{"$error":"#REF!"},{"$error":"#N/A"},{"$error":"#N/A"},{"$error":"#N/A"},{"$error":"#N/A"},{"$error":"#N/A"},null,{"$error":"#N/A"},{"$error":"#N/A"},{"$error":"#N/A"},{"$error":"#N/A"}]
[null,"",null,null,{"$error":"#N/A"},null,null,null,"","",null,8,10,6,"",0,0,331,{"$f":"IF(AND(R335>=#REF!,Q335>0),P335/Q335,\"\")","v":{"$error":"#REF!"}},{"$f":"IF(AND(Y335=\"\",Z335=\"\"),0,COUNT(V$6:$V335))","v":{"$error":"#REF!"}},{"$error":"#REF!"},{"$f":"IF(AND(R335>=#REF!,Q335>0),1,\"\")","v":{"$error":"#REF!"}},{"$f":"COUNT(V$5:V335)","v":0},0,{"$f":"IF(X335<#REF!,S335+6,\"\")","v":{"$error":"#REF!"}},{"$error":"#REF!"},{"$error":"#REF!"},{"$error":"#N/A"},{"$error":"#N/A"},{"$error":"#N/A"},{"$error":"#N/A"},{"$error":"#N/A"},null,{"$error":"#N/A"},{"$error":"#N/A"},{"$error":"#N/A"},{"$error":"#N/A"}]
[null,"",null,null,{"$error":"#N/A"},null,null,null,"","",null,8,10,6,"",0,0,332,{"$f":"IF(AND(R336>=#REF!,Q336>0),P336/Q336,\"\")","v":{"$error":"#REF!"}},{"$f":"IF(AND(Y336=\"\",Z336=\"\"),0,COUNT(V$6:$V336))","v":{"$error":"#REF!"}},{"$error":"#REF!"},{"$f":"IF(AND(R336>=#REF!,Q336>0),1,\"\")","v":{"$error":"#REF!"}},{"$f":"COUNT(V$5:V336)","v":0},0,{"$f":"IF(X336<#REF!,S336+6,\"\")","v":{"$error":"#REF!"}},{"$error":"#REF!"},{"$error":"#REF!"},{"$error":"#N/A"},{"$error":"#N/A"},{"$error":"#N/A"},{"$error":"#N/A"},{"$error":"#N/A"},null,{"$error":"#N/A"},{"$error":"#N/A"},{"$error":"#N/A"},{"$error":"#N/A"}]
[null,"",null,null,{"$error":"#N/A"},null,null,null,"","",null,8,10,6,"",0,0,333,{"$f":"IF(AND(R337>=#REF!,Q337>0),P337/Q337,\"\")","v":{"$error":"#REF!"}},{"$f":"IF(AND(Y337=\"\",Z337=\"\"),0,COUNT(V$6:$V337))","v":{"$error":"#REF!"}},{"$error":"#REF!"},{"$f":"IF(AND(R337>=#REF!,Q337>0),1,\"\")","v":{"$error":"#REF!"}},{"$f":"COUNT(V$5:V337)","v":0},0,{"$f":"IF(X337<#REF!,S337+6,\"\")","v":{"$error":"#REF!"}},{"$error":"#REF!"},{"$error":"#REF!"},{"$error":"#N/A"},{"$error":"#N/A"},{"$error":"#N/A"},{"$error":"#N/A"},{"$error":"#N/A"},null,{"$error":"#N/A"},{"$error":"#N/A"},{"$error":"#N/A"},{"$error":"#N/A"}]
[null,"",null,null,{"$error":"#N/A"},null,null,null,"","",null,8,10,6,"",0,0,334,{"$f":"IF(AND(R338>=#REF!,Q338>0),P338/Q338,\"\")","v":{"$error":"#REF!"}},{"$f":"IF(AND(Y338=\"\",Z338=\"\"),0,COUNT(V$6:$V338))","v":{"$error":"#REF!"}},{"$error":"#REF!"},{"$f":"IF(AND(R338>=#REF!,Q338>0),1,\"\")","v":{"$error":"#REF!"}},{"$f":"COUNT(V$5:V338)","v":0},0,{"$f":"IF(X338<#REF!,S338+6,\"\")","v":{"$error":"#REF!"}},{"$error":"#REF!"},{"$error":"#REF!"},{"$error":"#N/A"},{"$error":"#N/A"},{"$error":"#N/A"},{"$error":"#N/A"},{"$error":"#N/A"},null,{"$error":"#N/A"},{"$error":"#N/A"},{"$error":"#N/A"},{"$error":"#N/A"}]
[null,"",null,null,{"$error":"#N/A"},null,null,null,"","",null,8,10,6,"",0,0,335,{"$f":"IF(AND(R339>=#REF!,Q339>0),P339/Q339,\"\")","v":{"$error":"#REF!"}},{"$f":"IF(AND(Y339=\"\",Z339=\"\"),0,COUNT(V$6:$V339))","v":{"$error":"#REF!"}},{"$error":"#REF!"},{"$f":"IF(AND(R339>=#REF!,Q339>0),1,\"\")","v":{"$error":"#REF!"}},{"$f":"COUNT(V$5:V339)","v":0},0,{"$f":"IF(X339<#REF!,S339+6,\"\")","v":{"$error":"#REF!"}},{"$error":"#REF!"},{"$error":"#REF!"},{"$error":"#N/A"},{"$error":"#N/A"},{"$error":"#N/A"},{"$error":"#N/A"},{"$error":"#N/A"},null,{"$error":"#N/A"},{"$error":"#N/A"},{"$error":"#N/A"},{"$error":"#N/A"}]
[null,"",null,null,{"$error":"#N/A"},null,null,null,"","",null,8,10,6,"",0,0,336,{"$f":"IF(AND(R340>=#REF!,Q340>0),P340/Q340,\"\")","v":{"$error":"#REF!"}},{"$f":"IF(AND(Y340=\"\",Z340=\"\"),0,COUNT(V$6:$V340))","v":{"$error":"#REF!"}},{"$error":"#REF!"},{"$f":"IF(AND(R340>=#REF!,Q340>0),1,\"\")","v":{"$error":"#REF!"}},{"$f":"COUNT(V$5:V340)","v":0},0,{"$f":"IF(X340<#REF!,S340+6,\"\")","v":{"$error":"#REF!"}},{"$error":"#REF!"},{"$error":"#REF!"},{"$error":"#N/A"},{"$error":"#N/A"},{"$error":"#N/A"},{"$error":"#N/A"},{"$error":"#N/A"},null,{"$error":"#N/A"},{"$error":"#N/A"},{"$error":"#N/A"},{"$error":"#N/A"}]
[null,"",null,null,{"$error":"#N/A"},null,null,null,"","",null,8,10,6,"",0,0,337,{"$f":"IF(AND(R341>=#REF!,Q341>0),P341/Q341,\"\")","v":{"$error":"#REF!"}},{"$f":"IF(AND(Y341=\"\",Z341=\"\"),0,COUNT(V$6:$V341))","v":{"$error":"#REF!"}},{"$error":"#REF!"},{"$f":"IF(AND(R341>=#REF!,Q341>0),1,\"\")","v":{"$error":"#REF!"}},{"$f":"COUNT(V$5:V341)","v":0},0,{"$f":"IF(X341<#REF!,S341+6,\"\")","v":{"$error":"#REF!"}},{"$error":"#REF!"},{"$error":"#REF!"},{"$error":"#N/A"},{"$error":"#N/A"},{"$error":"#N/A"},{"$error":"#N/A"},{"$error":"#N/A"},null,{"$error":"#N/A"},{"$error":"#N/A"},{"$error":"#N/A"},{"$error":"#N/A"}]
[null,"",null,null,{"$error":"#N/A"},null,null,null,"","",null,8,10,6,"",0,0,338,{"$f":"IF(AND(R342>=#REF!,Q342>0),P342/Q342,\"\")","v":{"$error":"#REF!"}},{"$f":"IF(AND(Y342=\"\",Z342=\"\"),0,COUNT(V$6:$V342))","v":{"$error":"#REF!"}},{"$error":"#REF!"},{"$f":"IF(AND(R342>=#REF!,Q342>0),1,\"\")","v":{"$error":"#REF!"}},{"$f":"COUNT(V$5:V342)","v":0},0,{"$f":"IF(X342<#REF!,S342+6,\"\")","v":{"$error":"#REF!"}},{"$error":"#REF!"},{"$error":"#REF!"},{"$error":"#N/A"},{"$error":"#N/A"},{"$error":"#N/A"},{"$error":"#N/A"},{"$error":"#N/A"},null,{"$error":"#N/A"},{"$error":"#N/A"},{"$error":"#N/A"},{"$error":"#N/A"}]
[null,"",null,null,{"$error":"#N/A"},null,null,null,"","",null,8,10,6,"",0,0,339,{"$f":"IF(AND(R343>=#REF!,Q343>0),P343/Q343,\"\")","v":{"$error":"#REF!"}},{"$f":"IF(AND(Y343=\"\",Z343=\"\"),0,COUNT(V$6:$V343))","v":{"$error":"#REF!"}},{"$error":"#REF!"},{"$f":"IF(AND(R343>=#REF!,Q343>0),1,\"\")","v":{"$error":"#REF!"}},{"$f":"COUNT(V$5:V343)","v":0},0,{"$f":"IF(X343<#REF!,S343+6,\"\")","v":{"$error":"#REF!"}},{"$error":"#REF!"},{"$error":"#REF!"},{"$error":"#N/A"},{"$error":"#N/A"},{"$error":"#N/A"},{"$error":"#N/A"},{"$error":"#N/A"},null,{"$error":"#N/A"},{"$error":"#N/A"},{"$error":"#N/A"},{"$error":"#N/A"}]
[null,"",null,null,{"$error":"#N/A"},null,null,null,"","",null,8,10,6,"",0,0,340,{"$f":"IF(AND(R344>=#REF!,Q344>0),P344/Q344,\"\")","v":{"$error":"#REF!"}},{"$f":"IF(AND(Y344=\"\",Z344=\"\"),0,COUNT(V$6:$V344))","v":{"$error":"#REF!"}},{"$error":"#REF!"},{"$f":"IF(AND(R344>=#REF!,Q344>0),1,\"\")","v":{"$error":"#REF!"}},{"$f":"COUNT(V$5:V344)","v":0},0,{"$f":"IF(X344<#REF!,S344+6,\"\")","v":{"$error":"#REF!"}},{"$error":"#REF!"},{"$error":"#REF!"},{"$error":"#N/A"},{"$error":"#N/A"},{"$error":"#N/A"},{"$error":"#N/A"},{"$error":"#N/A"},null,{"$error":"#N/A"},{"$error":"#N/A"},{"$error":"#N/A"},{"$error":"#N/A"}]
[null,"",null,null,{"$error":"#N/A"},null,null,null,"","",null,8,10,6,"",0,0,341,{"$f":"IF(AND(R345>=#REF!,Q345>0),P345/Q345,\"\")","v":{"$error":"#REF!"}},{"$f":"IF(AND(Y345=\"\",Z345=\"\"),0,COUNT(V$6:$V345))","v":{"$error":"#REF!"}},{"$error":"#REF!"},{"$f":"IF(AND(R345>=#REF!,Q345>0),1,\"\")","v":{"$error":"#REF!"}},{"$f":"COUNT(V$5:V345)","v":0},0,{"$f":"IF(X345<#REF!,S345+6,\"\")","v":{"$error":"#REF!"}},{"$error":"#REF!"},{"$error":"#REF!"},{"$error":"#N/A"},{"$error":"#N/A"},{"$error":"#N/A"},{"$error":"#N/A"},{"$error":"#N/A"},null,{"$error":"#N/A"},{"$error":"#N/A"},{"$error":"#N/A"},{"$error":"#N/A"}]
[null,"",null,null,{"$error":"#N/A"},null,null,null,"","",null,8,10,6,"",0,0,342,{"$f":"IF(AND(R346>=#REF!,Q346>0),P346/Q346,\"\")","v":{"$error":"#REF!"}},{"$f":"IF(AND(Y346=\"\",Z346=\"\"),0,COUNT(V$6:$V346))","v":{"$error":"#REF!"}},{"$error":"#REF!"},{"$f":"IF(AND(R346>=#REF!,Q346>0),1,\"\")","v":{"$error":"#REF!"}},{"$f":"COUNT(V$5:V346)","v":0},0,{"$f":"IF(X346<#REF!,S346+6,\"\")","v":{"$error":"#REF!"}},{"$error":"#REF!"},{"$error":"#REF!"},{"$error":"#N/A"},{"$error":"#N/A"},{"$error":"#N/A"},{"$error":"#N/A"},{"$error":"#N/A"},null,{"$error":"#N/A"},{"$error":"#N/A"},{"$error":"#N/A"},{"$error":"#N/A"}]
[null,"",null,null,{"$error":"#N/A"},null,null,null,"","",null,8,10,6,"",0,0,343,{"$f":"IF(AND(R347>=#REF!,Q347>0),P347/Q347,\"\")","v":{"$error":"#REF!"}},{"$f":"IF(AND(Y347=\"\",Z347=\"\"),0,COUNT(V$6:$V347))","v":{"$error":"#REF!"}},{"$error":"#REF!"},{"$f":"IF(AND(R347>=#REF!,Q347>0),1,\"\")","v":{"$error":"#REF!"}},{"$f":"COUNT(V$5:V347)","v":0},0,{"$f":"IF(X347<#REF!,S347+6,\"\")","v":{"$error":"#REF!"}},{"$error":"#REF!"},{"$error":"#REF!"},{"$f":"VLOOKUP(149,count,2,FALSE)","v":{"$error":"#N/A"}},{"$error":"#N/A"},{"$error":"#N/A"},{"$error":"#N/A"},{"$error":"#N/A"},null,{"$error":"#N/A"},{"$error":"#N/A"},{"$error":"#N/A"},{"$error":"#N/A"}]
[null,"",null,null,{"$error":"#N/A"},null,null,null,"","",null,8,10,6,"",0,0,344,{"$f":"IF(AND(R348>=#REF!,Q348>0),P348/Q348,\"\")","v":{"$error":"#REF!"}},{"$f":"IF(AND(Y348=\"\",Z348=\"\"),0,COUNT(V$6:$V348))","v":{"$error":"#REF!"}},{"$error":"#REF!"},{"$f":"IF(AND(R348>=#REF!,Q348>0),1,\"\")","v":{"$error":"#REF!"}},{"$f":"COUNT(V$5:V348)","v":0},0,{"$f":"IF(X348<#REF!,S348+6,\"\")","v":{"$error":"#REF!"}},{"$error":"#REF!"},{"$error":"#REF!"},{"$error":"#N/A"},{"$error":"#N/A"},{"$error":"#N/A"},{"$error":"#N/A"},{"$error":"#N/A"},null,{"$error":"#N/A"},{"$error":"#N/A"},{"$error":"#N/A"},{"$error":"#N/A"}]
[null,"",null,null,{"$error":"#N/A"},null,null,null,"","",null,8,10,6,"",0,0,345,{"$f":"IF(AND(R349>=#REF!,Q349>0),P349/Q349,\"\")","v":{"$error":"#REF!"}},{"$f":"IF(AND(Y349=\"\",Z349=\"\"),0,COUNT(V$6:$V349))","v":{"$error":"#REF!"}},{"$error":"#REF!"},{"$f":"IF(AND(R349>=#REF!,Q349>0),1,\"\")","v":{"$error":"#REF!"}},{"$f":"COUNT(V$5:V349)","v":0},0,{"$f":"IF(X349<#REF!,S349+6,\"\")","v":{"$error":"#REF!"}},{"$error":"#REF!"},{"$error":"#REF!"},{"$error":"#N/A"},{"$error":"#N/A"},{"$error":"#N/A"},{"$error":"#N/A"},{"$error":"#N/A"},null,{"$error":"#N/A"},{"$error":"#N/A"},{"$error":"#N/A"},{"$error":"#N/A"}]
[null,"",null,null,{"$error":"#N/A"},null,null,null,"","",null,8,10,6,"",0,0,346,{"$f":"IF(AND(R350>=#REF!,Q350>0),P350/Q350,\"\")","v":{"$error":"#REF!"}},{"$f":"IF(AND(Y350=\"\",Z350=\"\"),0,COUNT(V$6:$V350))","v":{"$error":"#REF!"}},{"$error":"#REF!"},{"$f":"IF(AND(R350>=#REF!,Q350>0),1,\"\")","v":{"$error":"#REF!"}},{"$f":"COUNT(V$5:V350)","v":0},0,{"$f":"IF(X350<#REF!,S350+6,\"\")","v":{"$error":"#REF!"}},{"$error":"#REF!"},{"$error":"#REF!"},{"$error":"#N/A"},{"$error":"#N/A"},{"$error":"#N/A"},{"$error":"#N/A"},{"$error":"#N/A"},null,{"$error":"#N/A"},{"$error":"#N/A"},{"$error":"#N/A"},{"$error":"#N/A"}]
[null,"",null,null,{"$error":"#N/A"},null,null,null,"","",null,8,10,6,"",0,0,347,{"$f":"IF(AND(R351>=#REF!,Q351>0),P351/Q351,\"\")","v":{"$error":"#REF!"}},{"$f":"IF(AND(Y351=\"\",Z351=\"\"),0,COUNT(V$6:$V351))","v":{"$error":"#REF!"}},{"$error":"#REF!"},{"$f":"IF(AND(R351>=#REF!,Q351>0),1,\"\")","v":{"$error":"#REF!"}},{"$f":"COUNT(V$5:V351)","v":0},0,{"$f":"IF(X351<#REF!,S351+6,\"\")","v":{"$error":"#REF!"}},{"$error":"#REF!"},{"$error":"#REF!"},{"$error":"#N/A"},{"$error":"#N/A"},{"$error":"#N/A"},{"$error":"#N/A"},{"$error":"#N/A"},null,{"$error":"#N/A"},{"$error":"#N/A"},{"$error":"#N/A"},{"$error":"#N/A"}]
[null,"",null,null,{"$error":"#N/A"},null,null,null,"","",null,8,10,6,"",0,0,348,{"$f":"IF(AND(R352>=#REF!,Q352>0),P352/Q352,\"\")","v":{"$error":"#REF!"}},{"$f":"IF(AND(Y352=\"\",Z352=\"\"),0,COUNT(V$6:$V352))","v":{"$error":"#REF!"}},{"$error":"#REF!"},{"$f":"IF(AND(R352>=#REF!,Q352>0),1,\"\")","v":{"$error":"#REF!"}},{"$f":"COUNT(V$5:V352)","v":0},0,{"$f":"IF(X352<#REF!,S352+6,\"\")","v":{"$error":"#REF!"}},{"$error":"#REF!"},{"$error":"#REF!"},{"$error":"#N/A"},{"$error":"#N/A"},{"$error":"#N/A"},{"$error":"#N/A"},{"$error":"#N/A"},null,{"$error":"#N/A"},{"$error":"#N/A"},{"$error":"#N/A"},{"$error":"#N/A"}]
[null,"",null,null,{"$error":"#N/A"},null,null,null,"","",null,8,10,6,"",0,0,349,{"$f":"IF(AND(R353>=#REF!,Q353>0),P353/Q353,\"\")","v":{"$error":"#REF!"}},{"$f":"IF(AND(Y353=\"\",Z353=\"\"),0,COUNT(V$6:$V353))","v":{"$error":"#REF!"}},{"$error":"#REF!"},{"$f":"IF(AND(R353>=#REF!,Q353>0),1,\"\")","v":{"$error":"#REF!"}},{"$f":"COUNT(V$5:V353)","v":0},0,{"$f":"IF(X353<#REF!,S353+6,\"\")","v":{"$error":"#REF!"}},{"$error":"#REF!"},{"$error":"#REF!"},{"$error":"#N/A"},{"$error":"#N/A"},{"$error":"#N/A"},{"$error":"#N/A"},{"$error":"#N/A"},null,{"$error":"#N/A"},{"$error":"#N/A"},{"$error":"#N/A"},{"$error":"#N/A"}]
[null,"",null,null,{"$error":"#N/A"},null,null,null,"","",null,8,10,6,"",0,0,350,{"$f":"IF(AND(R354>=#REF!,Q354>0),P354/Q354,\"\")","v":{"$error":"#REF!"}},{"$f":"IF(AND(Y354=\"\",Z354=\"\"),0,COUNT(V$6:$V354))","v":{"$error":"#REF!"}},{"$error":"#REF!"},{"$f":"IF(AND(R354>=#REF!,Q354>0),1,\"\")","v":{"$error":"#REF!"}},{"$f":"COUNT(V$5:V354)","v":0},0,{"$f":"IF(X354<#REF!,S354+6,\"\")","v":{"$error":"#REF!"}},{"$error":"#REF!"},{"$error":"#REF!"},{"$error":"#N/A"},{"$error":"#N/A"},{"$error":"#N/A"},{"$error":"#N/A"},{"$error":"#N/A"},null,{"$error":"#N/A"},{"$error":"#N/A"},{"$error":"#N/A"},{"$error":"#N/A"}]
[null,"",null,null,{"$error":"#N/A"},null,null,null,"","",null,8,10,6,"",0,0,351,{"$f":"IF(AND(R355>=#REF!,Q355>0),P355/Q355,\"\")","v":{"$error":"#REF!"}},{"$f":"IF(AND(Y355=\"\",Z355=\"\"),0,COUNT(V$6:$V355))","v":{"$error":"#REF!"}},{"$error":"#REF!"},{"$f":"IF(AND(R355>=#REF!,Q355>0),1,\"\")","v":{"$error":"#REF!"}},{"$f":"COUNT(V$5:V355)","v":0},0,{"$f":"IF(X355<#REF!,S355+6,\"\")","v":{"$error":"#REF!"}},{"$error":"#REF!"},{"$error":"#REF!"},{"$error":"#N/A"},{"$error":"#N/A"},{"$error":"#N/A"},{"$error":"#N/A"},{"$error":"#N/A"},null,{"$error":"#N/A"},{"$error":"#N/A"},{"$error":"#N/A"},{"$error":"#N/A"}]
[null,"",null,null,{"$error":"#N/A"},null,null,null,"","",null,8,10,6,"",0,0,352,{"$f":"IF(AND(R356>=#REF!,Q356>0),P356/Q356,\"\")","v":{"$error":"#REF!"}},{"$f":"IF(AND(Y356=\"\",Z356=\"\"),0,COUNT(V$6:$V356))","v":{"$error":"#REF!"}},{"$error":"#REF!"},{"$f":"IF(AND(R356>=#REF!,Q356>0),1,\"\")","v":{"$error":"#REF!"}},{"$f":"COUNT(V$5:V356)","v":0},0,{"$f":"IF(X356<#REF!,S356+6,\"\")","v":{"$error":"#REF!"}},{"$error":"#REF!"},{"$error":"#REF!"},{"$error":"#N/A"},{"$error":"#N/A"},{"$error":"#N/A"},{"$error":"#N/A"},{"$error":"#N/A"},null,{"$error":"#N/A"},{"$error":"#N/A"},{"$error":"#N/A"},{"$error":"#N/A"}]
[null,"",null,null,{"$error":"#N/A"},null,null,null,"","",null,8,10,6,"",0,0,353,{"$f":"IF(AND(R357>=#REF!,Q357>0),P357/Q357,\"\")","v":{"$error":"#REF!"}},{"$f":"IF(AND(Y357=\"\",Z357=\"\"),0,COUNT(V$6:$V357))","v":{"$error":"#REF!"}},{"$error":"#REF!"},{"$f":"IF(AND(R357>=#REF!,Q357>0),1,\"\")","v":{"$error":"#REF!"}},{"$f":"COUNT(V$5:V357)","v":0},0,{"$f":"IF(X357<#REF!,S357+6,\"\")","v":{"$error":"#REF!"}},{"$error":"#REF!"},{"$error":"#REF!"},{"$error":"#N/A"},{"$error":"#N/A"},{"$error":"#N/A"},{"$error":"#N/A"},{"$error":"#N/A"},null,{"$error":"#N/A"},{"$error":"#N/A"},{"$error":"#N/A"},{"$error":"#N/A"}]
[null,"",null,null,{"$error":"#N/A"},null,null,null,"","",null,8,10,6,"",0,0,354,{"$f":"IF(AND(R358>=#REF!,Q358>0),P358/Q358,\"\")","v":{"$error":"#REF!"}},{"$f":"IF(AND(Y358=\"\",Z358=\"\"),0,COUNT(V$6:$V358))","v":{"$error":"#REF!"}},{"$error":"#REF!"},{"$f":"IF(AND(R358>=#REF!,Q358>0),1,\"\")","v":{"$error":"#REF!"}},{"$f":"COUNT(V$5:V358)","v":0},0,{"$f":"IF(X358<#REF!,S358+6,\"\")","v":{"$error":"#REF!"}},{"$error":"#REF!"},{"$error":"#REF!"},{"$error":"#N/A"},{"$error":"#N/A"},{"$error":"#N/A"},{"$error":"#N/A"},{"$error":"#N/A"},null,{"$error":"#N/A"},{"$error":"#N/A"},{"$error":"#N/A"},{"$error":"#N/A"}]
[null,"",null,null,{"$error":"#N/A"},null,null,null,"","",null,8,10,6,"",0,0,355,{"$f":"IF(AND(R359>=#REF!,Q359>0),P359/Q359,\"\")","v":{"$error":"#REF!"}},{"$f":"IF(AND(Y359=\"\",Z359=\"\"),0,COUNT(V$6:$V359))","v":{"$error":"#REF!"}},{"$error":"#REF!"},{"$f":"IF(AND(R359>=#REF!,Q359>0),1,\"\")","v":{"$error":"#REF!"}},{"$f":"COUNT(V$5:V359)","v":0},0,{"$f":"IF(X359<#REF!,S359+6,\"\")","v":{"$error":"#REF!"}},{"$error":"#REF!"},{"$error":"#REF!"},{"$error":"#N/A"},{"$error":"#N/A"},{"$error":"#N/A"},{"$error":"#N/A"},{"$error":"#N/A"},null,{"$error":"#N/A"},{"$error":"#N/A"},{"$error":"#N/A"},{"$error":"#N/A"}]
[null,"",null,null,{"$error":"#N/A"},null,null,null,"","",null,8,10,6,"",0,0,356,{"$f":"IF(AND(R360>=#REF!,Q360>0),P360/Q360,\"\")","v":{"$error":"#REF!"}},{"$f":"IF(AND(Y360=\"\",Z360=\"\"),0,COUNT(V$6:$V360))","v":{"$error":"#REF!"}},{"$error":"#REF!"},{"$f":"IF(AND(R360>=#REF!,Q360>0),1,\"\")","v":{"$error":"#REF!"}},{"$f":"COUNT(V$5:V360)","v":0},0,{"$f":"IF(X360<#REF!,S360+6,\"\")","v":{"$error":"#REF!"}},{"$error":"#REF!"},{"$error":"#REF!"},{"$error":"#N/A"},{"$error":"#N/A"},{"$error":"#N/A"},{"$error":"#N/A"},{"$error":"#N/A"},null,{"$error":"#N/A"},{"$error":"#N/A"},{"$error":"#N/A"},{"$error":"#N/A"}]
[null,"",null,null,{"$error":"#N/A"},null,null,null,"","",null,8,10,6,"",0,0,357,{"$f":"IF(AND(R361>=#REF!,Q361>0),P361/Q361,\"\")","v":{"$error":"#REF!"}},{"$f":"IF(AND(Y361=\"\",Z361=\"\"),0,COUNT(V$6:$V361))","v":{"$error":"#REF!"}},{"$error":"#REF!"},{"$f":"IF(AND(R361>=#REF!,Q361>0),1,\"\")","v":{"$error":"#REF!"}},{"$f":"COUNT(V$5:V361)","v":0},0,{"$f":"IF(X361<#REF!,S361+6,\"\")","v":{"$error":"#REF!"}},{"$error":"#REF!"},{"$error":"#REF!"},{"$error":"#N/A"},{"$error":"#N/A"},{"$error":"#N/A"},{"$error":"#N/A"},{"$error":"#N/A"},null,{"$error":"#N/A"},{"$error":"#N/A"},{"$error":"#N/A"},{"$error":"#N/A"}]
[null,"",null,null,{"$error":"#N/A"},null,null,null,"","",null,8,10,6,"",0,0,358,{"$f":"IF(AND(R362>=#REF!,Q362>0),P362/Q362,\"\")","v":{"$error":"#REF!"}},{"$f":"IF(AND(Y362=\"\",Z362=\"\"),0,COUNT(V$6:$V362))","v":{"$error":"#REF!"}},{"$error":"#REF!"},{"$f":"IF(AND(R362>=#REF!,Q362>0),1,\"\")","v":{"$error":"#REF!"}},{"$f":"COUNT(V$5:V362)","v":0},0,{"$f":"IF(X362<#REF!,S362+6,\"\")","v":{"$error":"#REF!"}},{"$error":"#REF!"},{"$error":"#REF!"},{"$error":"#N/A"},{"$error":"#N/A"},{"$error":"#N/A"},{"$error":"#N/A"},{"$error":"#N/A"},null,{"$error":"#N/A"},{"$error":"#N/A"},{"$error":"#N/A"},{"$error":"#N/A"}]
[null,"",null,null,{"$error":"#N/A"},null,null,null,"","",null,8,10,6,"",0,0,359,{"$f":"IF(AND(R363>=#REF!,Q363>0),P363/Q363,\"\")","v":{"$error":"#REF!"}},{"$f":"IF(AND(Y363=\"\",Z363=\"\"),0,COUNT(V$6:$V363))","v":{"$error":"#REF!"}},{"$error":"#REF!"},{"$f":"IF(AND(R363>=#REF!,Q363>0),1,\"\")","v":{"$error":"#REF!"}},{"$f":"COUNT(V$5:V363)","v":0},0,{"$f":"IF(X363<#REF!,S363+6,\"\")","v":{"$error":"#REF!"}},{"$error":"#REF!"},{"$error":"#REF!"},{"$error":"#N/A"},{"$error":"#N/A"},{"$error":"#N/A"},{"$error":"#N/A"},{"$error":"#N/A"},null,{"$error":"#N/A"},{"$error":"#N/A"},{"$error":"#N/A"},{"$error":"#N/A"}]
[null,"",null,null,{"$error":"#N/A"},null,null,null,"","",null,8,10,6,"",0,0,360,{"$f":"IF(AND(R364>=#REF!,Q364>0),P364/Q364,\"\")","v":{"$error":"#REF!"}},{"$f":"IF(AND(Y364=\"\",Z364=\"\"),0,COUNT(V$6:$V364))","v":{"$error":"#REF!"}},{"$error":"#REF!"},{"$f":"IF(AND(R364>=#REF!,Q364>0),1,\"\")","v":{"$error":"#REF!"}},{"$f":"COUNT(V$5:V364)","v":0},0,{"$f":"IF(X364<#REF!,S364+6,\"\")","v":{"$error":"#REF!"}},{"$error":"#REF!"},{"$error":"#REF!"},{"$error":"#N/A"},{"$error":"#N/A"},{"$error":"#N/A"},{"$error":"#N/A"},{"$error":"#N/A"},null,{"$error":"#N/A"},{"$error":"#N/A"},{"$error":"#N/A"},{"$error":"#N/A"}]
[null,"",null,null,{"$error":"#N/A"},null,null,null,"","",null,8,10,6,"",0,0,361,{"$f":"IF(AND(R365>=#REF!,Q365>0),P365/Q365,\"\")","v":{"$error":"#REF!"}},{"$f":"IF(AND(Y365=\"\",Z365=\"\"),0,COUNT(V$6:$V365))","v":{"$error":"#REF!"}},{"$error":"#REF!"},{"$f":"IF(AND(R365>=#REF!,Q365>0),1,\"\")","v":{"$error":"#REF!"}},{"$f":"COUNT(V$5:V365)","v":0},0,{"$f":"IF(X365<#REF!,S365+6,\"\")","v":{"$error":"#REF!"}},{"$error":"#REF!"},{"$error":"#REF!"},{"$error":"#N/A"},{"$error":"#N/A"},{"$error":"#N/A"},{"$error":"#N/A"},{"$error":"#N/A"},null,{"$error":"#N/A"},{"$error":"#N/A"},{"$error":"#N/A"},{"$error":"#N/A"}]
[null,{"$f":"IF(A366=\"\",\"\",B365+1)","v":""},null,null,{"$error":"#N/A"},null,null,null,{"$f":"IF(H366=\"\",\"\",(G366-H366))","v":""},"",null,8,10,6,{"$f":"I366","v":""},{"$f":"IF(AND(H366=\"\",A365=A366),P365,IF(AND(A365=A366,H366>1),O366+P365,IF(H366=\"\",0,IF(H366>0,O366))))","v":0},{"$f":"IF(AND(A366=A365,H366>1),Q365+1,IF(AND(H366=\"\",A366=A365),Q365,IF(AND(H366=\"\",P366=0),0,1)))","v":0},{"$f":"IF(A366=A365,R365+1,1)","v":362},{"$f":"IF(AND(R366>=#REF!,Q366>0),P366/Q366,\"\")","v":{"$error":"#REF!"}},{"$f":"IF(AND(Y366=\"\",Z366=\"\"),0,COUNT(V$6:$V366))","v":{"$error":"#REF!"}},{"$f":"IF(AND(Y366=\"\",Z366=\"\"),\"\",A366)","v":{"$error":"#REF!"}},{"$f":"IF(AND(R366>=#REF!,Q366>0),1,\"\")","v":{"$error":"#REF!"}},{"$f":"COUNT(V$5:V366)","v":0},{"$f":"IF(W365>=2,\"\",W365)","v":0},{"$f":"IF(X366<#REF!,S366+6,\"\")","v":{"$error":"#REF!"}},{"$f":"IF(S366=\"\",\"\",IF(AND(X366=\"\",S366>0),S366+6,\"\"))","v":{"$error":"#REF!"}},{"$f":"IF(Z366=\"\",\"\",ABS($AI$6-Z366))","v":{"$error":"#REF!"}},{"$error":"#N/A"},{"$error":"#N/A"},{"$error":"#N/A"},{"$f":"AVERAGE(AC365:AC366)","v":{"$error":"#N/A"}},{"$error":"#N/A"},null,{"$f":"AB365","v":{"$error":"#N/A"}},{"$error":"#N/A"},{"$error":"#N/A"},{"$error":"#N/A"}]
[null,"",null,null,{"$error":"#N/A"},null,null,null,"","",null,8,10,6,"",0,0,363,{"$f":"IF(AND(R367>=#REF!,Q367>0),P367/Q367,\"\")","v":{"$error":"#REF!"}},{"$f":"IF(AND(Y367=\"\",Z367=\"\"),0,COUNT(V$6:$V367))","v":{"$error":"#REF!"}},{"$error":"#REF!"},{"$f":"IF(AND(R367>=#REF!,Q367>0),1,\"\")","v":{"$error":"#REF!"}},{"$f":"COUNT(V$5:V367)","v":0},0,{"$f":"IF(X367<#REF!,S367+6,\"\")","v":{"$error":"#REF!"}},{"$error":"#REF!"},{"$error":"#REF!"},{"$error":"#N/A"},{"$error":"#N/A"},{"$error":"#N/A"},{"$error":"#N/A"},{"$error":"#N/A"},null,{"$error":"#N/A"},{"$error":"#N/A"},{"$error":"#N/A"},{"$error":"#N/A"}]
[null,"",null,null,{"$error":"#N/A"},null,null,null,"","",null,8,10,6,"",0,0,364,{"$f":"IF(AND(R368>=#REF!,Q368>0),P368/Q368,\"\")","v":{"$error":"#REF!"}},{"$f":"IF(AND(Y368=\"\",Z368=\"\"),0,COUNT(V$6:$V368))","v":{"$error":"#REF!"}},{"$error":"#REF!"},{"$f":"IF(AND(R368>=#REF!,Q368>0),1,\"\")","v":{"$error":"#REF!"}},{"$f":"COUNT(V$5:V368)","v":0},0,{"$f":"IF(X368<#REF!,S368+6,\"\")","v":{"$error":"#REF!"}},{"$error":"#REF!"},{"$error":"#REF!"},{"$error":"#N/A"},{"$error":"#N/A"},{"$error":"#N/A"},{"$error":"#N/A"},{"$error":"#N/A"},null,{"$error":"#N/A"},{"$error":"#N/A"},{"$error":"#N/A"},{"$error":"#N/A"}]
[null,"",null,null,{"$error":"#N/A"},null,null,null,"","",null,8,10,6,"",0,0,365,{"$f":"IF(AND(R369>=#REF!,Q369>0),P369/Q369,\"\")","v":{"$error":"#REF!"}},{"$f":"IF(AND(Y369=\"\",Z369=\"\"),0,COUNT(V$6:$V369))","v":{"$error":"#REF!"}},{"$error":"#REF!"},{"$f":"IF(AND(R369>=#REF!,Q369>0),1,\"\")","v":{"$error":"#REF!"}},{"$f":"COUNT(V$5:V369)","v":0},0,{"$f":"IF(X369<#REF!,S369+6,\"\")","v":{"$error":"#REF!"}},{"$error":"#REF!"},{"$error":"#REF!"},{"$error":"#N/A"},{"$error":"#N/A"},{"$error":"#N/A"},{"$error":"#N/A"},{"$error":"#N/A"},null,{"$error":"#N/A"},{"$error":"#N/A"},{"$error":"#N/A"},{"$error":"#N/A"}]
[null,"",null,null,{"$error":"#N/A"},null,null,null,"","",null,8,10,6,"",0,0,366,{"$f":"IF(AND(R370>=#REF!,Q370>0),P370/Q370,\"\")","v":{"$error":"#REF!"}},{"$f":"IF(AND(Y370=\"\",Z370=\"\"),0,COUNT(V$6:$V370))","v":{"$error":"#REF!"}},{"$error":"#REF!"},{"$f":"IF(AND(R370>=#REF!,Q370>0),1,\"\")","v":{"$error":"#REF!"}},{"$f":"COUNT(V$5:V370)","v":0},0,{"$f":"IF(X370<#REF!,S370+6,\"\")","v":{"$error":"#REF!"}},{"$error":"#REF!"},{"$error":"#REF!"},{"$error":"#N/A"},{"$error":"#N/A"},{"$error":"#N/A"},{"$error":"#N/A"},{"$error":"#N/A"},null,{"$error":"#N/A"},{"$error":"#N/A"},{"$error":"#N/A"},{"$error":"#N/A"}]
[null,"",null,null,{"$error":"#N/A"},null,null,null,"","",null,8,10,6,"",0,0,367,{"$f":"IF(AND(R371>=#REF!,Q371>0),P371/Q371,\"\")","v":{"$error":"#REF!"}},{"$f":"IF(AND(Y371=\"\",Z371=\"\"),0,COUNT(V$6:$V371))","v":{"$error":"#REF!"}},{"$error":"#REF!"},{"$f":"IF(AND(R371>=#REF!,Q371>0),1,\"\")","v":{"$error":"#REF!"}},{"$f":"COUNT(V$5:V371)","v":0},0,{"$f":"IF(X371<#REF!,S371+6,\"\")","v":{"$error":"#REF!"}},{"$error":"#REF!"},{"$error":"#REF!"},{"$error":"#N/A"},{"$error":"#N/A"},{"$error":"#N/A"},{"$error":"#N/A"},{"$error":"#N/A"},null,{"$error":"#N/A"},{"$error":"#N/A"},{"$error":"#N/A"},{"$error":"#N/A"}]
[null,"",null,null,{"$error":"#N/A"},null,null,null,"","",null,8,10,6,"",0,0,368,{"$f":"IF(AND(R372>=#REF!,Q372>0),P372/Q372,\"\")","v":{"$error":"#REF!"}},{"$f":"IF(AND(Y372=\"\",Z372=\"\"),0,COUNT(V$6:$V372))","v":{"$error":"#REF!"}},{"$error":"#REF!"},{"$f":"IF(AND(R372>=#REF!,Q372>0),1,\"\")","v":{"$error":"#REF!"}},{"$f":"COUNT(V$5:V372)","v":0},0,{"$f":"IF(X372<#REF!,S372+6,\"\")","v":{"$error":"#REF!"}},{"$error":"#REF!"},{"$error":"#REF!"},{"$error":"#N/A"},{"$error":"#N/A"},{"$error":"#N/A"},{"$error":"#N/A"},{"$error":"#N/A"},null,{"$error":"#N/A"},{"$error":"#N/A"},{"$error":"#N/A"},{"$error":"#N/A"}]
[null,"",null,null,{"$error":"#N/A"},null,null,null,"","",null,8,10,6,"",0,0,369,{"$f":"IF(AND(R373>=#REF!,Q373>0),P373/Q373,\"\")","v":{"$error":"#REF!"}},{"$f":"IF(AND(Y373=\"\",Z373=\"\"),0,COUNT(V$6:$V373))","v":{"$error":"#REF!"}},{"$error":"#REF!"},{"$f":"IF(AND(R373>=#REF!,Q373>0),1,\"\")","v":{"$error":"#REF!"}},{"$f":"COUNT(V$5:V373)","v":0},0,{"$f":"IF(X373<#REF!,S373+6,\"\")","v":{"$error":"#REF!"}},{"$error":"#REF!"},{"$error":"#REF!"},{"$error":"#N/A"},{"$error":"#N/A"},{"$error":"#N/A"},{"$error":"#N/A"},{"$error":"#N/A"},null,{"$error":"#N/A"},{"$error":"#N/A"},{"$error":"#N/A"},{"$error":"#N/A"}]
[null,"",null,null,{"$error":"#N/A"},null,null,null,"","",null,8,10,6,"",0,0,370,{"$f":"IF(AND(R374>=#REF!,Q374>0),P374/Q374,\"\")","v":{"$error":"#REF!"}},{"$f":"IF(AND(Y374=\"\",Z374=\"\"),0,COUNT(V$6:$V374))","v":{"$error":"#REF!"}},{"$error":"#REF!"},{"$f":"IF(AND(R374>=#REF!,Q374>0),1,\"\")","v":{"$error":"#REF!"}},{"$f":"COUNT(V$5:V374)","v":0},0,{"$f":"IF(X374<#REF!,S374+6,\"\")","v":{"$error":"#REF!"}},{"$error":"#REF!"},{"$error":"#REF!"},{"$error":"#N/A"},{"$error":"#N/A"},{"$error":"#N/A"},{"$error":"#N/A"},{"$error":"#N/A"},null,{"$error":"#N/A"},{"$error":"#N/A"},{"$error":"#N/A"},{"$error":"#N/A"}]
[null,"",null,null,{"$error":"#N/A"},null,null,null,"","",null,8,10,6,"",0,0,371,{"$f":"IF(AND(R375>=#REF!,Q375>0),P375/Q375,\"\")","v":{"$error":"#REF!"}},{"$f":"IF(AND(Y375=\"\",Z375=\"\"),0,COUNT(V$6:$V375))","v":{"$error":"#REF!"}},{"$error":"#REF!"},{"$f":"IF(AND(R375>=#REF!,Q375>0),1,\"\")","v":{"$error":"#REF!"}},{"$f":"COUNT(V$5:V375)","v":0},0,{"$f":"IF(X375<#REF!,S375+6,\"\")","v":{"$error":"#REF!"}},{"$error":"#REF!"},{"$error":"#REF!"},{"$error":"#N/A"},{"$error":"#N/A"},{"$error":"#N/A"},{"$error":"#N/A"},{"$error":"#N/A"},null,{"$error":"#N/A"},{"$error":"#N/A"},{"$error":"#N/A"},{"$error":"#N/A"}]
[null,"",null,null,{"$error":"#N/A"},null,null,null,"","",null,8,10,6,"",0,0,372,{"$f":"IF(AND(R376>=#REF!,Q376>0),P376/Q376,\"\")","v":{"$error":"#REF!"}},{"$f":"IF(AND(Y376=\"\",Z376=\"\"),0,COUNT(V$6:$V376))","v":{"$error":"#REF!"}},{"$error":"#REF!"},{"$f":"IF(AND(R376>=#REF!,Q376>0),1,\"\")","v":{"$error":"#REF!"}},{"$f":"COUNT(V$5:V376)","v":0},0,{"$f":"IF(X376<#REF!,S376+6,\"\")","v":{"$error":"#REF!"}},{"$error":"#REF!"},{"$error":"#REF!"},{"$error":"#N/A"},{"$error":"#N/A"},{"$error":"#N/A"},{"$error":"#N/A"},{"$error":"#N/A"},null,{"$error":"#N/A"},{"$error":"#N/A"},{"$error":"#N/A"},{"$error":"#N/A"}]
[null,"",null,null,{"$error":"#N/A"},null,null,null,"","",null,8,10,6,"",0,0,373,{"$f":"IF(AND(R377>=#REF!,Q377>0),P377/Q377,\"\")","v":{"$error":"#REF!"}},{"$f":"IF(AND(Y377=\"\",Z377=\"\"),0,COUNT(V$6:$V377))","v":{"$error":"#REF!"}},{"$error":"#REF!"},{"$f":"IF(AND(R377>=#REF!,Q377>0),1,\"\")","v":{"$error":"#REF!"}},{"$f":"COUNT(V$5:V377)","v":0},0,{"$f":"IF(X377<#REF!,S377+6,\"\")","v":{"$error":"#REF!"}},{"$error":"#REF!"},{"$error":"#REF!"},{"$error":"#N/A"},{"$error":"#N/A"},{"$error":"#N/A"},{"$error":"#N/A"},{"$error":"#N/A"},null,{"$error":"#N/A"},{"$error":"#N/A"},{"$error":"#N/A"},{"$error":"#N/A"}]
[null,"",null,null,{"$error":"#N/A"},null,null,null,"","",null,8,10,6,"",0,0,374,{"$f":"IF(AND(R378>=#REF!,Q378>0),P378/Q378,\"\")","v":{"$error":"#REF!"}},{"$f":"IF(AND(Y378=\"\",Z378=\"\"),0,COUNT(V$6:$V378))","v":{"$error":"#REF!"}},{"$error":"#REF!"},{"$f":"IF(AND(R378>=#REF!,Q378>0),1,\"\")","v":{"$error":"#REF!"}},{"$f":"COUNT(V$5:V378)","v":0},0,{"$f":"IF(X378<#REF!,S378+6,\"\")","v":{"$error":"#REF!"}},{"$error":"#REF!"},{"$error":"#REF!"},{"$error":"#N/A"},{"$error":"#N/A"},{"$error":"#N/A"},{"$error":"#N/A"},{"$error":"#N/A"},null,{"$error":"#N/A"},{"$error":"#N/A"},{"$error":"#N/A"},{"$error":"#N/A"}]
[null,"",null,null,{"$error":"#N/A"},null,null,null,"","",null,8,10,6,"",0,0,375,{"$f":"IF(AND(R379>=#REF!,Q379>0),P379/Q379,\"\")","v":{"$error":"#REF!"}},{"$f":"IF(AND(Y379=\"\",Z379=\"\"),0,COUNT(V$6:$V379))","v":{"$error":"#REF!"}},{"$error":"#REF!"},{"$f":"IF(AND(R379>=#REF!,Q379>0),1,\"\")","v":{"$error":"#REF!"}},{"$f":"COUNT(V$5:V379)","v":0},0,{"$f":"IF(X379<#REF!,S379+6,\"\")","v":{"$error":"#REF!"}},{"$error":"#REF!"},{"$error":"#REF!"},{"$error":"#N/A"},{"$error":"#N/A"},{"$error":"#N/A"},{"$error":"#N/A"},{"$error":"#N/A"},null,{"$error":"#N/A"},{"$error":"#N/A"},{"$error":"#N/A"},{"$error":"#N/A"}]
[null,"",null,null,{"$error":"#N/A"},null,null,null,"","",null,8,10,6,"",0,0,376,{"$f":"IF(AND(R380>=#REF!,Q380>0),P380/Q380,\"\")","v":{"$error":"#REF!"}},{"$f":"IF(AND(Y380=\"\",Z380=\"\"),0,COUNT(V$6:$V380))","v":{"$error":"#REF!"}},{"$error":"#REF!"},{"$f":"IF(AND(R380>=#REF!,Q380>0),1,\"\")","v":{"$error":"#REF!"}},{"$f":"COUNT(V$5:V380)","v":0},0,{"$f":"IF(X380<#REF!,S380+6,\"\")","v":{"$error":"#REF!"}},{"$error":"#REF!"},{"$error":"#REF!"},{"$error":"#N/A"},{"$error":"#N/A"},{"$error":"#N/A"},{"$error":"#N/A"},{"$error":"#N/A"},null,{"$error":"#N/A"},{"$error":"#N/A"},{"$error":"#N/A"},{"$error":"#N/A"}]
[null,"",null,null,{"$error":"#N/A"},null,null,null,"","",null,8,10,6,"",0,0,377,{"$f":"IF(AND(R381>=#REF!,Q381>0),P381/Q381,\"\")","v":{"$error":"#REF!"}},{"$f":"IF(AND(Y381=\"\",Z381=\"\"),0,COUNT(V$6:$V381))","v":{"$error":"#REF!"}},{"$error":"#REF!"},{"$f":"IF(AND(R381>=#REF!,Q381>0),1,\"\")","v":{"$error":"#REF!"}},{"$f":"COUNT(V$5:V381)","v":0},0,{"$f":"IF(X381<#REF!,S381+6,\"\")","v":{"$error":"#REF!"}},{"$error":"#REF!"},{"$error":"#REF!"},{"$error":"#N/A"},{"$error":"#N/A"},{"$error":"#N/A"},{"$error":"#N/A"},{"$error":"#N/A"},null,{"$error":"#N/A"},{"$error":"#N/A"},{"$error":"#N/A"},{"$error":"#N/A"}]
[null,"",null,null,{"$error":"#N/A"},null,null,null,"","",null,8,10,6,"",0,0,378,{"$f":"IF(AND(R382>=#REF!,Q382>0),P382/Q382,\"\")","v":{"$error":"#REF!"}},{"$f":"IF(AND(Y382=\"\",Z382=\"\"),0,COUNT(V$6:$V382))","v":{"$error":"#REF!"}},{"$error":"#REF!"},{"$f":"IF(AND(R382>=#REF!,Q382>0),1,\"\")","v":{"$error":"#REF!"}},{"$f":"COUNT(V$5:V382)","v":0},0,{"$f":"IF(X382<#REF!,S382+6,\"\")","v":{"$error":"#REF!"}},{"$error":"#REF!"},{"$error":"#REF!"},{"$error":"#N/A"},{"$error":"#N/A"},{"$error":"#N/A"},{"$error":"#N/A"},{"$error":"#N/A"},null,{"$error":"#N/A"},{"$error":"#N/A"},{"$error":"#N/A"},{"$error":"#N/A"}]
[null,"",null,null,{"$error":"#N/A"},null,null,null,"","",null,8,10,6,"",0,0,379,{"$f":"IF(AND(R383>=#REF!,Q383>0),P383/Q383,\"\")","v":{"$error":"#REF!"}},{"$f":"IF(AND(Y383=\"\",Z383=\"\"),0,COUNT(V$6:$V383))","v":{"$error":"#REF!"}},{"$error":"#REF!"},{"$f":"IF(AND(R383>=#REF!,Q383>0),1,\"\")","v":{"$error":"#REF!"}},{"$f":"COUNT(V$5:V383)","v":0},0,{"$f":"IF(X383<#REF!,S383+6,\"\")","v":{"$error":"#REF!"}},{"$error":"#REF!"},{"$error":"#REF!"},{"$error":"#N/A"},{"$error":"#N/A"},{"$error":"#N/A"},{"$error":"#N/A"},{"$error":"#N/A"},null,{"$error":"#N/A"},{"$error":"#N/A"},{"$error":"#N/A"},{"$error":"#N/A"}]
[null,"",null,null,{"$error":"#N/A"},null,null,null,"","",null,8,10,6,"",0,0,380,{"$f":"IF(AND(R384>=#REF!,Q384>0),P384/Q384,\"\")","v":{"$error":"#REF!"}},{"$f":"IF(AND(Y384=\"\",Z384=\"\"),0,COUNT(V$6:$V384))","v":{"$error":"#REF!"}},{"$error":"#REF!"},{"$f":"IF(AND(R384>=#REF!,Q384>0),1,\"\")","v":{"$error":"#REF!"}},{"$f":"COUNT(V$5:V384)","v":0},0,{"$f":"IF(X384<#REF!,S384+6,\"\")","v":{"$error":"#REF!"}},{"$error":"#REF!"},{"$error":"#REF!"},{"$error":"#N/A"},{"$error":"#N/A"},{"$error":"#N/A"},{"$error":"#N/A"},{"$error":"#N/A"},null,{"$error":"#N/A"},{"$error":"#N/A"},{"$error":"#N/A"},{"$error":"#N/A"}]
[null,"",null,null,{"$error":"#N/A"},null,null,null,"","",null,8,10,6,"",0,0,381,{"$f":"IF(AND(R385>=#REF!,Q385>0),P385/Q385,\"\")","v":{"$error":"#REF!"}},{"$f":"IF(AND(Y385=\"\",Z385=\"\"),0,COUNT(V$6:$V385))","v":{"$error":"#REF!"}},{"$error":"#REF!"},{"$f":"IF(AND(R385>=#REF!,Q385>0),1,\"\")","v":{"$error":"#REF!"}},{"$f":"COUNT(V$5:V385)","v":0},0,{"$f":"IF(X385<#REF!,S385+6,\"\")","v":{"$error":"#REF!"}},{"$error":"#REF!"},{"$error":"#REF!"},{"$error":"#N/A"},{"$error":"#N/A"},{"$error":"#N/A"},{"$error":"#N/A"},{"$error":"#N/A"},null,{"$error":"#N/A"},{"$error":"#N/A"},{"$error":"#N/A"},{"$error":"#N/A"}]
[null,"",null,null,{"$error":"#N/A"},null,null,null,"","",null,8,10,6,"",0,0,382,{"$f":"IF(AND(R386>=#REF!,Q386>0),P386/Q386,\"\")","v":{"$error":"#REF!"}},{"$f":"IF(AND(Y386=\"\",Z386=\"\"),0,COUNT(V$6:$V386))","v":{"$error":"#REF!"}},{"$error":"#REF!"},{"$f":"IF(AND(R386>=#REF!,Q386>0),1,\"\")","v":{"$error":"#REF!"}},{"$f":"COUNT(V$5:V386)","v":0},0,{"$f":"IF(X386<#REF!,S386+6,\"\")","v":{"$error":"#REF!"}},{"$error":"#REF!"},{"$error":"#REF!"},{"$error":"#N/A"},{"$error":"#N/A"},{"$error":"#N/A"},{"$error":"#N/A"},{"$error":"#N/A"},null,{"$error":"#N/A"},{"$error":"#N/A"},{"$error":"#N/A"},{"$error":"#N/A"}]
[null,"",null,null,{"$error":"#N/A"},null,null,null,"","",null,8,10,6,"",0,0,383,{"$f":"IF(AND(R387>=#REF!,Q387>0),P387/Q387,\"\")","v":{"$error":"#REF!"}},{"$f":"IF(AND(Y387=\"\",Z387=\"\"),0,COUNT(V$6:$V387))","v":{"$error":"#REF!"}},{"$error":"#REF!"},{"$f":"IF(AND(R387>=#REF!,Q387>0),1,\"\")","v":{"$error":"#REF!"}},{"$f":"COUNT(V$5:V387)","v":0},0,{"$f":"IF(X387<#REF!,S387+6,\"\")","v":{"$error":"#REF!"}},{"$error":"#REF!"},{"$error":"#REF!"},{"$error":"#N/A"},{"$error":"#N/A"},{"$error":"#N/A"},{"$error":"#N/A"},{"$error":"#N/A"},null,{"$error":"#N/A"},{"$error":"#N/A"},{"$error":"#N/A"},{"$error":"#N/A"}]
[null,"",null,null,{"$error":"#N/A"},null,null,null,"","",null,8,10,6,"",0,0,384,{"$f":"IF(AND(R388>=#REF!,Q388>0),P388/Q388,\"\")","v":{"$error":"#REF!"}},{"$f":"IF(AND(Y388=\"\",Z388=\"\"),0,COUNT(V$6:$V388))","v":{"$error":"#REF!"}},{"$error":"#REF!"},{"$f":"IF(AND(R388>=#REF!,Q388>0),1,\"\")","v":{"$error":"#REF!"}},{"$f":"COUNT(V$5:V388)","v":0},0,{"$f":"IF(X388<#REF!,S388+6,\"\")","v":{"$error":"#REF!"}},{"$error":"#REF!"},{"$error":"#REF!"},{"$error":"#N/A"},{"$error":"#N/A"},{"$error":"#N/A"},{"$error":"#N/A"},{"$error":"#N/A"},null,{"$error":"#N/A"},{"$error":"#N/A"},{"$error":"#N/A"},{"$error":"#N/A"}]
[null,"",null,null,{"$error":"#N/A"},null,null,null,"",{"$f":"IF(A389=\"\",\"\",IF(AND(G389>1,I389>0),MROUND((6.5+I389),0.5),IF(AND(A389<>\"\",I389>0.01),J388)))","v":""},null,8,10,6,"",0,0,385,{"$f":"IF(AND(R389>=#REF!,Q389>0),P389/Q389,\"\")","v":{"$error":"#REF!"}},{"$f":"IF(AND(Y389=\"\",Z389=\"\"),0,COUNT(V$6:$V389))","v":{"$error":"#REF!"}},{"$error":"#REF!"},{"$f":"IF(AND(R389>=#REF!,Q389>0),1,\"\")","v":{"$error":"#REF!"}},{"$f":"COUNT(V$5:V389)","v":0},0,{"$f":"IF(X389<#REF!,S389+6,\"\")","v":{"$error":"#REF!"}},{"$error":"#REF!"},{"$error":"#REF!"},{"$error":"#N/A"},{"$error":"#N/A"},{"$error":"#N/A"},{"$error":"#N/A"},{"$error":"#N/A"},null,{"$error":"#N/A"},{"$error":"#N/A"},{"$error":"#N/A"},{"$error":"#N/A"}]
[null,"",null,null,{"$f":"IF((D390>0),(D390/$E$4),#N/A)","v":{"$error":"#N/A"}},null,null,null,"","",null,8,{"$f":"IF(L390=\"\",\"\",L390+2)","v":10},{"$f":"IF(L390=\"\",\"\",L390-2)","v":6},"",0,0,386,{"$f":"IF(AND(R390>=#REF!,Q390>0),P390/Q390,\"\")","v":{"$error":"#REF!"}},{"$f":"IF(AND(Y390=\"\",Z390=\"\"),0,COUNT(V$6:$V390))","v":{"$error":"#REF!"}},{"$error":"#REF!"},{"$f":"IF(AND(R390>=#REF!,Q390>0),1,\"\")","v":{"$error":"#REF!"}},{"$f":"COUNT(V$5:V390)","v":0},0,{"$f":"IF(X390<#REF!,S390+6,\"\")","v":{"$error":"#REF!"}},{"$error":"#REF!"},{"$error":"#REF!"},{"$error":"#N/A"},{"$error":"#N/A"},{"$error":"#N/A"},{"$error":"#N/A"},{"$error":"#N/A"},null,{"$error":"#N/A"},{"$error":"#N/A"},{"$error":"#N/A"},{"$error":"#N/A"}]
[null,"",null,null,{"$error":"#N/A"},null,null,null,"","",null,8,10,6,"",0,0,387,{"$f":"IF(AND(R391>=#REF!,Q391>0),P391/Q391,\"\")","v":{"$error":"#REF!"}},{"$f":"IF(AND(Y391=\"\",Z391=\"\"),0,COUNT(V$6:$V391))","v":{"$error":"#REF!"}},{"$error":"#REF!"},{"$f":"IF(AND(R391>=#REF!,Q391>0),1,\"\")","v":{"$error":"#REF!"}},{"$f":"COUNT(V$5:V391)","v":0},0,{"$f":"IF(X391<#REF!,S391+6,\"\")","v":{"$error":"#REF!"}},{"$error":"#REF!"},{"$error":"#REF!"},{"$error":"#N/A"},{"$error":"#N/A"},{"$f":"AC391-6","v":{"$error":"#N/A"}},{"$error":"#N/A"},{"$error":"#N/A"},null,{"$error":"#N/A"},{"$error":"#N/A"},{"$f":"IF($AI391=\"\",#N/A,($AI391+1.5))","v":{"$error":"#N/A"}},{"$f":"IF($AI391=\"\",#N/A,($AI391-1))","v":{"$error":"#N/A"}}]
[null,"",null,null,{"$error":"#N/A"},null,null,null,"","",null,8,10,6,"",0,0,388,{"$f":"IF(AND(R392>=#REF!,Q392>0),P392/Q392,\"\")","v":{"$error":"#REF!"}},{"$f":"IF(AND(Y392=\"\",Z392=\"\"),0,COUNT(V$6:$V392))","v":{"$error":"#REF!"}},{"$error":"#REF!"},{"$f":"IF(AND(R392>=#REF!,Q392>0),1,\"\")","v":{"$error":"#REF!"}},{"$f":"COUNT(V$5:V392)","v":0},0,{"$f":"IF(X392<#REF!,S392+6,\"\")","v":{"$error":"#REF!"}},{"$error":"#REF!"},{"$error":"#REF!"},{"$error":"#N/A"},{"$error":"#N/A"},{"$error":"#N/A"},{"$error":"#N/A"},{"$error":"#N/A"},null,{"$error":"#N/A"},{"$error":"#N/A"},{"$error":"#N/A"},{"$error":"#N/A"}]
[null,"",null,null,{"$error":"#N/A"},null,null,null,"","",null,8,10,6,"",0,0,389,{"$f":"IF(AND(R393>=#REF!,Q393>0),P393/Q393,\"\")","v":{"$error":"#REF!"}},{"$f":"IF(AND(Y393=\"\",Z393=\"\"),0,COUNT(V$6:$V393))","v":{"$error":"#REF!"}},{"$error":"#REF!"},{"$f":"IF(AND(R393>=#REF!,Q393>0),1,\"\")","v":{"$error":"#REF!"}},{"$f":"COUNT(V$5:V393)","v":0},0,{"$f":"IF(X393<#REF!,S393+6,\"\")","v":{"$error":"#REF!"}},{"$error":"#REF!"},{"$error":"#REF!"},{"$error":"#N/A"},{"$f":"VLOOKUP(AB393,time,6,FALSE)","v":{"$error":"#N/A"}},{"$error":"#N/A"},{"$error":"#N/A"},{"$f":"AE393-6","v":{"$error":"#N/A"}},null,{"$error":"#N/A"},{"$error":"#N/A"},{"$error":"#N/A"},{"$error":"#N/A"}]
[null,"",null,null,{"$error":"#N/A"},null,null,null,"","",null,8,10,6,"",0,0,390,{"$f":"IF(AND(R394>=#REF!,Q394>0),P394/Q394,\"\")","v":{"$error":"#REF!"}},{"$f":"IF(AND(Y394=\"\",Z394=\"\"),0,COUNT(V$6:$V394))","v":{"$error":"#REF!"}},{"$error":"#REF!"},{"$f":"IF(AND(R394>=#REF!,Q394>0),1,\"\")","v":{"$error":"#REF!"}},{"$f":"COUNT(V$5:V394)","v":0},0,{"$f":"IF(X394<#REF!,S394+6,\"\")","v":{"$error":"#REF!"}},{"$error":"#REF!"},{"$error":"#REF!"},{"$error":"#N/A"},{"$error":"#N/A"},{"$error":"#N/A"},{"$error":"#N/A"},{"$error":"#N/A"},null,{"$error":"#N/A"},{"$error":"#N/A"},{"$error":"#N/A"},{"$error":"#N/A"}]
[null,"",null,null,{"$error":"#N/A"},null,null,null,"","",null,8,10,6,"",0,0,391,{"$f":"IF(AND(R395>=#REF!,Q395>0),P395/Q395,\"\")","v":{"$error":"#REF!"}},{"$f":"IF(AND(Y395=\"\",Z395=\"\"),0,COUNT(V$6:$V395))","v":{"$error":"#REF!"}},{"$error":"#REF!"},{"$f":"IF(AND(R395>=#REF!,Q395>0),1,\"\")","v":{"$error":"#REF!"}},{"$f":"COUNT(V$5:V395)","v":0},0,{"$f":"IF(X395<#REF!,S395+6,\"\")","v":{"$error":"#REF!"}},{"$error":"#REF!"},{"$error":"#REF!"},{"$error":"#N/A"},{"$error":"#N/A"},{"$error":"#N/A"},{"$error":"#N/A"},{"$error":"#N/A"},null,{"$error":"#N/A"},{"$f":"IF(ABS(AE393-AE392)>0.5,MROUND(AE393,0.5),AI394)","v":{"$error":"#N/A"}},{"$error":"#N/A"},{"$error":"#N/A"}]
[null,"",null,null,{"$error":"#N/A"},null,null,null,"","",null,8,10,6,"",0,0,392,{"$f":"IF(AND(R396>=#REF!,Q396>0),P396/Q396,\"\")","v":{"$error":"#REF!"}},{"$f":"IF(AND(Y396=\"\",Z396=\"\"),0,COUNT(V$6:$V396))","v":{"$error":"#REF!"}},{"$error":"#REF!"},{"$f":"IF(AND(R396>=#REF!,Q396>0),1,\"\")","v":{"$error":"#REF!"}},{"$f":"COUNT(V$5:V396)","v":0},0,{"$f":"IF(X396<#REF!,S396+6,\"\")","v":{"$error":"#REF!"}},{"$error":"#REF!"},{"$error":"#REF!"},{"$error":"#N/A"},{"$error":"#N/A"},{"$error":"#N/A"},{"$error":"#N/A"},{"$error":"#N/A"},null,{"$error":"#N/A"},{"$error":"#N/A"},{"$error":"#N/A"},{"$error":"#N/A"}]
[null,"",null,null,{"$error":"#N/A"},null,null,null,"","",null,8,10,6,"",0,0,393,{"$f":"IF(AND(R397>=#REF!,Q397>0),P397/Q397,\"\")","v":{"$error":"#REF!"}},{"$f":"IF(AND(Y397=\"\",Z397=\"\"),0,COUNT(V$6:$V397))","v":{"$error":"#REF!"}},{"$error":"#REF!"},{"$f":"IF(AND(R397>=#REF!,Q397>0),1,\"\")","v":{"$error":"#REF!"}},{"$f":"COUNT(V$5:V397)","v":0},0,{"$f":"IF(X397<#REF!,S397+6,\"\")","v":{"$error":"#REF!"}},{"$error":"#REF!"},{"$error":"#REF!"},{"$error":"#N/A"},{"$error":"#N/A"},{"$error":"#N/A"},{"$error":"#N/A"},{"$error":"#N/A"},null,{"$error":"#N/A"},{"$error":"#N/A"},{"$error":"#N/A"},{"$error":"#N/A"}]
[null,"",null,null,{"$error":"#N/A"}," "," ",null,"","",null,8,10,6,"",0,0,394,{"$f":"IF(AND(R398>=#REF!,Q398>0),P398/Q398,\"\")","v":{"$error":"#REF!"}},{"$f":"IF(AND(Y398=\"\",Z398=\"\"),0,COUNT(V$6:$V398))","v":{"$error":"#REF!"}},{"$error":"#REF!"},{"$f":"IF(AND(R398>=#REF!,Q398>0),1,\"\")","v":{"$error":"#REF!"}},{"$f":"COUNT(V$5:V398)","v":0},0,{"$f":"IF(X398<#REF!,S398+6,\"\")","v":{"$error":"#REF!"}},{"$error":"#REF!"},{"$error":"#REF!"},{"$error":"#N/A"},{"$error":"#N/A"},{"$error":"#N/A"},{"$error":"#N/A"},{"$error":"#N/A"},null,{"$error":"#N/A"},{"$error":"#N/A"},{"$error":"#N/A"},{"$error":"#N/A"}]
[null,"",null,null,{"$error":"#N/A"}," "," ",null,"","",null,8,10,6,"",0,0,395,{"$f":"IF(AND(R399>=#REF!,Q399>0),P399/Q399,\"\")","v":{"$error":"#REF!"}},{"$f":"IF(AND(Y399=\"\",Z399=\"\"),0,COUNT(V$6:$V399))","v":{"$error":"#REF!"}},{"$error":"#REF!"},{"$f":"IF(AND(R399>=#REF!,Q399>0),1,\"\")","v":{"$error":"#REF!"}},{"$f":"COUNT(V$5:V399)","v":0},0,{"$f":"IF(X399<#REF!,S399+6,\"\")","v":{"$error":"#REF!"}},{"$error":"#REF!"},{"$error":"#REF!"},{"$error":"#N/A"},{"$error":"#N/A"},{"$error":"#N/A"},{"$error":"#N/A"},{"$error":"#N/A"},null,{"$error":"#N/A"},{"$error":"#N/A"},{"$error":"#N/A"},{"$error":"#N/A"}]
[null,"",null,null,{"$error":"#N/A"}," "," ",null,"","",null,8,10,6,"",0,0,396,{"$f":"IF(AND(R400>=#REF!,Q400>0),P400/Q400,\"\")","v":{"$error":"#REF!"}},{"$f":"IF(AND(Y400=\"\",Z400=\"\"),0,COUNT(V$6:$V400))","v":{"$error":"#REF!"}},{"$error":"#REF!"},{"$f":"IF(AND(R400>=#REF!,Q400>0),1,\"\")","v":{"$error":"#REF!"}},{"$f":"COUNT(V$5:V400)","v":0},0,{"$f":"IF(X400<#REF!,S400+6,\"\")","v":{"$error":"#REF!"}},{"$error":"#REF!"},{"$error":"#REF!"},{"$error":"#N/A"},{"$error":"#N/A"},{"$error":"#N/A"},{"$error":"#N/A"},{"$error":"#N/A"},null,{"$error":"#N/A"},{"$error":"#N/A"},{"$error":"#N/A"},{"$error":"#N/A"}]
[null,"",null,null,{"$error":"#N/A"}," "," ",null,"","",null,8,10,6,"",0,0,397,{"$f":"IF(AND(R401>=#REF!,Q401>0),P401/Q401,\"\")","v":{"$error":"#REF!"}},{"$f":"IF(AND(Y401=\"\",Z401=\"\"),0,COUNT(V$6:$V401))","v":{"$error":"#REF!"}},{"$error":"#REF!"},{"$f":"IF(AND(R401>=#REF!,Q401>0),1,\"\")","v":{"$error":"#REF!"}},{"$f":"COUNT(V$5:V401)","v":0},0,{"$f":"IF(X401<#REF!,S401+6,\"\")","v":{"$error":"#REF!"}},{"$error":"#REF!"},{"$error":"#REF!"},{"$error":"#N/A"},{"$error":"#N/A"},{"$error":"#N/A"},{"$error":"#N/A"},{"$error":"#N/A"},null,{"$error":"#N/A"},{"$error":"#N/A"},{"$error":"#N/A"},{"$error":"#N/A"}]

{"sheet":"Moisture and WC","index":25,"n_rows":80,"n_cols":8,"rows_kept":80,"cut":false,"hidden":false,"merged":[[0,2,0,4]]}
[null,null,"Moisture Content",null,null,null,null,1]
[null,null,"Coarse","Intermediate","Fine","Average",null,2]
["Date","Test #","(%)","(%)","(%)","w/c",null,3]
[null,{"$f":"IF(A4=\"\",\"\",H1)","v":""},null,null,null,null,null,4]
[null,"",null,null,null,null,null,5]
[null,"",null,null,null,null,null,6]
[null,"",null,null,null,null,null,7]
[null,"",null,null,null,null,null,8]
[null,"",null,null,null,null,null,9]
[null,"",null,null,null,null,null,10]
[null,"",null,null,null,null,null,11]
[null,"",null,null,null,null,null,12]
[null,"",null,null,null,null,null,13]
[null,"",null,null,null,null,null,14]
[null,"",null,null,null,null,null,15]
[null,"",null,null,null,null,null,16]
[null,"",null,null,null,null,null,17]
[null,"",null,null,null,null,null,18]
[null,"",null,null,null,null,null,19]
[null,"",null,null,null,null,null,20]
[null,"",null,null,null,null,null,21]
[null,"",null,null,null,null,null,22]
[null,"",null,null,null,null,null,23]
[null,"",null,null,null,null,null,24]
[null,"",null,null,null,null,null,25]
[null,"",null,null,null,null,null,26]
[null,"",null,null,null,null,null,27]
[null,"",null,null,null,null,null,28]
[null,"",null,null,null,null,null,29]
[null,"",null,null,null,null,null,30]
[null,"",null,null,null,null,null,31]
[null,"",null,null,null,null,null,32]
[null,"",null,null,null,null,null,33]
[null,"",null,null,null,null,null,34]
[null,"",null,null,null,null,null,35]
[null,{"$f":"IF(A36=\"\",\"\",H33)","v":""},null,null,null,null,null,36]
[null,{"$f":"IF(A37=\"\",\"\",#REF!)","v":""},null,null,null,null,null,37]
[null,"",null,null,null,null,null,38]
[null,"",null,null,null,null,null,39]
[null,"",null,null,null,null,null,40]
[null,"",null,null,null,null,null,41]
[null,"",null,null,null,null,null,42]
[null,"",null,null,null,null,null,43]
[null,"",null,null,null,null,null,44]
[null,"",null,null,null,null,null,45]
[null,"",null,null,null,null,null,46]
[null,"",null,null,null,null,null,47]
[null,"",null,null,null,null,null,48]
[null,"",null,null,null,null,null,49]
[null,"",null,null,null,null,null,50]
[null,"",null,null,null,null,null,51]
[null,"",null,null,null,null,null,52]
[null,"",null,null,null,null,null,53]
[null,"",null,null,null,null,null,54]
[null,"",null,null,null,null,null,55]
[null,"",null,null,null,null,null,56]
[null,"",null,null,null,null,null,57]
[null,"",null,null,null,null,null,58]
[null,"",null,null,null,null,null,59]
[null,"",null,null,null,null,null,60]
[null,"",null,null,null,null,null,61]
[null,"",null,null,null,null,null,62]
[null,"",null,null,null,null,null,63]
[null,"",null,null,null,null,null,64]
[null,"",null,null,null,null,null,65]
[null,"",null,null,null,null,null,66]
[null,"",null,null,null,null,null,67]
[null,{"$f":"IF(A68=\"\",\"\",H65)","v":""},null,null,null,null,null,68]
[null,"",null,null,null,null,null,69]
[null,"",null,null,null,null,null,70]
[null,"",null,null,null,null,null,71]
[null,"",null,null,null,null,null,72]
[null,"",null,null,null,null,null,73]
[null,"",null,null,null,null,null,74]
[null,"",null,null,null,null,null,75]
[null,""]
[null,""]
[null,""]
[]
[null,null,null,null,"Average WC",{"$f":"AVERAGE(F4:F78)","v":{"$error":"#DIV/0!"}}]

{"sheet":"Vibrators","index":28,"n_rows":3,"n_cols":26,"rows_kept":3,"cut":false,"hidden":false,"merged":[]}
[null,"Spacing"]
[null,"Vibrator #",1,2,3,4,5,6,7,8,9,10,11,12,13,14,15,16,17,18,19,20,21,22,23,24]
["Time","Sta",null,"Vibrations per Minute (VPM's)"]

{"sheet":"Mix Changes","index":29,"n_rows":2,"n_cols":4,"rows_kept":2,"cut":false,"hidden":false,"merged":[]}
[]
["Date","Time","Mix Change","Comments"]